BEGIN:VCALENDAR
VERSION:2.0
PRODID:-//Ringwood Knox Parish - ECPv6.8.1//NONSGML v1.0//EN
CALSCALE:GREGORIAN
METHOD:PUBLISH
X-ORIGINAL-URL:https://ringwoodknoxparish.org.au
X-WR-CALDESC:Events for Ringwood Knox Parish
REFRESH-INTERVAL;VALUE=DURATION:PT1H
X-Robots-Tag:noindex
X-PUBLISHED-TTL:PT1H
BEGIN:VTIMEZONE
TZID:Australia/Melbourne
BEGIN:STANDARD
TZOFFSETFROM:+1100
TZOFFSETTO:+1000
TZNAME:AEST
DTSTART:20280401T160000
END:STANDARD
BEGIN:DAYLIGHT
TZOFFSETFROM:+1000
TZOFFSETTO:+1100
TZNAME:AEDT
DTSTART:20280930T160000
END:DAYLIGHT
END:VTIMEZONE
BEGIN:VEVENT
DTSTART;TZID=Australia/Melbourne:20280703T100000
DTEND;TZID=Australia/Melbourne:20280703T110000
DTSTAMP:20260425T202237
CREATED:20250604T082704Z
LAST-MODIFIED:20250604T082821Z
UID:10014447-1846231200-1846234800@ringwoodknoxparish.org.au
SUMMARY:Bible Study with Pastor Peter
DESCRIPTION:Every Monday morning in The Good Shepherd Retirement Village Residents Center from 10am to 11am. Pastor will look at the coming Sunday’s Bible readings or any topic you would like discussed. \nJoin him for morning tea and discussion of whatever is on people’s hearts and minds. \nAll welcome. \nFor more information please contact the church office.
URL:https://ringwoodknoxparish.org.au/event/mornings-with-pastor-peter-2/2028-07-03/
CATEGORIES:Bible Study,Fellowship,Good Shephered Retirement Village,Morning Tea,Parish,Ringwood
END:VEVENT
BEGIN:VEVENT
DTSTART;TZID=Australia/Melbourne:20280706T100000
DTEND;TZID=Australia/Melbourne:20280706T110000
DTSTAMP:20260425T202237
CREATED:20250604T082333Z
LAST-MODIFIED:20250604T082434Z
UID:10014183-1846490400-1846494000@ringwoodknoxparish.org.au
SUMMARY:Prayer Group @ Knox
DESCRIPTION:Prayer Group offer the opportunity to pray with others for concerns within our congregations\, as well as issues in the wider community & the needs of the world. At Our Saviour’s Knox\, we meet at 10am this time includes morning tea.
URL:https://ringwoodknoxparish.org.au/event/prayer-group-knox-2023-06-08-2-2/2028-07-06/
LOCATION:Our Saviour’s Lutheran Church\, 646 Burwood Hwy\, Knoxfield VIC 3180\, Australia
CATEGORIES:Fellowship,Knox,Parish,Prayer Group
GEO:-37.8764384;145.2568519
END:VEVENT
BEGIN:VEVENT
DTSTART;TZID=Australia/Melbourne:20280710T100000
DTEND;TZID=Australia/Melbourne:20280710T110000
DTSTAMP:20260425T202237
CREATED:20250604T082704Z
LAST-MODIFIED:20250604T082821Z
UID:10014448-1846836000-1846839600@ringwoodknoxparish.org.au
SUMMARY:Bible Study with Pastor Peter
DESCRIPTION:Every Monday morning in The Good Shepherd Retirement Village Residents Center from 10am to 11am. Pastor will look at the coming Sunday’s Bible readings or any topic you would like discussed. \nJoin him for morning tea and discussion of whatever is on people’s hearts and minds. \nAll welcome. \nFor more information please contact the church office.
URL:https://ringwoodknoxparish.org.au/event/mornings-with-pastor-peter-2/2028-07-10/
CATEGORIES:Bible Study,Fellowship,Good Shephered Retirement Village,Morning Tea,Parish,Ringwood
END:VEVENT
BEGIN:VEVENT
DTSTART;TZID=Australia/Melbourne:20280713T100000
DTEND;TZID=Australia/Melbourne:20280713T110000
DTSTAMP:20260425T202237
CREATED:20250604T082333Z
LAST-MODIFIED:20250604T082434Z
UID:10014184-1847095200-1847098800@ringwoodknoxparish.org.au
SUMMARY:Prayer Group @ Knox
DESCRIPTION:Prayer Group offer the opportunity to pray with others for concerns within our congregations\, as well as issues in the wider community & the needs of the world. At Our Saviour’s Knox\, we meet at 10am this time includes morning tea.
URL:https://ringwoodknoxparish.org.au/event/prayer-group-knox-2023-06-08-2-2/2028-07-13/
LOCATION:Our Saviour’s Lutheran Church\, 646 Burwood Hwy\, Knoxfield VIC 3180\, Australia
CATEGORIES:Fellowship,Knox,Parish,Prayer Group
GEO:-37.8764384;145.2568519
END:VEVENT
BEGIN:VEVENT
DTSTART;TZID=Australia/Melbourne:20280717T100000
DTEND;TZID=Australia/Melbourne:20280717T110000
DTSTAMP:20260425T202237
CREATED:20250604T082704Z
LAST-MODIFIED:20250604T082821Z
UID:10014449-1847440800-1847444400@ringwoodknoxparish.org.au
SUMMARY:Bible Study with Pastor Peter
DESCRIPTION:Every Monday morning in The Good Shepherd Retirement Village Residents Center from 10am to 11am. Pastor will look at the coming Sunday’s Bible readings or any topic you would like discussed. \nJoin him for morning tea and discussion of whatever is on people’s hearts and minds. \nAll welcome. \nFor more information please contact the church office.
URL:https://ringwoodknoxparish.org.au/event/mornings-with-pastor-peter-2/2028-07-17/
CATEGORIES:Bible Study,Fellowship,Good Shephered Retirement Village,Morning Tea,Parish,Ringwood
END:VEVENT
BEGIN:VEVENT
DTSTART;TZID=Australia/Melbourne:20280720T100000
DTEND;TZID=Australia/Melbourne:20280720T110000
DTSTAMP:20260425T202237
CREATED:20250604T082333Z
LAST-MODIFIED:20250604T082434Z
UID:10014185-1847700000-1847703600@ringwoodknoxparish.org.au
SUMMARY:Prayer Group @ Knox
DESCRIPTION:Prayer Group offer the opportunity to pray with others for concerns within our congregations\, as well as issues in the wider community & the needs of the world. At Our Saviour’s Knox\, we meet at 10am this time includes morning tea.
URL:https://ringwoodknoxparish.org.au/event/prayer-group-knox-2023-06-08-2-2/2028-07-20/
LOCATION:Our Saviour’s Lutheran Church\, 646 Burwood Hwy\, Knoxfield VIC 3180\, Australia
CATEGORIES:Fellowship,Knox,Parish,Prayer Group
GEO:-37.8764384;145.2568519
END:VEVENT
BEGIN:VEVENT
DTSTART;TZID=Australia/Melbourne:20280724T100000
DTEND;TZID=Australia/Melbourne:20280724T110000
DTSTAMP:20260425T202237
CREATED:20250604T082704Z
LAST-MODIFIED:20250604T082821Z
UID:10014450-1848045600-1848049200@ringwoodknoxparish.org.au
SUMMARY:Bible Study with Pastor Peter
DESCRIPTION:Every Monday morning in The Good Shepherd Retirement Village Residents Center from 10am to 11am. Pastor will look at the coming Sunday’s Bible readings or any topic you would like discussed. \nJoin him for morning tea and discussion of whatever is on people’s hearts and minds. \nAll welcome. \nFor more information please contact the church office.
URL:https://ringwoodknoxparish.org.au/event/mornings-with-pastor-peter-2/2028-07-24/
CATEGORIES:Bible Study,Fellowship,Good Shephered Retirement Village,Morning Tea,Parish,Ringwood
END:VEVENT
BEGIN:VEVENT
DTSTART;TZID=Australia/Melbourne:20280727T100000
DTEND;TZID=Australia/Melbourne:20280727T110000
DTSTAMP:20260425T202237
CREATED:20250604T082333Z
LAST-MODIFIED:20250604T082434Z
UID:10014186-1848304800-1848308400@ringwoodknoxparish.org.au
SUMMARY:Prayer Group @ Knox
DESCRIPTION:Prayer Group offer the opportunity to pray with others for concerns within our congregations\, as well as issues in the wider community & the needs of the world. At Our Saviour’s Knox\, we meet at 10am this time includes morning tea.
URL:https://ringwoodknoxparish.org.au/event/prayer-group-knox-2023-06-08-2-2/2028-07-27/
LOCATION:Our Saviour’s Lutheran Church\, 646 Burwood Hwy\, Knoxfield VIC 3180\, Australia
CATEGORIES:Fellowship,Knox,Parish,Prayer Group
GEO:-37.8764384;145.2568519
END:VEVENT
BEGIN:VEVENT
DTSTART;TZID=Australia/Melbourne:20280731T100000
DTEND;TZID=Australia/Melbourne:20280731T110000
DTSTAMP:20260425T202237
CREATED:20250604T082704Z
LAST-MODIFIED:20250604T082821Z
UID:10014451-1848650400-1848654000@ringwoodknoxparish.org.au
SUMMARY:Bible Study with Pastor Peter
DESCRIPTION:Every Monday morning in The Good Shepherd Retirement Village Residents Center from 10am to 11am. Pastor will look at the coming Sunday’s Bible readings or any topic you would like discussed. \nJoin him for morning tea and discussion of whatever is on people’s hearts and minds. \nAll welcome. \nFor more information please contact the church office.
URL:https://ringwoodknoxparish.org.au/event/mornings-with-pastor-peter-2/2028-07-31/
CATEGORIES:Bible Study,Fellowship,Good Shephered Retirement Village,Morning Tea,Parish,Ringwood
END:VEVENT
BEGIN:VEVENT
DTSTART;TZID=Australia/Melbourne:20280803T100000
DTEND;TZID=Australia/Melbourne:20280803T110000
DTSTAMP:20260425T202237
CREATED:20250604T082333Z
LAST-MODIFIED:20250604T082434Z
UID:10014187-1848909600-1848913200@ringwoodknoxparish.org.au
SUMMARY:Prayer Group @ Knox
DESCRIPTION:Prayer Group offer the opportunity to pray with others for concerns within our congregations\, as well as issues in the wider community & the needs of the world. At Our Saviour’s Knox\, we meet at 10am this time includes morning tea.
URL:https://ringwoodknoxparish.org.au/event/prayer-group-knox-2023-06-08-2-2/2028-08-03/
LOCATION:Our Saviour’s Lutheran Church\, 646 Burwood Hwy\, Knoxfield VIC 3180\, Australia
CATEGORIES:Fellowship,Knox,Parish,Prayer Group
GEO:-37.8764384;145.2568519
END:VEVENT
BEGIN:VEVENT
DTSTART;TZID=Australia/Melbourne:20280807T100000
DTEND;TZID=Australia/Melbourne:20280807T110000
DTSTAMP:20260425T202238
CREATED:20250604T082704Z
LAST-MODIFIED:20250604T082821Z
UID:10014452-1849255200-1849258800@ringwoodknoxparish.org.au
SUMMARY:Bible Study with Pastor Peter
DESCRIPTION:Every Monday morning in The Good Shepherd Retirement Village Residents Center from 10am to 11am. Pastor will look at the coming Sunday’s Bible readings or any topic you would like discussed. \nJoin him for morning tea and discussion of whatever is on people’s hearts and minds. \nAll welcome. \nFor more information please contact the church office.
URL:https://ringwoodknoxparish.org.au/event/mornings-with-pastor-peter-2/2028-08-07/
CATEGORIES:Bible Study,Fellowship,Good Shephered Retirement Village,Morning Tea,Parish,Ringwood
END:VEVENT
BEGIN:VEVENT
DTSTART;TZID=Australia/Melbourne:20280810T100000
DTEND;TZID=Australia/Melbourne:20280810T110000
DTSTAMP:20260425T202238
CREATED:20250604T082333Z
LAST-MODIFIED:20250604T082434Z
UID:10014188-1849514400-1849518000@ringwoodknoxparish.org.au
SUMMARY:Prayer Group @ Knox
DESCRIPTION:Prayer Group offer the opportunity to pray with others for concerns within our congregations\, as well as issues in the wider community & the needs of the world. At Our Saviour’s Knox\, we meet at 10am this time includes morning tea.
URL:https://ringwoodknoxparish.org.au/event/prayer-group-knox-2023-06-08-2-2/2028-08-10/
LOCATION:Our Saviour’s Lutheran Church\, 646 Burwood Hwy\, Knoxfield VIC 3180\, Australia
CATEGORIES:Fellowship,Knox,Parish,Prayer Group
GEO:-37.8764384;145.2568519
END:VEVENT
BEGIN:VEVENT
DTSTART;TZID=Australia/Melbourne:20280814T100000
DTEND;TZID=Australia/Melbourne:20280814T110000
DTSTAMP:20260425T202238
CREATED:20250604T082704Z
LAST-MODIFIED:20250604T082821Z
UID:10014453-1849860000-1849863600@ringwoodknoxparish.org.au
SUMMARY:Bible Study with Pastor Peter
DESCRIPTION:Every Monday morning in The Good Shepherd Retirement Village Residents Center from 10am to 11am. Pastor will look at the coming Sunday’s Bible readings or any topic you would like discussed. \nJoin him for morning tea and discussion of whatever is on people’s hearts and minds. \nAll welcome. \nFor more information please contact the church office.
URL:https://ringwoodknoxparish.org.au/event/mornings-with-pastor-peter-2/2028-08-14/
CATEGORIES:Bible Study,Fellowship,Good Shephered Retirement Village,Morning Tea,Parish,Ringwood
END:VEVENT
BEGIN:VEVENT
DTSTART;TZID=Australia/Melbourne:20280817T100000
DTEND;TZID=Australia/Melbourne:20280817T110000
DTSTAMP:20260425T202238
CREATED:20250604T082333Z
LAST-MODIFIED:20250604T082434Z
UID:10014189-1850119200-1850122800@ringwoodknoxparish.org.au
SUMMARY:Prayer Group @ Knox
DESCRIPTION:Prayer Group offer the opportunity to pray with others for concerns within our congregations\, as well as issues in the wider community & the needs of the world. At Our Saviour’s Knox\, we meet at 10am this time includes morning tea.
URL:https://ringwoodknoxparish.org.au/event/prayer-group-knox-2023-06-08-2-2/2028-08-17/
LOCATION:Our Saviour’s Lutheran Church\, 646 Burwood Hwy\, Knoxfield VIC 3180\, Australia
CATEGORIES:Fellowship,Knox,Parish,Prayer Group
GEO:-37.8764384;145.2568519
END:VEVENT
BEGIN:VEVENT
DTSTART;TZID=Australia/Melbourne:20280821T100000
DTEND;TZID=Australia/Melbourne:20280821T110000
DTSTAMP:20260425T202238
CREATED:20250604T082704Z
LAST-MODIFIED:20250604T082821Z
UID:10014454-1850464800-1850468400@ringwoodknoxparish.org.au
SUMMARY:Bible Study with Pastor Peter
DESCRIPTION:Every Monday morning in The Good Shepherd Retirement Village Residents Center from 10am to 11am. Pastor will look at the coming Sunday’s Bible readings or any topic you would like discussed. \nJoin him for morning tea and discussion of whatever is on people’s hearts and minds. \nAll welcome. \nFor more information please contact the church office.
URL:https://ringwoodknoxparish.org.au/event/mornings-with-pastor-peter-2/2028-08-21/
CATEGORIES:Bible Study,Fellowship,Good Shephered Retirement Village,Morning Tea,Parish,Ringwood
END:VEVENT
BEGIN:VEVENT
DTSTART;TZID=Australia/Melbourne:20280824T100000
DTEND;TZID=Australia/Melbourne:20280824T110000
DTSTAMP:20260425T202238
CREATED:20250604T082333Z
LAST-MODIFIED:20250604T082434Z
UID:10014190-1850724000-1850727600@ringwoodknoxparish.org.au
SUMMARY:Prayer Group @ Knox
DESCRIPTION:Prayer Group offer the opportunity to pray with others for concerns within our congregations\, as well as issues in the wider community & the needs of the world. At Our Saviour’s Knox\, we meet at 10am this time includes morning tea.
URL:https://ringwoodknoxparish.org.au/event/prayer-group-knox-2023-06-08-2-2/2028-08-24/
LOCATION:Our Saviour’s Lutheran Church\, 646 Burwood Hwy\, Knoxfield VIC 3180\, Australia
CATEGORIES:Fellowship,Knox,Parish,Prayer Group
GEO:-37.8764384;145.2568519
END:VEVENT
BEGIN:VEVENT
DTSTART;TZID=Australia/Melbourne:20280828T100000
DTEND;TZID=Australia/Melbourne:20280828T110000
DTSTAMP:20260425T202238
CREATED:20250604T082704Z
LAST-MODIFIED:20250604T082821Z
UID:10014455-1851069600-1851073200@ringwoodknoxparish.org.au
SUMMARY:Bible Study with Pastor Peter
DESCRIPTION:Every Monday morning in The Good Shepherd Retirement Village Residents Center from 10am to 11am. Pastor will look at the coming Sunday’s Bible readings or any topic you would like discussed. \nJoin him for morning tea and discussion of whatever is on people’s hearts and minds. \nAll welcome. \nFor more information please contact the church office.
URL:https://ringwoodknoxparish.org.au/event/mornings-with-pastor-peter-2/2028-08-28/
CATEGORIES:Bible Study,Fellowship,Good Shephered Retirement Village,Morning Tea,Parish,Ringwood
END:VEVENT
BEGIN:VEVENT
DTSTART;TZID=Australia/Melbourne:20280831T100000
DTEND;TZID=Australia/Melbourne:20280831T110000
DTSTAMP:20260425T202238
CREATED:20250604T082333Z
LAST-MODIFIED:20250604T082434Z
UID:10014191-1851328800-1851332400@ringwoodknoxparish.org.au
SUMMARY:Prayer Group @ Knox
DESCRIPTION:Prayer Group offer the opportunity to pray with others for concerns within our congregations\, as well as issues in the wider community & the needs of the world. At Our Saviour’s Knox\, we meet at 10am this time includes morning tea.
URL:https://ringwoodknoxparish.org.au/event/prayer-group-knox-2023-06-08-2-2/2028-08-31/
LOCATION:Our Saviour’s Lutheran Church\, 646 Burwood Hwy\, Knoxfield VIC 3180\, Australia
CATEGORIES:Fellowship,Knox,Parish,Prayer Group
GEO:-37.8764384;145.2568519
END:VEVENT
BEGIN:VEVENT
DTSTART;TZID=Australia/Melbourne:20280904T100000
DTEND;TZID=Australia/Melbourne:20280904T110000
DTSTAMP:20260425T202238
CREATED:20250604T082704Z
LAST-MODIFIED:20250604T082821Z
UID:10014456-1851674400-1851678000@ringwoodknoxparish.org.au
SUMMARY:Bible Study with Pastor Peter
DESCRIPTION:Every Monday morning in The Good Shepherd Retirement Village Residents Center from 10am to 11am. Pastor will look at the coming Sunday’s Bible readings or any topic you would like discussed. \nJoin him for morning tea and discussion of whatever is on people’s hearts and minds. \nAll welcome. \nFor more information please contact the church office.
URL:https://ringwoodknoxparish.org.au/event/mornings-with-pastor-peter-2/2028-09-04/
CATEGORIES:Bible Study,Fellowship,Good Shephered Retirement Village,Morning Tea,Parish,Ringwood
END:VEVENT
BEGIN:VEVENT
DTSTART;TZID=Australia/Melbourne:20280907T100000
DTEND;TZID=Australia/Melbourne:20280907T110000
DTSTAMP:20260425T202238
CREATED:20250604T082333Z
LAST-MODIFIED:20250604T082434Z
UID:10014192-1851933600-1851937200@ringwoodknoxparish.org.au
SUMMARY:Prayer Group @ Knox
DESCRIPTION:Prayer Group offer the opportunity to pray with others for concerns within our congregations\, as well as issues in the wider community & the needs of the world. At Our Saviour’s Knox\, we meet at 10am this time includes morning tea.
URL:https://ringwoodknoxparish.org.au/event/prayer-group-knox-2023-06-08-2-2/2028-09-07/
LOCATION:Our Saviour’s Lutheran Church\, 646 Burwood Hwy\, Knoxfield VIC 3180\, Australia
CATEGORIES:Fellowship,Knox,Parish,Prayer Group
GEO:-37.8764384;145.2568519
END:VEVENT
BEGIN:VEVENT
DTSTART;TZID=Australia/Melbourne:20280911T100000
DTEND;TZID=Australia/Melbourne:20280911T110000
DTSTAMP:20260425T202238
CREATED:20250604T082704Z
LAST-MODIFIED:20250604T082821Z
UID:10014457-1852279200-1852282800@ringwoodknoxparish.org.au
SUMMARY:Bible Study with Pastor Peter
DESCRIPTION:Every Monday morning in The Good Shepherd Retirement Village Residents Center from 10am to 11am. Pastor will look at the coming Sunday’s Bible readings or any topic you would like discussed. \nJoin him for morning tea and discussion of whatever is on people’s hearts and minds. \nAll welcome. \nFor more information please contact the church office.
URL:https://ringwoodknoxparish.org.au/event/mornings-with-pastor-peter-2/2028-09-11/
CATEGORIES:Bible Study,Fellowship,Good Shephered Retirement Village,Morning Tea,Parish,Ringwood
END:VEVENT
BEGIN:VEVENT
DTSTART;TZID=Australia/Melbourne:20280914T100000
DTEND;TZID=Australia/Melbourne:20280914T110000
DTSTAMP:20260425T202238
CREATED:20250604T082333Z
LAST-MODIFIED:20250604T082434Z
UID:10014193-1852538400-1852542000@ringwoodknoxparish.org.au
SUMMARY:Prayer Group @ Knox
DESCRIPTION:Prayer Group offer the opportunity to pray with others for concerns within our congregations\, as well as issues in the wider community & the needs of the world. At Our Saviour’s Knox\, we meet at 10am this time includes morning tea.
URL:https://ringwoodknoxparish.org.au/event/prayer-group-knox-2023-06-08-2-2/2028-09-14/
LOCATION:Our Saviour’s Lutheran Church\, 646 Burwood Hwy\, Knoxfield VIC 3180\, Australia
CATEGORIES:Fellowship,Knox,Parish,Prayer Group
GEO:-37.8764384;145.2568519
END:VEVENT
BEGIN:VEVENT
DTSTART;TZID=Australia/Melbourne:20280918T100000
DTEND;TZID=Australia/Melbourne:20280918T110000
DTSTAMP:20260425T202238
CREATED:20250604T082704Z
LAST-MODIFIED:20250604T082821Z
UID:10014458-1852884000-1852887600@ringwoodknoxparish.org.au
SUMMARY:Bible Study with Pastor Peter
DESCRIPTION:Every Monday morning in The Good Shepherd Retirement Village Residents Center from 10am to 11am. Pastor will look at the coming Sunday’s Bible readings or any topic you would like discussed. \nJoin him for morning tea and discussion of whatever is on people’s hearts and minds. \nAll welcome. \nFor more information please contact the church office.
URL:https://ringwoodknoxparish.org.au/event/mornings-with-pastor-peter-2/2028-09-18/
CATEGORIES:Bible Study,Fellowship,Good Shephered Retirement Village,Morning Tea,Parish,Ringwood
END:VEVENT
BEGIN:VEVENT
DTSTART;TZID=Australia/Melbourne:20280921T100000
DTEND;TZID=Australia/Melbourne:20280921T110000
DTSTAMP:20260425T202238
CREATED:20250604T082333Z
LAST-MODIFIED:20250604T082434Z
UID:10014194-1853143200-1853146800@ringwoodknoxparish.org.au
SUMMARY:Prayer Group @ Knox
DESCRIPTION:Prayer Group offer the opportunity to pray with others for concerns within our congregations\, as well as issues in the wider community & the needs of the world. At Our Saviour’s Knox\, we meet at 10am this time includes morning tea.
URL:https://ringwoodknoxparish.org.au/event/prayer-group-knox-2023-06-08-2-2/2028-09-21/
LOCATION:Our Saviour’s Lutheran Church\, 646 Burwood Hwy\, Knoxfield VIC 3180\, Australia
CATEGORIES:Fellowship,Knox,Parish,Prayer Group
GEO:-37.8764384;145.2568519
END:VEVENT
BEGIN:VEVENT
DTSTART;TZID=Australia/Melbourne:20280925T100000
DTEND;TZID=Australia/Melbourne:20280925T110000
DTSTAMP:20260425T202238
CREATED:20250604T082704Z
LAST-MODIFIED:20250604T082821Z
UID:10014459-1853488800-1853492400@ringwoodknoxparish.org.au
SUMMARY:Bible Study with Pastor Peter
DESCRIPTION:Every Monday morning in The Good Shepherd Retirement Village Residents Center from 10am to 11am. Pastor will look at the coming Sunday’s Bible readings or any topic you would like discussed. \nJoin him for morning tea and discussion of whatever is on people’s hearts and minds. \nAll welcome. \nFor more information please contact the church office.
URL:https://ringwoodknoxparish.org.au/event/mornings-with-pastor-peter-2/2028-09-25/
CATEGORIES:Bible Study,Fellowship,Good Shephered Retirement Village,Morning Tea,Parish,Ringwood
END:VEVENT
BEGIN:VEVENT
DTSTART;TZID=Australia/Melbourne:20280928T100000
DTEND;TZID=Australia/Melbourne:20280928T110000
DTSTAMP:20260425T202238
CREATED:20250604T082333Z
LAST-MODIFIED:20250604T082434Z
UID:10014195-1853748000-1853751600@ringwoodknoxparish.org.au
SUMMARY:Prayer Group @ Knox
DESCRIPTION:Prayer Group offer the opportunity to pray with others for concerns within our congregations\, as well as issues in the wider community & the needs of the world. At Our Saviour’s Knox\, we meet at 10am this time includes morning tea.
URL:https://ringwoodknoxparish.org.au/event/prayer-group-knox-2023-06-08-2-2/2028-09-28/
LOCATION:Our Saviour’s Lutheran Church\, 646 Burwood Hwy\, Knoxfield VIC 3180\, Australia
CATEGORIES:Fellowship,Knox,Parish,Prayer Group
GEO:-37.8764384;145.2568519
END:VEVENT
BEGIN:VEVENT
DTSTART;TZID=Australia/Melbourne:20281002T100000
DTEND;TZID=Australia/Melbourne:20281002T110000
DTSTAMP:20260425T202238
CREATED:20250604T082704Z
LAST-MODIFIED:20250604T082821Z
UID:10014460-1854093600-1854097200@ringwoodknoxparish.org.au
SUMMARY:Bible Study with Pastor Peter
DESCRIPTION:Every Monday morning in The Good Shepherd Retirement Village Residents Center from 10am to 11am. Pastor will look at the coming Sunday’s Bible readings or any topic you would like discussed. \nJoin him for morning tea and discussion of whatever is on people’s hearts and minds. \nAll welcome. \nFor more information please contact the church office.
URL:https://ringwoodknoxparish.org.au/event/mornings-with-pastor-peter-2/2028-10-02/
CATEGORIES:Bible Study,Fellowship,Good Shephered Retirement Village,Morning Tea,Parish,Ringwood
END:VEVENT
BEGIN:VEVENT
DTSTART;TZID=Australia/Melbourne:20281005T100000
DTEND;TZID=Australia/Melbourne:20281005T110000
DTSTAMP:20260425T202238
CREATED:20250604T082333Z
LAST-MODIFIED:20250604T082434Z
UID:10014196-1854352800-1854356400@ringwoodknoxparish.org.au
SUMMARY:Prayer Group @ Knox
DESCRIPTION:Prayer Group offer the opportunity to pray with others for concerns within our congregations\, as well as issues in the wider community & the needs of the world. At Our Saviour’s Knox\, we meet at 10am this time includes morning tea.
URL:https://ringwoodknoxparish.org.au/event/prayer-group-knox-2023-06-08-2-2/2028-10-05/
LOCATION:Our Saviour’s Lutheran Church\, 646 Burwood Hwy\, Knoxfield VIC 3180\, Australia
CATEGORIES:Fellowship,Knox,Parish,Prayer Group
GEO:-37.8764384;145.2568519
END:VEVENT
BEGIN:VEVENT
DTSTART;TZID=Australia/Melbourne:20281009T100000
DTEND;TZID=Australia/Melbourne:20281009T110000
DTSTAMP:20260425T202238
CREATED:20250604T082704Z
LAST-MODIFIED:20250604T082821Z
UID:10014461-1854698400-1854702000@ringwoodknoxparish.org.au
SUMMARY:Bible Study with Pastor Peter
DESCRIPTION:Every Monday morning in The Good Shepherd Retirement Village Residents Center from 10am to 11am. Pastor will look at the coming Sunday’s Bible readings or any topic you would like discussed. \nJoin him for morning tea and discussion of whatever is on people’s hearts and minds. \nAll welcome. \nFor more information please contact the church office.
URL:https://ringwoodknoxparish.org.au/event/mornings-with-pastor-peter-2/2028-10-09/
CATEGORIES:Bible Study,Fellowship,Good Shephered Retirement Village,Morning Tea,Parish,Ringwood
END:VEVENT
BEGIN:VEVENT
DTSTART;TZID=Australia/Melbourne:20281012T100000
DTEND;TZID=Australia/Melbourne:20281012T110000
DTSTAMP:20260425T202238
CREATED:20250604T082333Z
LAST-MODIFIED:20250604T082434Z
UID:10014197-1854957600-1854961200@ringwoodknoxparish.org.au
SUMMARY:Prayer Group @ Knox
DESCRIPTION:Prayer Group offer the opportunity to pray with others for concerns within our congregations\, as well as issues in the wider community & the needs of the world. At Our Saviour’s Knox\, we meet at 10am this time includes morning tea.
URL:https://ringwoodknoxparish.org.au/event/prayer-group-knox-2023-06-08-2-2/2028-10-12/
LOCATION:Our Saviour’s Lutheran Church\, 646 Burwood Hwy\, Knoxfield VIC 3180\, Australia
CATEGORIES:Fellowship,Knox,Parish,Prayer Group
GEO:-37.8764384;145.2568519
END:VEVENT
END:VCALENDAR