BEGIN:VCALENDAR
VERSION:2.0
PRODID:-//Ringwood Knox Parish - ECPv6.8.1//NONSGML v1.0//EN
CALSCALE:GREGORIAN
METHOD:PUBLISH
X-ORIGINAL-URL:https://ringwoodknoxparish.org.au
X-WR-CALDESC:Events for Ringwood Knox Parish
REFRESH-INTERVAL;VALUE=DURATION:PT1H
X-Robots-Tag:noindex
X-PUBLISHED-TTL:PT1H
BEGIN:VTIMEZONE
TZID:Australia/Melbourne
BEGIN:STANDARD
TZOFFSETFROM:+1100
TZOFFSETTO:+1000
TZNAME:AEST
DTSTART:20280401T160000
END:STANDARD
BEGIN:DAYLIGHT
TZOFFSETFROM:+1000
TZOFFSETTO:+1100
TZNAME:AEDT
DTSTART:20280930T160000
END:DAYLIGHT
END:VTIMEZONE
BEGIN:VEVENT
DTSTART;TZID=Australia/Melbourne:20280508T100000
DTEND;TZID=Australia/Melbourne:20280508T110000
DTSTAMP:20260425T202452
CREATED:20250604T082704Z
LAST-MODIFIED:20250604T082821Z
UID:10014439-1841392800-1841396400@ringwoodknoxparish.org.au
SUMMARY:Bible Study with Pastor Peter
DESCRIPTION:Every Monday morning in The Good Shepherd Retirement Village Residents Center from 10am to 11am. Pastor will look at the coming Sunday’s Bible readings or any topic you would like discussed. \nJoin him for morning tea and discussion of whatever is on people’s hearts and minds. \nAll welcome. \nFor more information please contact the church office.
URL:https://ringwoodknoxparish.org.au/event/mornings-with-pastor-peter-2/2028-05-08/
CATEGORIES:Bible Study,Fellowship,Good Shephered Retirement Village,Morning Tea,Parish,Ringwood
END:VEVENT
BEGIN:VEVENT
DTSTART;TZID=Australia/Melbourne:20280511T100000
DTEND;TZID=Australia/Melbourne:20280511T110000
DTSTAMP:20260425T202452
CREATED:20250604T082333Z
LAST-MODIFIED:20250604T082434Z
UID:10014175-1841652000-1841655600@ringwoodknoxparish.org.au
SUMMARY:Prayer Group @ Knox
DESCRIPTION:Prayer Group offer the opportunity to pray with others for concerns within our congregations\, as well as issues in the wider community & the needs of the world. At Our Saviour’s Knox\, we meet at 10am this time includes morning tea.
URL:https://ringwoodknoxparish.org.au/event/prayer-group-knox-2023-06-08-2-2/2028-05-11/
LOCATION:Our Saviour’s Lutheran Church\, 646 Burwood Hwy\, Knoxfield VIC 3180\, Australia
CATEGORIES:Fellowship,Knox,Parish,Prayer Group
GEO:-37.8764384;145.2568519
END:VEVENT
BEGIN:VEVENT
DTSTART;TZID=Australia/Melbourne:20280515T100000
DTEND;TZID=Australia/Melbourne:20280515T110000
DTSTAMP:20260425T202452
CREATED:20250604T082704Z
LAST-MODIFIED:20250604T082821Z
UID:10014440-1841997600-1842001200@ringwoodknoxparish.org.au
SUMMARY:Bible Study with Pastor Peter
DESCRIPTION:Every Monday morning in The Good Shepherd Retirement Village Residents Center from 10am to 11am. Pastor will look at the coming Sunday’s Bible readings or any topic you would like discussed. \nJoin him for morning tea and discussion of whatever is on people’s hearts and minds. \nAll welcome. \nFor more information please contact the church office.
URL:https://ringwoodknoxparish.org.au/event/mornings-with-pastor-peter-2/2028-05-15/
CATEGORIES:Bible Study,Fellowship,Good Shephered Retirement Village,Morning Tea,Parish,Ringwood
END:VEVENT
BEGIN:VEVENT
DTSTART;TZID=Australia/Melbourne:20280518T100000
DTEND;TZID=Australia/Melbourne:20280518T110000
DTSTAMP:20260425T202452
CREATED:20250604T082333Z
LAST-MODIFIED:20250604T082434Z
UID:10014176-1842256800-1842260400@ringwoodknoxparish.org.au
SUMMARY:Prayer Group @ Knox
DESCRIPTION:Prayer Group offer the opportunity to pray with others for concerns within our congregations\, as well as issues in the wider community & the needs of the world. At Our Saviour’s Knox\, we meet at 10am this time includes morning tea.
URL:https://ringwoodknoxparish.org.au/event/prayer-group-knox-2023-06-08-2-2/2028-05-18/
LOCATION:Our Saviour’s Lutheran Church\, 646 Burwood Hwy\, Knoxfield VIC 3180\, Australia
CATEGORIES:Fellowship,Knox,Parish,Prayer Group
GEO:-37.8764384;145.2568519
END:VEVENT
BEGIN:VEVENT
DTSTART;TZID=Australia/Melbourne:20280522T100000
DTEND;TZID=Australia/Melbourne:20280522T110000
DTSTAMP:20260425T202452
CREATED:20250604T082704Z
LAST-MODIFIED:20250604T082821Z
UID:10014441-1842602400-1842606000@ringwoodknoxparish.org.au
SUMMARY:Bible Study with Pastor Peter
DESCRIPTION:Every Monday morning in The Good Shepherd Retirement Village Residents Center from 10am to 11am. Pastor will look at the coming Sunday’s Bible readings or any topic you would like discussed. \nJoin him for morning tea and discussion of whatever is on people’s hearts and minds. \nAll welcome. \nFor more information please contact the church office.
URL:https://ringwoodknoxparish.org.au/event/mornings-with-pastor-peter-2/2028-05-22/
CATEGORIES:Bible Study,Fellowship,Good Shephered Retirement Village,Morning Tea,Parish,Ringwood
END:VEVENT
BEGIN:VEVENT
DTSTART;TZID=Australia/Melbourne:20280525T100000
DTEND;TZID=Australia/Melbourne:20280525T110000
DTSTAMP:20260425T202452
CREATED:20250604T082333Z
LAST-MODIFIED:20250604T082434Z
UID:10014177-1842861600-1842865200@ringwoodknoxparish.org.au
SUMMARY:Prayer Group @ Knox
DESCRIPTION:Prayer Group offer the opportunity to pray with others for concerns within our congregations\, as well as issues in the wider community & the needs of the world. At Our Saviour’s Knox\, we meet at 10am this time includes morning tea.
URL:https://ringwoodknoxparish.org.au/event/prayer-group-knox-2023-06-08-2-2/2028-05-25/
LOCATION:Our Saviour’s Lutheran Church\, 646 Burwood Hwy\, Knoxfield VIC 3180\, Australia
CATEGORIES:Fellowship,Knox,Parish,Prayer Group
GEO:-37.8764384;145.2568519
END:VEVENT
BEGIN:VEVENT
DTSTART;TZID=Australia/Melbourne:20280529T100000
DTEND;TZID=Australia/Melbourne:20280529T110000
DTSTAMP:20260425T202452
CREATED:20250604T082704Z
LAST-MODIFIED:20250604T082821Z
UID:10014442-1843207200-1843210800@ringwoodknoxparish.org.au
SUMMARY:Bible Study with Pastor Peter
DESCRIPTION:Every Monday morning in The Good Shepherd Retirement Village Residents Center from 10am to 11am. Pastor will look at the coming Sunday’s Bible readings or any topic you would like discussed. \nJoin him for morning tea and discussion of whatever is on people’s hearts and minds. \nAll welcome. \nFor more information please contact the church office.
URL:https://ringwoodknoxparish.org.au/event/mornings-with-pastor-peter-2/2028-05-29/
CATEGORIES:Bible Study,Fellowship,Good Shephered Retirement Village,Morning Tea,Parish,Ringwood
END:VEVENT
BEGIN:VEVENT
DTSTART;TZID=Australia/Melbourne:20280601T100000
DTEND;TZID=Australia/Melbourne:20280601T110000
DTSTAMP:20260425T202452
CREATED:20250604T082333Z
LAST-MODIFIED:20250604T082434Z
UID:10014178-1843466400-1843470000@ringwoodknoxparish.org.au
SUMMARY:Prayer Group @ Knox
DESCRIPTION:Prayer Group offer the opportunity to pray with others for concerns within our congregations\, as well as issues in the wider community & the needs of the world. At Our Saviour’s Knox\, we meet at 10am this time includes morning tea.
URL:https://ringwoodknoxparish.org.au/event/prayer-group-knox-2023-06-08-2-2/2028-06-01/
LOCATION:Our Saviour’s Lutheran Church\, 646 Burwood Hwy\, Knoxfield VIC 3180\, Australia
CATEGORIES:Fellowship,Knox,Parish,Prayer Group
GEO:-37.8764384;145.2568519
END:VEVENT
BEGIN:VEVENT
DTSTART;TZID=Australia/Melbourne:20280605T100000
DTEND;TZID=Australia/Melbourne:20280605T110000
DTSTAMP:20260425T202452
CREATED:20250604T082704Z
LAST-MODIFIED:20250604T082821Z
UID:10014443-1843812000-1843815600@ringwoodknoxparish.org.au
SUMMARY:Bible Study with Pastor Peter
DESCRIPTION:Every Monday morning in The Good Shepherd Retirement Village Residents Center from 10am to 11am. Pastor will look at the coming Sunday’s Bible readings or any topic you would like discussed. \nJoin him for morning tea and discussion of whatever is on people’s hearts and minds. \nAll welcome. \nFor more information please contact the church office.
URL:https://ringwoodknoxparish.org.au/event/mornings-with-pastor-peter-2/2028-06-05/
CATEGORIES:Bible Study,Fellowship,Good Shephered Retirement Village,Morning Tea,Parish,Ringwood
END:VEVENT
BEGIN:VEVENT
DTSTART;TZID=Australia/Melbourne:20280608T100000
DTEND;TZID=Australia/Melbourne:20280608T110000
DTSTAMP:20260425T202452
CREATED:20250604T082333Z
LAST-MODIFIED:20250604T082434Z
UID:10014179-1844071200-1844074800@ringwoodknoxparish.org.au
SUMMARY:Prayer Group @ Knox
DESCRIPTION:Prayer Group offer the opportunity to pray with others for concerns within our congregations\, as well as issues in the wider community & the needs of the world. At Our Saviour’s Knox\, we meet at 10am this time includes morning tea.
URL:https://ringwoodknoxparish.org.au/event/prayer-group-knox-2023-06-08-2-2/2028-06-08/
LOCATION:Our Saviour’s Lutheran Church\, 646 Burwood Hwy\, Knoxfield VIC 3180\, Australia
CATEGORIES:Fellowship,Knox,Parish,Prayer Group
GEO:-37.8764384;145.2568519
END:VEVENT
BEGIN:VEVENT
DTSTART;TZID=Australia/Melbourne:20280612T100000
DTEND;TZID=Australia/Melbourne:20280612T110000
DTSTAMP:20260425T202452
CREATED:20250604T082704Z
LAST-MODIFIED:20250604T082821Z
UID:10014444-1844416800-1844420400@ringwoodknoxparish.org.au
SUMMARY:Bible Study with Pastor Peter
DESCRIPTION:Every Monday morning in The Good Shepherd Retirement Village Residents Center from 10am to 11am. Pastor will look at the coming Sunday’s Bible readings or any topic you would like discussed. \nJoin him for morning tea and discussion of whatever is on people’s hearts and minds. \nAll welcome. \nFor more information please contact the church office.
URL:https://ringwoodknoxparish.org.au/event/mornings-with-pastor-peter-2/2028-06-12/
CATEGORIES:Bible Study,Fellowship,Good Shephered Retirement Village,Morning Tea,Parish,Ringwood
END:VEVENT
BEGIN:VEVENT
DTSTART;TZID=Australia/Melbourne:20280615T100000
DTEND;TZID=Australia/Melbourne:20280615T110000
DTSTAMP:20260425T202452
CREATED:20250604T082333Z
LAST-MODIFIED:20250604T082434Z
UID:10014180-1844676000-1844679600@ringwoodknoxparish.org.au
SUMMARY:Prayer Group @ Knox
DESCRIPTION:Prayer Group offer the opportunity to pray with others for concerns within our congregations\, as well as issues in the wider community & the needs of the world. At Our Saviour’s Knox\, we meet at 10am this time includes morning tea.
URL:https://ringwoodknoxparish.org.au/event/prayer-group-knox-2023-06-08-2-2/2028-06-15/
LOCATION:Our Saviour’s Lutheran Church\, 646 Burwood Hwy\, Knoxfield VIC 3180\, Australia
CATEGORIES:Fellowship,Knox,Parish,Prayer Group
GEO:-37.8764384;145.2568519
END:VEVENT
BEGIN:VEVENT
DTSTART;TZID=Australia/Melbourne:20280619T100000
DTEND;TZID=Australia/Melbourne:20280619T110000
DTSTAMP:20260425T202452
CREATED:20250604T082704Z
LAST-MODIFIED:20250604T082821Z
UID:10014445-1845021600-1845025200@ringwoodknoxparish.org.au
SUMMARY:Bible Study with Pastor Peter
DESCRIPTION:Every Monday morning in The Good Shepherd Retirement Village Residents Center from 10am to 11am. Pastor will look at the coming Sunday’s Bible readings or any topic you would like discussed. \nJoin him for morning tea and discussion of whatever is on people’s hearts and minds. \nAll welcome. \nFor more information please contact the church office.
URL:https://ringwoodknoxparish.org.au/event/mornings-with-pastor-peter-2/2028-06-19/
CATEGORIES:Bible Study,Fellowship,Good Shephered Retirement Village,Morning Tea,Parish,Ringwood
END:VEVENT
BEGIN:VEVENT
DTSTART;TZID=Australia/Melbourne:20280622T100000
DTEND;TZID=Australia/Melbourne:20280622T110000
DTSTAMP:20260425T202452
CREATED:20250604T082333Z
LAST-MODIFIED:20250604T082434Z
UID:10014181-1845280800-1845284400@ringwoodknoxparish.org.au
SUMMARY:Prayer Group @ Knox
DESCRIPTION:Prayer Group offer the opportunity to pray with others for concerns within our congregations\, as well as issues in the wider community & the needs of the world. At Our Saviour’s Knox\, we meet at 10am this time includes morning tea.
URL:https://ringwoodknoxparish.org.au/event/prayer-group-knox-2023-06-08-2-2/2028-06-22/
LOCATION:Our Saviour’s Lutheran Church\, 646 Burwood Hwy\, Knoxfield VIC 3180\, Australia
CATEGORIES:Fellowship,Knox,Parish,Prayer Group
GEO:-37.8764384;145.2568519
END:VEVENT
BEGIN:VEVENT
DTSTART;TZID=Australia/Melbourne:20280626T100000
DTEND;TZID=Australia/Melbourne:20280626T110000
DTSTAMP:20260425T202452
CREATED:20250604T082704Z
LAST-MODIFIED:20250604T082821Z
UID:10014446-1845626400-1845630000@ringwoodknoxparish.org.au
SUMMARY:Bible Study with Pastor Peter
DESCRIPTION:Every Monday morning in The Good Shepherd Retirement Village Residents Center from 10am to 11am. Pastor will look at the coming Sunday’s Bible readings or any topic you would like discussed. \nJoin him for morning tea and discussion of whatever is on people’s hearts and minds. \nAll welcome. \nFor more information please contact the church office.
URL:https://ringwoodknoxparish.org.au/event/mornings-with-pastor-peter-2/2028-06-26/
CATEGORIES:Bible Study,Fellowship,Good Shephered Retirement Village,Morning Tea,Parish,Ringwood
END:VEVENT
BEGIN:VEVENT
DTSTART;TZID=Australia/Melbourne:20280629T100000
DTEND;TZID=Australia/Melbourne:20280629T110000
DTSTAMP:20260425T202452
CREATED:20250604T082333Z
LAST-MODIFIED:20250604T082434Z
UID:10014182-1845885600-1845889200@ringwoodknoxparish.org.au
SUMMARY:Prayer Group @ Knox
DESCRIPTION:Prayer Group offer the opportunity to pray with others for concerns within our congregations\, as well as issues in the wider community & the needs of the world. At Our Saviour’s Knox\, we meet at 10am this time includes morning tea.
URL:https://ringwoodknoxparish.org.au/event/prayer-group-knox-2023-06-08-2-2/2028-06-29/
LOCATION:Our Saviour’s Lutheran Church\, 646 Burwood Hwy\, Knoxfield VIC 3180\, Australia
CATEGORIES:Fellowship,Knox,Parish,Prayer Group
GEO:-37.8764384;145.2568519
END:VEVENT
BEGIN:VEVENT
DTSTART;TZID=Australia/Melbourne:20280703T100000
DTEND;TZID=Australia/Melbourne:20280703T110000
DTSTAMP:20260425T202452
CREATED:20250604T082704Z
LAST-MODIFIED:20250604T082821Z
UID:10014447-1846231200-1846234800@ringwoodknoxparish.org.au
SUMMARY:Bible Study with Pastor Peter
DESCRIPTION:Every Monday morning in The Good Shepherd Retirement Village Residents Center from 10am to 11am. Pastor will look at the coming Sunday’s Bible readings or any topic you would like discussed. \nJoin him for morning tea and discussion of whatever is on people’s hearts and minds. \nAll welcome. \nFor more information please contact the church office.
URL:https://ringwoodknoxparish.org.au/event/mornings-with-pastor-peter-2/2028-07-03/
CATEGORIES:Bible Study,Fellowship,Good Shephered Retirement Village,Morning Tea,Parish,Ringwood
END:VEVENT
BEGIN:VEVENT
DTSTART;TZID=Australia/Melbourne:20280706T100000
DTEND;TZID=Australia/Melbourne:20280706T110000
DTSTAMP:20260425T202452
CREATED:20250604T082333Z
LAST-MODIFIED:20250604T082434Z
UID:10014183-1846490400-1846494000@ringwoodknoxparish.org.au
SUMMARY:Prayer Group @ Knox
DESCRIPTION:Prayer Group offer the opportunity to pray with others for concerns within our congregations\, as well as issues in the wider community & the needs of the world. At Our Saviour’s Knox\, we meet at 10am this time includes morning tea.
URL:https://ringwoodknoxparish.org.au/event/prayer-group-knox-2023-06-08-2-2/2028-07-06/
LOCATION:Our Saviour’s Lutheran Church\, 646 Burwood Hwy\, Knoxfield VIC 3180\, Australia
CATEGORIES:Fellowship,Knox,Parish,Prayer Group
GEO:-37.8764384;145.2568519
END:VEVENT
BEGIN:VEVENT
DTSTART;TZID=Australia/Melbourne:20280710T100000
DTEND;TZID=Australia/Melbourne:20280710T110000
DTSTAMP:20260425T202452
CREATED:20250604T082704Z
LAST-MODIFIED:20250604T082821Z
UID:10014448-1846836000-1846839600@ringwoodknoxparish.org.au
SUMMARY:Bible Study with Pastor Peter
DESCRIPTION:Every Monday morning in The Good Shepherd Retirement Village Residents Center from 10am to 11am. Pastor will look at the coming Sunday’s Bible readings or any topic you would like discussed. \nJoin him for morning tea and discussion of whatever is on people’s hearts and minds. \nAll welcome. \nFor more information please contact the church office.
URL:https://ringwoodknoxparish.org.au/event/mornings-with-pastor-peter-2/2028-07-10/
CATEGORIES:Bible Study,Fellowship,Good Shephered Retirement Village,Morning Tea,Parish,Ringwood
END:VEVENT
BEGIN:VEVENT
DTSTART;TZID=Australia/Melbourne:20280713T100000
DTEND;TZID=Australia/Melbourne:20280713T110000
DTSTAMP:20260425T202452
CREATED:20250604T082333Z
LAST-MODIFIED:20250604T082434Z
UID:10014184-1847095200-1847098800@ringwoodknoxparish.org.au
SUMMARY:Prayer Group @ Knox
DESCRIPTION:Prayer Group offer the opportunity to pray with others for concerns within our congregations\, as well as issues in the wider community & the needs of the world. At Our Saviour’s Knox\, we meet at 10am this time includes morning tea.
URL:https://ringwoodknoxparish.org.au/event/prayer-group-knox-2023-06-08-2-2/2028-07-13/
LOCATION:Our Saviour’s Lutheran Church\, 646 Burwood Hwy\, Knoxfield VIC 3180\, Australia
CATEGORIES:Fellowship,Knox,Parish,Prayer Group
GEO:-37.8764384;145.2568519
END:VEVENT
BEGIN:VEVENT
DTSTART;TZID=Australia/Melbourne:20280717T100000
DTEND;TZID=Australia/Melbourne:20280717T110000
DTSTAMP:20260425T202452
CREATED:20250604T082704Z
LAST-MODIFIED:20250604T082821Z
UID:10014449-1847440800-1847444400@ringwoodknoxparish.org.au
SUMMARY:Bible Study with Pastor Peter
DESCRIPTION:Every Monday morning in The Good Shepherd Retirement Village Residents Center from 10am to 11am. Pastor will look at the coming Sunday’s Bible readings or any topic you would like discussed. \nJoin him for morning tea and discussion of whatever is on people’s hearts and minds. \nAll welcome. \nFor more information please contact the church office.
URL:https://ringwoodknoxparish.org.au/event/mornings-with-pastor-peter-2/2028-07-17/
CATEGORIES:Bible Study,Fellowship,Good Shephered Retirement Village,Morning Tea,Parish,Ringwood
END:VEVENT
BEGIN:VEVENT
DTSTART;TZID=Australia/Melbourne:20280720T100000
DTEND;TZID=Australia/Melbourne:20280720T110000
DTSTAMP:20260425T202452
CREATED:20250604T082333Z
LAST-MODIFIED:20250604T082434Z
UID:10014185-1847700000-1847703600@ringwoodknoxparish.org.au
SUMMARY:Prayer Group @ Knox
DESCRIPTION:Prayer Group offer the opportunity to pray with others for concerns within our congregations\, as well as issues in the wider community & the needs of the world. At Our Saviour’s Knox\, we meet at 10am this time includes morning tea.
URL:https://ringwoodknoxparish.org.au/event/prayer-group-knox-2023-06-08-2-2/2028-07-20/
LOCATION:Our Saviour’s Lutheran Church\, 646 Burwood Hwy\, Knoxfield VIC 3180\, Australia
CATEGORIES:Fellowship,Knox,Parish,Prayer Group
GEO:-37.8764384;145.2568519
END:VEVENT
BEGIN:VEVENT
DTSTART;TZID=Australia/Melbourne:20280724T100000
DTEND;TZID=Australia/Melbourne:20280724T110000
DTSTAMP:20260425T202452
CREATED:20250604T082704Z
LAST-MODIFIED:20250604T082821Z
UID:10014450-1848045600-1848049200@ringwoodknoxparish.org.au
SUMMARY:Bible Study with Pastor Peter
DESCRIPTION:Every Monday morning in The Good Shepherd Retirement Village Residents Center from 10am to 11am. Pastor will look at the coming Sunday’s Bible readings or any topic you would like discussed. \nJoin him for morning tea and discussion of whatever is on people’s hearts and minds. \nAll welcome. \nFor more information please contact the church office.
URL:https://ringwoodknoxparish.org.au/event/mornings-with-pastor-peter-2/2028-07-24/
CATEGORIES:Bible Study,Fellowship,Good Shephered Retirement Village,Morning Tea,Parish,Ringwood
END:VEVENT
BEGIN:VEVENT
DTSTART;TZID=Australia/Melbourne:20280727T100000
DTEND;TZID=Australia/Melbourne:20280727T110000
DTSTAMP:20260425T202452
CREATED:20250604T082333Z
LAST-MODIFIED:20250604T082434Z
UID:10014186-1848304800-1848308400@ringwoodknoxparish.org.au
SUMMARY:Prayer Group @ Knox
DESCRIPTION:Prayer Group offer the opportunity to pray with others for concerns within our congregations\, as well as issues in the wider community & the needs of the world. At Our Saviour’s Knox\, we meet at 10am this time includes morning tea.
URL:https://ringwoodknoxparish.org.au/event/prayer-group-knox-2023-06-08-2-2/2028-07-27/
LOCATION:Our Saviour’s Lutheran Church\, 646 Burwood Hwy\, Knoxfield VIC 3180\, Australia
CATEGORIES:Fellowship,Knox,Parish,Prayer Group
GEO:-37.8764384;145.2568519
END:VEVENT
BEGIN:VEVENT
DTSTART;TZID=Australia/Melbourne:20280731T100000
DTEND;TZID=Australia/Melbourne:20280731T110000
DTSTAMP:20260425T202452
CREATED:20250604T082704Z
LAST-MODIFIED:20250604T082821Z
UID:10014451-1848650400-1848654000@ringwoodknoxparish.org.au
SUMMARY:Bible Study with Pastor Peter
DESCRIPTION:Every Monday morning in The Good Shepherd Retirement Village Residents Center from 10am to 11am. Pastor will look at the coming Sunday’s Bible readings or any topic you would like discussed. \nJoin him for morning tea and discussion of whatever is on people’s hearts and minds. \nAll welcome. \nFor more information please contact the church office.
URL:https://ringwoodknoxparish.org.au/event/mornings-with-pastor-peter-2/2028-07-31/
CATEGORIES:Bible Study,Fellowship,Good Shephered Retirement Village,Morning Tea,Parish,Ringwood
END:VEVENT
BEGIN:VEVENT
DTSTART;TZID=Australia/Melbourne:20280803T100000
DTEND;TZID=Australia/Melbourne:20280803T110000
DTSTAMP:20260425T202452
CREATED:20250604T082333Z
LAST-MODIFIED:20250604T082434Z
UID:10014187-1848909600-1848913200@ringwoodknoxparish.org.au
SUMMARY:Prayer Group @ Knox
DESCRIPTION:Prayer Group offer the opportunity to pray with others for concerns within our congregations\, as well as issues in the wider community & the needs of the world. At Our Saviour’s Knox\, we meet at 10am this time includes morning tea.
URL:https://ringwoodknoxparish.org.au/event/prayer-group-knox-2023-06-08-2-2/2028-08-03/
LOCATION:Our Saviour’s Lutheran Church\, 646 Burwood Hwy\, Knoxfield VIC 3180\, Australia
CATEGORIES:Fellowship,Knox,Parish,Prayer Group
GEO:-37.8764384;145.2568519
END:VEVENT
BEGIN:VEVENT
DTSTART;TZID=Australia/Melbourne:20280807T100000
DTEND;TZID=Australia/Melbourne:20280807T110000
DTSTAMP:20260425T202452
CREATED:20250604T082704Z
LAST-MODIFIED:20250604T082821Z
UID:10014452-1849255200-1849258800@ringwoodknoxparish.org.au
SUMMARY:Bible Study with Pastor Peter
DESCRIPTION:Every Monday morning in The Good Shepherd Retirement Village Residents Center from 10am to 11am. Pastor will look at the coming Sunday’s Bible readings or any topic you would like discussed. \nJoin him for morning tea and discussion of whatever is on people’s hearts and minds. \nAll welcome. \nFor more information please contact the church office.
URL:https://ringwoodknoxparish.org.au/event/mornings-with-pastor-peter-2/2028-08-07/
CATEGORIES:Bible Study,Fellowship,Good Shephered Retirement Village,Morning Tea,Parish,Ringwood
END:VEVENT
BEGIN:VEVENT
DTSTART;TZID=Australia/Melbourne:20280810T100000
DTEND;TZID=Australia/Melbourne:20280810T110000
DTSTAMP:20260425T202452
CREATED:20250604T082333Z
LAST-MODIFIED:20250604T082434Z
UID:10014188-1849514400-1849518000@ringwoodknoxparish.org.au
SUMMARY:Prayer Group @ Knox
DESCRIPTION:Prayer Group offer the opportunity to pray with others for concerns within our congregations\, as well as issues in the wider community & the needs of the world. At Our Saviour’s Knox\, we meet at 10am this time includes morning tea.
URL:https://ringwoodknoxparish.org.au/event/prayer-group-knox-2023-06-08-2-2/2028-08-10/
LOCATION:Our Saviour’s Lutheran Church\, 646 Burwood Hwy\, Knoxfield VIC 3180\, Australia
CATEGORIES:Fellowship,Knox,Parish,Prayer Group
GEO:-37.8764384;145.2568519
END:VEVENT
BEGIN:VEVENT
DTSTART;TZID=Australia/Melbourne:20280814T100000
DTEND;TZID=Australia/Melbourne:20280814T110000
DTSTAMP:20260425T202452
CREATED:20250604T082704Z
LAST-MODIFIED:20250604T082821Z
UID:10014453-1849860000-1849863600@ringwoodknoxparish.org.au
SUMMARY:Bible Study with Pastor Peter
DESCRIPTION:Every Monday morning in The Good Shepherd Retirement Village Residents Center from 10am to 11am. Pastor will look at the coming Sunday’s Bible readings or any topic you would like discussed. \nJoin him for morning tea and discussion of whatever is on people’s hearts and minds. \nAll welcome. \nFor more information please contact the church office.
URL:https://ringwoodknoxparish.org.au/event/mornings-with-pastor-peter-2/2028-08-14/
CATEGORIES:Bible Study,Fellowship,Good Shephered Retirement Village,Morning Tea,Parish,Ringwood
END:VEVENT
BEGIN:VEVENT
DTSTART;TZID=Australia/Melbourne:20280817T100000
DTEND;TZID=Australia/Melbourne:20280817T110000
DTSTAMP:20260425T202452
CREATED:20250604T082333Z
LAST-MODIFIED:20250604T082434Z
UID:10014189-1850119200-1850122800@ringwoodknoxparish.org.au
SUMMARY:Prayer Group @ Knox
DESCRIPTION:Prayer Group offer the opportunity to pray with others for concerns within our congregations\, as well as issues in the wider community & the needs of the world. At Our Saviour’s Knox\, we meet at 10am this time includes morning tea.
URL:https://ringwoodknoxparish.org.au/event/prayer-group-knox-2023-06-08-2-2/2028-08-17/
LOCATION:Our Saviour’s Lutheran Church\, 646 Burwood Hwy\, Knoxfield VIC 3180\, Australia
CATEGORIES:Fellowship,Knox,Parish,Prayer Group
GEO:-37.8764384;145.2568519
END:VEVENT
END:VCALENDAR