BEGIN:VCALENDAR
VERSION:2.0
PRODID:-//Ringwood Knox Parish - ECPv6.8.1//NONSGML v1.0//EN
CALSCALE:GREGORIAN
METHOD:PUBLISH
X-ORIGINAL-URL:https://ringwoodknoxparish.org.au
X-WR-CALDESC:Events for Ringwood Knox Parish
REFRESH-INTERVAL;VALUE=DURATION:PT1H
X-Robots-Tag:noindex
X-PUBLISHED-TTL:PT1H
BEGIN:VTIMEZONE
TZID:Australia/Melbourne
BEGIN:STANDARD
TZOFFSETFROM:+1100
TZOFFSETTO:+1000
TZNAME:AEST
DTSTART:20280401T160000
END:STANDARD
BEGIN:DAYLIGHT
TZOFFSETFROM:+1000
TZOFFSETTO:+1100
TZNAME:AEDT
DTSTART:20280930T160000
END:DAYLIGHT
END:VTIMEZONE
BEGIN:VEVENT
DTSTART;TZID=Australia/Melbourne:20280131T100000
DTEND;TZID=Australia/Melbourne:20280131T110000
DTSTAMP:20260425T215629
CREATED:20250604T082704Z
LAST-MODIFIED:20250604T082821Z
UID:10014425-1832925600-1832929200@ringwoodknoxparish.org.au
SUMMARY:Bible Study with Pastor Peter
DESCRIPTION:Every Monday morning in The Good Shepherd Retirement Village Residents Center from 10am to 11am. Pastor will look at the coming Sunday’s Bible readings or any topic you would like discussed. \nJoin him for morning tea and discussion of whatever is on people’s hearts and minds. \nAll welcome. \nFor more information please contact the church office.
URL:https://ringwoodknoxparish.org.au/event/mornings-with-pastor-peter-2/2028-01-31/
CATEGORIES:Bible Study,Fellowship,Good Shephered Retirement Village,Morning Tea,Parish,Ringwood
END:VEVENT
BEGIN:VEVENT
DTSTART;TZID=Australia/Melbourne:20280203T100000
DTEND;TZID=Australia/Melbourne:20280203T110000
DTSTAMP:20260425T215629
CREATED:20250604T082333Z
LAST-MODIFIED:20250604T082434Z
UID:10014161-1833184800-1833188400@ringwoodknoxparish.org.au
SUMMARY:Prayer Group @ Knox
DESCRIPTION:Prayer Group offer the opportunity to pray with others for concerns within our congregations\, as well as issues in the wider community & the needs of the world. At Our Saviour’s Knox\, we meet at 10am this time includes morning tea.
URL:https://ringwoodknoxparish.org.au/event/prayer-group-knox-2023-06-08-2-2/2028-02-03/
LOCATION:Our Saviour’s Lutheran Church\, 646 Burwood Hwy\, Knoxfield VIC 3180\, Australia
CATEGORIES:Fellowship,Knox,Parish,Prayer Group
GEO:-37.8764384;145.2568519
END:VEVENT
BEGIN:VEVENT
DTSTART;TZID=Australia/Melbourne:20280207T100000
DTEND;TZID=Australia/Melbourne:20280207T110000
DTSTAMP:20260425T215629
CREATED:20250604T082704Z
LAST-MODIFIED:20250604T082821Z
UID:10014426-1833530400-1833534000@ringwoodknoxparish.org.au
SUMMARY:Bible Study with Pastor Peter
DESCRIPTION:Every Monday morning in The Good Shepherd Retirement Village Residents Center from 10am to 11am. Pastor will look at the coming Sunday’s Bible readings or any topic you would like discussed. \nJoin him for morning tea and discussion of whatever is on people’s hearts and minds. \nAll welcome. \nFor more information please contact the church office.
URL:https://ringwoodknoxparish.org.au/event/mornings-with-pastor-peter-2/2028-02-07/
CATEGORIES:Bible Study,Fellowship,Good Shephered Retirement Village,Morning Tea,Parish,Ringwood
END:VEVENT
BEGIN:VEVENT
DTSTART;TZID=Australia/Melbourne:20280210T100000
DTEND;TZID=Australia/Melbourne:20280210T110000
DTSTAMP:20260425T215629
CREATED:20250604T082333Z
LAST-MODIFIED:20250604T082434Z
UID:10014162-1833789600-1833793200@ringwoodknoxparish.org.au
SUMMARY:Prayer Group @ Knox
DESCRIPTION:Prayer Group offer the opportunity to pray with others for concerns within our congregations\, as well as issues in the wider community & the needs of the world. At Our Saviour’s Knox\, we meet at 10am this time includes morning tea.
URL:https://ringwoodknoxparish.org.au/event/prayer-group-knox-2023-06-08-2-2/2028-02-10/
LOCATION:Our Saviour’s Lutheran Church\, 646 Burwood Hwy\, Knoxfield VIC 3180\, Australia
CATEGORIES:Fellowship,Knox,Parish,Prayer Group
GEO:-37.8764384;145.2568519
END:VEVENT
BEGIN:VEVENT
DTSTART;TZID=Australia/Melbourne:20280214T100000
DTEND;TZID=Australia/Melbourne:20280214T110000
DTSTAMP:20260425T215629
CREATED:20250604T082704Z
LAST-MODIFIED:20250604T082821Z
UID:10014427-1834135200-1834138800@ringwoodknoxparish.org.au
SUMMARY:Bible Study with Pastor Peter
DESCRIPTION:Every Monday morning in The Good Shepherd Retirement Village Residents Center from 10am to 11am. Pastor will look at the coming Sunday’s Bible readings or any topic you would like discussed. \nJoin him for morning tea and discussion of whatever is on people’s hearts and minds. \nAll welcome. \nFor more information please contact the church office.
URL:https://ringwoodknoxparish.org.au/event/mornings-with-pastor-peter-2/2028-02-14/
CATEGORIES:Bible Study,Fellowship,Good Shephered Retirement Village,Morning Tea,Parish,Ringwood
END:VEVENT
BEGIN:VEVENT
DTSTART;TZID=Australia/Melbourne:20280217T100000
DTEND;TZID=Australia/Melbourne:20280217T110000
DTSTAMP:20260425T215629
CREATED:20250604T082333Z
LAST-MODIFIED:20250604T082434Z
UID:10014163-1834394400-1834398000@ringwoodknoxparish.org.au
SUMMARY:Prayer Group @ Knox
DESCRIPTION:Prayer Group offer the opportunity to pray with others for concerns within our congregations\, as well as issues in the wider community & the needs of the world. At Our Saviour’s Knox\, we meet at 10am this time includes morning tea.
URL:https://ringwoodknoxparish.org.au/event/prayer-group-knox-2023-06-08-2-2/2028-02-17/
LOCATION:Our Saviour’s Lutheran Church\, 646 Burwood Hwy\, Knoxfield VIC 3180\, Australia
CATEGORIES:Fellowship,Knox,Parish,Prayer Group
GEO:-37.8764384;145.2568519
END:VEVENT
BEGIN:VEVENT
DTSTART;TZID=Australia/Melbourne:20280221T100000
DTEND;TZID=Australia/Melbourne:20280221T110000
DTSTAMP:20260425T215629
CREATED:20250604T082704Z
LAST-MODIFIED:20250604T082821Z
UID:10014428-1834740000-1834743600@ringwoodknoxparish.org.au
SUMMARY:Bible Study with Pastor Peter
DESCRIPTION:Every Monday morning in The Good Shepherd Retirement Village Residents Center from 10am to 11am. Pastor will look at the coming Sunday’s Bible readings or any topic you would like discussed. \nJoin him for morning tea and discussion of whatever is on people’s hearts and minds. \nAll welcome. \nFor more information please contact the church office.
URL:https://ringwoodknoxparish.org.au/event/mornings-with-pastor-peter-2/2028-02-21/
CATEGORIES:Bible Study,Fellowship,Good Shephered Retirement Village,Morning Tea,Parish,Ringwood
END:VEVENT
BEGIN:VEVENT
DTSTART;TZID=Australia/Melbourne:20280224T100000
DTEND;TZID=Australia/Melbourne:20280224T110000
DTSTAMP:20260425T215629
CREATED:20250604T082333Z
LAST-MODIFIED:20250604T082434Z
UID:10014164-1834999200-1835002800@ringwoodknoxparish.org.au
SUMMARY:Prayer Group @ Knox
DESCRIPTION:Prayer Group offer the opportunity to pray with others for concerns within our congregations\, as well as issues in the wider community & the needs of the world. At Our Saviour’s Knox\, we meet at 10am this time includes morning tea.
URL:https://ringwoodknoxparish.org.au/event/prayer-group-knox-2023-06-08-2-2/2028-02-24/
LOCATION:Our Saviour’s Lutheran Church\, 646 Burwood Hwy\, Knoxfield VIC 3180\, Australia
CATEGORIES:Fellowship,Knox,Parish,Prayer Group
GEO:-37.8764384;145.2568519
END:VEVENT
BEGIN:VEVENT
DTSTART;TZID=Australia/Melbourne:20280228T100000
DTEND;TZID=Australia/Melbourne:20280228T110000
DTSTAMP:20260425T215629
CREATED:20250604T082704Z
LAST-MODIFIED:20250604T082821Z
UID:10014429-1835344800-1835348400@ringwoodknoxparish.org.au
SUMMARY:Bible Study with Pastor Peter
DESCRIPTION:Every Monday morning in The Good Shepherd Retirement Village Residents Center from 10am to 11am. Pastor will look at the coming Sunday’s Bible readings or any topic you would like discussed. \nJoin him for morning tea and discussion of whatever is on people’s hearts and minds. \nAll welcome. \nFor more information please contact the church office.
URL:https://ringwoodknoxparish.org.au/event/mornings-with-pastor-peter-2/2028-02-28/
CATEGORIES:Bible Study,Fellowship,Good Shephered Retirement Village,Morning Tea,Parish,Ringwood
END:VEVENT
BEGIN:VEVENT
DTSTART;TZID=Australia/Melbourne:20280302T100000
DTEND;TZID=Australia/Melbourne:20280302T110000
DTSTAMP:20260425T215629
CREATED:20250604T082333Z
LAST-MODIFIED:20250604T082434Z
UID:10014165-1835604000-1835607600@ringwoodknoxparish.org.au
SUMMARY:Prayer Group @ Knox
DESCRIPTION:Prayer Group offer the opportunity to pray with others for concerns within our congregations\, as well as issues in the wider community & the needs of the world. At Our Saviour’s Knox\, we meet at 10am this time includes morning tea.
URL:https://ringwoodknoxparish.org.au/event/prayer-group-knox-2023-06-08-2-2/2028-03-02/
LOCATION:Our Saviour’s Lutheran Church\, 646 Burwood Hwy\, Knoxfield VIC 3180\, Australia
CATEGORIES:Fellowship,Knox,Parish,Prayer Group
GEO:-37.8764384;145.2568519
END:VEVENT
BEGIN:VEVENT
DTSTART;TZID=Australia/Melbourne:20280306T100000
DTEND;TZID=Australia/Melbourne:20280306T110000
DTSTAMP:20260425T215629
CREATED:20250604T082704Z
LAST-MODIFIED:20250604T082821Z
UID:10014430-1835949600-1835953200@ringwoodknoxparish.org.au
SUMMARY:Bible Study with Pastor Peter
DESCRIPTION:Every Monday morning in The Good Shepherd Retirement Village Residents Center from 10am to 11am. Pastor will look at the coming Sunday’s Bible readings or any topic you would like discussed. \nJoin him for morning tea and discussion of whatever is on people’s hearts and minds. \nAll welcome. \nFor more information please contact the church office.
URL:https://ringwoodknoxparish.org.au/event/mornings-with-pastor-peter-2/2028-03-06/
CATEGORIES:Bible Study,Fellowship,Good Shephered Retirement Village,Morning Tea,Parish,Ringwood
END:VEVENT
BEGIN:VEVENT
DTSTART;TZID=Australia/Melbourne:20280309T100000
DTEND;TZID=Australia/Melbourne:20280309T110000
DTSTAMP:20260425T215630
CREATED:20250604T082333Z
LAST-MODIFIED:20250604T082434Z
UID:10014166-1836208800-1836212400@ringwoodknoxparish.org.au
SUMMARY:Prayer Group @ Knox
DESCRIPTION:Prayer Group offer the opportunity to pray with others for concerns within our congregations\, as well as issues in the wider community & the needs of the world. At Our Saviour’s Knox\, we meet at 10am this time includes morning tea.
URL:https://ringwoodknoxparish.org.au/event/prayer-group-knox-2023-06-08-2-2/2028-03-09/
LOCATION:Our Saviour’s Lutheran Church\, 646 Burwood Hwy\, Knoxfield VIC 3180\, Australia
CATEGORIES:Fellowship,Knox,Parish,Prayer Group
GEO:-37.8764384;145.2568519
END:VEVENT
BEGIN:VEVENT
DTSTART;TZID=Australia/Melbourne:20280313T100000
DTEND;TZID=Australia/Melbourne:20280313T110000
DTSTAMP:20260425T215630
CREATED:20250604T082704Z
LAST-MODIFIED:20250604T082821Z
UID:10014431-1836554400-1836558000@ringwoodknoxparish.org.au
SUMMARY:Bible Study with Pastor Peter
DESCRIPTION:Every Monday morning in The Good Shepherd Retirement Village Residents Center from 10am to 11am. Pastor will look at the coming Sunday’s Bible readings or any topic you would like discussed. \nJoin him for morning tea and discussion of whatever is on people’s hearts and minds. \nAll welcome. \nFor more information please contact the church office.
URL:https://ringwoodknoxparish.org.au/event/mornings-with-pastor-peter-2/2028-03-13/
CATEGORIES:Bible Study,Fellowship,Good Shephered Retirement Village,Morning Tea,Parish,Ringwood
END:VEVENT
BEGIN:VEVENT
DTSTART;TZID=Australia/Melbourne:20280316T100000
DTEND;TZID=Australia/Melbourne:20280316T110000
DTSTAMP:20260425T215630
CREATED:20250604T082333Z
LAST-MODIFIED:20250604T082434Z
UID:10014167-1836813600-1836817200@ringwoodknoxparish.org.au
SUMMARY:Prayer Group @ Knox
DESCRIPTION:Prayer Group offer the opportunity to pray with others for concerns within our congregations\, as well as issues in the wider community & the needs of the world. At Our Saviour’s Knox\, we meet at 10am this time includes morning tea.
URL:https://ringwoodknoxparish.org.au/event/prayer-group-knox-2023-06-08-2-2/2028-03-16/
LOCATION:Our Saviour’s Lutheran Church\, 646 Burwood Hwy\, Knoxfield VIC 3180\, Australia
CATEGORIES:Fellowship,Knox,Parish,Prayer Group
GEO:-37.8764384;145.2568519
END:VEVENT
BEGIN:VEVENT
DTSTART;TZID=Australia/Melbourne:20280320T100000
DTEND;TZID=Australia/Melbourne:20280320T110000
DTSTAMP:20260425T215630
CREATED:20250604T082704Z
LAST-MODIFIED:20250604T082821Z
UID:10014432-1837159200-1837162800@ringwoodknoxparish.org.au
SUMMARY:Bible Study with Pastor Peter
DESCRIPTION:Every Monday morning in The Good Shepherd Retirement Village Residents Center from 10am to 11am. Pastor will look at the coming Sunday’s Bible readings or any topic you would like discussed. \nJoin him for morning tea and discussion of whatever is on people’s hearts and minds. \nAll welcome. \nFor more information please contact the church office.
URL:https://ringwoodknoxparish.org.au/event/mornings-with-pastor-peter-2/2028-03-20/
CATEGORIES:Bible Study,Fellowship,Good Shephered Retirement Village,Morning Tea,Parish,Ringwood
END:VEVENT
BEGIN:VEVENT
DTSTART;TZID=Australia/Melbourne:20280323T100000
DTEND;TZID=Australia/Melbourne:20280323T110000
DTSTAMP:20260425T215630
CREATED:20250604T082333Z
LAST-MODIFIED:20250604T082434Z
UID:10014168-1837418400-1837422000@ringwoodknoxparish.org.au
SUMMARY:Prayer Group @ Knox
DESCRIPTION:Prayer Group offer the opportunity to pray with others for concerns within our congregations\, as well as issues in the wider community & the needs of the world. At Our Saviour’s Knox\, we meet at 10am this time includes morning tea.
URL:https://ringwoodknoxparish.org.au/event/prayer-group-knox-2023-06-08-2-2/2028-03-23/
LOCATION:Our Saviour’s Lutheran Church\, 646 Burwood Hwy\, Knoxfield VIC 3180\, Australia
CATEGORIES:Fellowship,Knox,Parish,Prayer Group
GEO:-37.8764384;145.2568519
END:VEVENT
BEGIN:VEVENT
DTSTART;TZID=Australia/Melbourne:20280327T100000
DTEND;TZID=Australia/Melbourne:20280327T110000
DTSTAMP:20260425T215630
CREATED:20250604T082704Z
LAST-MODIFIED:20250604T082821Z
UID:10014433-1837764000-1837767600@ringwoodknoxparish.org.au
SUMMARY:Bible Study with Pastor Peter
DESCRIPTION:Every Monday morning in The Good Shepherd Retirement Village Residents Center from 10am to 11am. Pastor will look at the coming Sunday’s Bible readings or any topic you would like discussed. \nJoin him for morning tea and discussion of whatever is on people’s hearts and minds. \nAll welcome. \nFor more information please contact the church office.
URL:https://ringwoodknoxparish.org.au/event/mornings-with-pastor-peter-2/2028-03-27/
CATEGORIES:Bible Study,Fellowship,Good Shephered Retirement Village,Morning Tea,Parish,Ringwood
END:VEVENT
BEGIN:VEVENT
DTSTART;TZID=Australia/Melbourne:20280330T100000
DTEND;TZID=Australia/Melbourne:20280330T110000
DTSTAMP:20260425T215630
CREATED:20250604T082333Z
LAST-MODIFIED:20250604T082434Z
UID:10014169-1838023200-1838026800@ringwoodknoxparish.org.au
SUMMARY:Prayer Group @ Knox
DESCRIPTION:Prayer Group offer the opportunity to pray with others for concerns within our congregations\, as well as issues in the wider community & the needs of the world. At Our Saviour’s Knox\, we meet at 10am this time includes morning tea.
URL:https://ringwoodknoxparish.org.au/event/prayer-group-knox-2023-06-08-2-2/2028-03-30/
LOCATION:Our Saviour’s Lutheran Church\, 646 Burwood Hwy\, Knoxfield VIC 3180\, Australia
CATEGORIES:Fellowship,Knox,Parish,Prayer Group
GEO:-37.8764384;145.2568519
END:VEVENT
BEGIN:VEVENT
DTSTART;TZID=Australia/Melbourne:20280403T100000
DTEND;TZID=Australia/Melbourne:20280403T110000
DTSTAMP:20260425T215630
CREATED:20250604T082704Z
LAST-MODIFIED:20250604T082821Z
UID:10014434-1838368800-1838372400@ringwoodknoxparish.org.au
SUMMARY:Bible Study with Pastor Peter
DESCRIPTION:Every Monday morning in The Good Shepherd Retirement Village Residents Center from 10am to 11am. Pastor will look at the coming Sunday’s Bible readings or any topic you would like discussed. \nJoin him for morning tea and discussion of whatever is on people’s hearts and minds. \nAll welcome. \nFor more information please contact the church office.
URL:https://ringwoodknoxparish.org.au/event/mornings-with-pastor-peter-2/2028-04-03/
CATEGORIES:Bible Study,Fellowship,Good Shephered Retirement Village,Morning Tea,Parish,Ringwood
END:VEVENT
BEGIN:VEVENT
DTSTART;TZID=Australia/Melbourne:20280406T100000
DTEND;TZID=Australia/Melbourne:20280406T110000
DTSTAMP:20260425T215630
CREATED:20250604T082333Z
LAST-MODIFIED:20250604T082434Z
UID:10014170-1838628000-1838631600@ringwoodknoxparish.org.au
SUMMARY:Prayer Group @ Knox
DESCRIPTION:Prayer Group offer the opportunity to pray with others for concerns within our congregations\, as well as issues in the wider community & the needs of the world. At Our Saviour’s Knox\, we meet at 10am this time includes morning tea.
URL:https://ringwoodknoxparish.org.au/event/prayer-group-knox-2023-06-08-2-2/2028-04-06/
LOCATION:Our Saviour’s Lutheran Church\, 646 Burwood Hwy\, Knoxfield VIC 3180\, Australia
CATEGORIES:Fellowship,Knox,Parish,Prayer Group
GEO:-37.8764384;145.2568519
END:VEVENT
BEGIN:VEVENT
DTSTART;TZID=Australia/Melbourne:20280410T100000
DTEND;TZID=Australia/Melbourne:20280410T110000
DTSTAMP:20260425T215630
CREATED:20250604T082704Z
LAST-MODIFIED:20250604T082821Z
UID:10014435-1838973600-1838977200@ringwoodknoxparish.org.au
SUMMARY:Bible Study with Pastor Peter
DESCRIPTION:Every Monday morning in The Good Shepherd Retirement Village Residents Center from 10am to 11am. Pastor will look at the coming Sunday’s Bible readings or any topic you would like discussed. \nJoin him for morning tea and discussion of whatever is on people’s hearts and minds. \nAll welcome. \nFor more information please contact the church office.
URL:https://ringwoodknoxparish.org.au/event/mornings-with-pastor-peter-2/2028-04-10/
CATEGORIES:Bible Study,Fellowship,Good Shephered Retirement Village,Morning Tea,Parish,Ringwood
END:VEVENT
BEGIN:VEVENT
DTSTART;TZID=Australia/Melbourne:20280413T100000
DTEND;TZID=Australia/Melbourne:20280413T110000
DTSTAMP:20260425T215630
CREATED:20250604T082333Z
LAST-MODIFIED:20250604T082434Z
UID:10014171-1839232800-1839236400@ringwoodknoxparish.org.au
SUMMARY:Prayer Group @ Knox
DESCRIPTION:Prayer Group offer the opportunity to pray with others for concerns within our congregations\, as well as issues in the wider community & the needs of the world. At Our Saviour’s Knox\, we meet at 10am this time includes morning tea.
URL:https://ringwoodknoxparish.org.au/event/prayer-group-knox-2023-06-08-2-2/2028-04-13/
LOCATION:Our Saviour’s Lutheran Church\, 646 Burwood Hwy\, Knoxfield VIC 3180\, Australia
CATEGORIES:Fellowship,Knox,Parish,Prayer Group
GEO:-37.8764384;145.2568519
END:VEVENT
BEGIN:VEVENT
DTSTART;TZID=Australia/Melbourne:20280417T100000
DTEND;TZID=Australia/Melbourne:20280417T110000
DTSTAMP:20260425T215630
CREATED:20250604T082704Z
LAST-MODIFIED:20250604T082821Z
UID:10014436-1839578400-1839582000@ringwoodknoxparish.org.au
SUMMARY:Bible Study with Pastor Peter
DESCRIPTION:Every Monday morning in The Good Shepherd Retirement Village Residents Center from 10am to 11am. Pastor will look at the coming Sunday’s Bible readings or any topic you would like discussed. \nJoin him for morning tea and discussion of whatever is on people’s hearts and minds. \nAll welcome. \nFor more information please contact the church office.
URL:https://ringwoodknoxparish.org.au/event/mornings-with-pastor-peter-2/2028-04-17/
CATEGORIES:Bible Study,Fellowship,Good Shephered Retirement Village,Morning Tea,Parish,Ringwood
END:VEVENT
BEGIN:VEVENT
DTSTART;TZID=Australia/Melbourne:20280420T100000
DTEND;TZID=Australia/Melbourne:20280420T110000
DTSTAMP:20260425T215630
CREATED:20250604T082333Z
LAST-MODIFIED:20250604T082434Z
UID:10014172-1839837600-1839841200@ringwoodknoxparish.org.au
SUMMARY:Prayer Group @ Knox
DESCRIPTION:Prayer Group offer the opportunity to pray with others for concerns within our congregations\, as well as issues in the wider community & the needs of the world. At Our Saviour’s Knox\, we meet at 10am this time includes morning tea.
URL:https://ringwoodknoxparish.org.au/event/prayer-group-knox-2023-06-08-2-2/2028-04-20/
LOCATION:Our Saviour’s Lutheran Church\, 646 Burwood Hwy\, Knoxfield VIC 3180\, Australia
CATEGORIES:Fellowship,Knox,Parish,Prayer Group
GEO:-37.8764384;145.2568519
END:VEVENT
BEGIN:VEVENT
DTSTART;TZID=Australia/Melbourne:20280424T100000
DTEND;TZID=Australia/Melbourne:20280424T110000
DTSTAMP:20260425T215630
CREATED:20250604T082704Z
LAST-MODIFIED:20250604T082821Z
UID:10014437-1840183200-1840186800@ringwoodknoxparish.org.au
SUMMARY:Bible Study with Pastor Peter
DESCRIPTION:Every Monday morning in The Good Shepherd Retirement Village Residents Center from 10am to 11am. Pastor will look at the coming Sunday’s Bible readings or any topic you would like discussed. \nJoin him for morning tea and discussion of whatever is on people’s hearts and minds. \nAll welcome. \nFor more information please contact the church office.
URL:https://ringwoodknoxparish.org.au/event/mornings-with-pastor-peter-2/2028-04-24/
CATEGORIES:Bible Study,Fellowship,Good Shephered Retirement Village,Morning Tea,Parish,Ringwood
END:VEVENT
BEGIN:VEVENT
DTSTART;TZID=Australia/Melbourne:20280427T100000
DTEND;TZID=Australia/Melbourne:20280427T110000
DTSTAMP:20260425T215630
CREATED:20250604T082333Z
LAST-MODIFIED:20250604T082434Z
UID:10014173-1840442400-1840446000@ringwoodknoxparish.org.au
SUMMARY:Prayer Group @ Knox
DESCRIPTION:Prayer Group offer the opportunity to pray with others for concerns within our congregations\, as well as issues in the wider community & the needs of the world. At Our Saviour’s Knox\, we meet at 10am this time includes morning tea.
URL:https://ringwoodknoxparish.org.au/event/prayer-group-knox-2023-06-08-2-2/2028-04-27/
LOCATION:Our Saviour’s Lutheran Church\, 646 Burwood Hwy\, Knoxfield VIC 3180\, Australia
CATEGORIES:Fellowship,Knox,Parish,Prayer Group
GEO:-37.8764384;145.2568519
END:VEVENT
BEGIN:VEVENT
DTSTART;TZID=Australia/Melbourne:20280501T100000
DTEND;TZID=Australia/Melbourne:20280501T110000
DTSTAMP:20260425T215630
CREATED:20250604T082704Z
LAST-MODIFIED:20250604T082821Z
UID:10014438-1840788000-1840791600@ringwoodknoxparish.org.au
SUMMARY:Bible Study with Pastor Peter
DESCRIPTION:Every Monday morning in The Good Shepherd Retirement Village Residents Center from 10am to 11am. Pastor will look at the coming Sunday’s Bible readings or any topic you would like discussed. \nJoin him for morning tea and discussion of whatever is on people’s hearts and minds. \nAll welcome. \nFor more information please contact the church office.
URL:https://ringwoodknoxparish.org.au/event/mornings-with-pastor-peter-2/2028-05-01/
CATEGORIES:Bible Study,Fellowship,Good Shephered Retirement Village,Morning Tea,Parish,Ringwood
END:VEVENT
BEGIN:VEVENT
DTSTART;TZID=Australia/Melbourne:20280504T100000
DTEND;TZID=Australia/Melbourne:20280504T110000
DTSTAMP:20260425T215630
CREATED:20250604T082333Z
LAST-MODIFIED:20250604T082434Z
UID:10014174-1841047200-1841050800@ringwoodknoxparish.org.au
SUMMARY:Prayer Group @ Knox
DESCRIPTION:Prayer Group offer the opportunity to pray with others for concerns within our congregations\, as well as issues in the wider community & the needs of the world. At Our Saviour’s Knox\, we meet at 10am this time includes morning tea.
URL:https://ringwoodknoxparish.org.au/event/prayer-group-knox-2023-06-08-2-2/2028-05-04/
LOCATION:Our Saviour’s Lutheran Church\, 646 Burwood Hwy\, Knoxfield VIC 3180\, Australia
CATEGORIES:Fellowship,Knox,Parish,Prayer Group
GEO:-37.8764384;145.2568519
END:VEVENT
BEGIN:VEVENT
DTSTART;TZID=Australia/Melbourne:20280508T100000
DTEND;TZID=Australia/Melbourne:20280508T110000
DTSTAMP:20260425T215630
CREATED:20250604T082704Z
LAST-MODIFIED:20250604T082821Z
UID:10014439-1841392800-1841396400@ringwoodknoxparish.org.au
SUMMARY:Bible Study with Pastor Peter
DESCRIPTION:Every Monday morning in The Good Shepherd Retirement Village Residents Center from 10am to 11am. Pastor will look at the coming Sunday’s Bible readings or any topic you would like discussed. \nJoin him for morning tea and discussion of whatever is on people’s hearts and minds. \nAll welcome. \nFor more information please contact the church office.
URL:https://ringwoodknoxparish.org.au/event/mornings-with-pastor-peter-2/2028-05-08/
CATEGORIES:Bible Study,Fellowship,Good Shephered Retirement Village,Morning Tea,Parish,Ringwood
END:VEVENT
BEGIN:VEVENT
DTSTART;TZID=Australia/Melbourne:20280511T100000
DTEND;TZID=Australia/Melbourne:20280511T110000
DTSTAMP:20260425T215630
CREATED:20250604T082333Z
LAST-MODIFIED:20250604T082434Z
UID:10014175-1841652000-1841655600@ringwoodknoxparish.org.au
SUMMARY:Prayer Group @ Knox
DESCRIPTION:Prayer Group offer the opportunity to pray with others for concerns within our congregations\, as well as issues in the wider community & the needs of the world. At Our Saviour’s Knox\, we meet at 10am this time includes morning tea.
URL:https://ringwoodknoxparish.org.au/event/prayer-group-knox-2023-06-08-2-2/2028-05-11/
LOCATION:Our Saviour’s Lutheran Church\, 646 Burwood Hwy\, Knoxfield VIC 3180\, Australia
CATEGORIES:Fellowship,Knox,Parish,Prayer Group
GEO:-37.8764384;145.2568519
END:VEVENT
END:VCALENDAR