BEGIN:VCALENDAR
VERSION:2.0
PRODID:-//Ringwood Knox Parish - ECPv6.8.1//NONSGML v1.0//EN
CALSCALE:GREGORIAN
METHOD:PUBLISH
X-ORIGINAL-URL:https://ringwoodknoxparish.org.au
X-WR-CALDESC:Events for Ringwood Knox Parish
REFRESH-INTERVAL;VALUE=DURATION:PT1H
X-Robots-Tag:noindex
X-PUBLISHED-TTL:PT1H
BEGIN:VTIMEZONE
TZID:Australia/Melbourne
BEGIN:STANDARD
TZOFFSETFROM:+1100
TZOFFSETTO:+1000
TZNAME:AEST
DTSTART:20280401T160000
END:STANDARD
BEGIN:DAYLIGHT
TZOFFSETFROM:+1000
TZOFFSETTO:+1100
TZNAME:AEDT
DTSTART:20280930T160000
END:DAYLIGHT
BEGIN:STANDARD
TZOFFSETFROM:+1100
TZOFFSETTO:+1000
TZNAME:AEST
DTSTART:20290331T160000
END:STANDARD
BEGIN:DAYLIGHT
TZOFFSETFROM:+1000
TZOFFSETTO:+1100
TZNAME:AEDT
DTSTART:20291006T160000
END:DAYLIGHT
END:VTIMEZONE
BEGIN:VEVENT
DTSTART;TZID=Australia/Melbourne:20281009T100000
DTEND;TZID=Australia/Melbourne:20281009T110000
DTSTAMP:20260426T014153
CREATED:20250604T082704Z
LAST-MODIFIED:20250604T082821Z
UID:10014461-1854698400-1854702000@ringwoodknoxparish.org.au
SUMMARY:Bible Study with Pastor Peter
DESCRIPTION:Every Monday morning in The Good Shepherd Retirement Village Residents Center from 10am to 11am. Pastor will look at the coming Sunday’s Bible readings or any topic you would like discussed. \nJoin him for morning tea and discussion of whatever is on people’s hearts and minds. \nAll welcome. \nFor more information please contact the church office.
URL:https://ringwoodknoxparish.org.au/event/mornings-with-pastor-peter-2/2028-10-09/
CATEGORIES:Bible Study,Fellowship,Good Shephered Retirement Village,Morning Tea,Parish,Ringwood
END:VEVENT
BEGIN:VEVENT
DTSTART;TZID=Australia/Melbourne:20281012T100000
DTEND;TZID=Australia/Melbourne:20281012T110000
DTSTAMP:20260426T014153
CREATED:20250604T082333Z
LAST-MODIFIED:20250604T082434Z
UID:10014197-1854957600-1854961200@ringwoodknoxparish.org.au
SUMMARY:Prayer Group @ Knox
DESCRIPTION:Prayer Group offer the opportunity to pray with others for concerns within our congregations\, as well as issues in the wider community & the needs of the world. At Our Saviour’s Knox\, we meet at 10am this time includes morning tea.
URL:https://ringwoodknoxparish.org.au/event/prayer-group-knox-2023-06-08-2-2/2028-10-12/
LOCATION:Our Saviour’s Lutheran Church\, 646 Burwood Hwy\, Knoxfield VIC 3180\, Australia
CATEGORIES:Fellowship,Knox,Parish,Prayer Group
GEO:-37.8764384;145.2568519
END:VEVENT
BEGIN:VEVENT
DTSTART;TZID=Australia/Melbourne:20281016T100000
DTEND;TZID=Australia/Melbourne:20281016T110000
DTSTAMP:20260426T014153
CREATED:20250604T082704Z
LAST-MODIFIED:20250604T082821Z
UID:10014462-1855303200-1855306800@ringwoodknoxparish.org.au
SUMMARY:Bible Study with Pastor Peter
DESCRIPTION:Every Monday morning in The Good Shepherd Retirement Village Residents Center from 10am to 11am. Pastor will look at the coming Sunday’s Bible readings or any topic you would like discussed. \nJoin him for morning tea and discussion of whatever is on people’s hearts and minds. \nAll welcome. \nFor more information please contact the church office.
URL:https://ringwoodknoxparish.org.au/event/mornings-with-pastor-peter-2/2028-10-16/
CATEGORIES:Bible Study,Fellowship,Good Shephered Retirement Village,Morning Tea,Parish,Ringwood
END:VEVENT
BEGIN:VEVENT
DTSTART;TZID=Australia/Melbourne:20281019T100000
DTEND;TZID=Australia/Melbourne:20281019T110000
DTSTAMP:20260426T014153
CREATED:20250604T082333Z
LAST-MODIFIED:20250604T082434Z
UID:10014198-1855562400-1855566000@ringwoodknoxparish.org.au
SUMMARY:Prayer Group @ Knox
DESCRIPTION:Prayer Group offer the opportunity to pray with others for concerns within our congregations\, as well as issues in the wider community & the needs of the world. At Our Saviour’s Knox\, we meet at 10am this time includes morning tea.
URL:https://ringwoodknoxparish.org.au/event/prayer-group-knox-2023-06-08-2-2/2028-10-19/
LOCATION:Our Saviour’s Lutheran Church\, 646 Burwood Hwy\, Knoxfield VIC 3180\, Australia
CATEGORIES:Fellowship,Knox,Parish,Prayer Group
GEO:-37.8764384;145.2568519
END:VEVENT
BEGIN:VEVENT
DTSTART;TZID=Australia/Melbourne:20281023T100000
DTEND;TZID=Australia/Melbourne:20281023T110000
DTSTAMP:20260426T014153
CREATED:20250604T082704Z
LAST-MODIFIED:20250604T082821Z
UID:10014463-1855908000-1855911600@ringwoodknoxparish.org.au
SUMMARY:Bible Study with Pastor Peter
DESCRIPTION:Every Monday morning in The Good Shepherd Retirement Village Residents Center from 10am to 11am. Pastor will look at the coming Sunday’s Bible readings or any topic you would like discussed. \nJoin him for morning tea and discussion of whatever is on people’s hearts and minds. \nAll welcome. \nFor more information please contact the church office.
URL:https://ringwoodknoxparish.org.au/event/mornings-with-pastor-peter-2/2028-10-23/
CATEGORIES:Bible Study,Fellowship,Good Shephered Retirement Village,Morning Tea,Parish,Ringwood
END:VEVENT
BEGIN:VEVENT
DTSTART;TZID=Australia/Melbourne:20281026T100000
DTEND;TZID=Australia/Melbourne:20281026T110000
DTSTAMP:20260426T014153
CREATED:20250604T082333Z
LAST-MODIFIED:20250604T082434Z
UID:10014199-1856167200-1856170800@ringwoodknoxparish.org.au
SUMMARY:Prayer Group @ Knox
DESCRIPTION:Prayer Group offer the opportunity to pray with others for concerns within our congregations\, as well as issues in the wider community & the needs of the world. At Our Saviour’s Knox\, we meet at 10am this time includes morning tea.
URL:https://ringwoodknoxparish.org.au/event/prayer-group-knox-2023-06-08-2-2/2028-10-26/
LOCATION:Our Saviour’s Lutheran Church\, 646 Burwood Hwy\, Knoxfield VIC 3180\, Australia
CATEGORIES:Fellowship,Knox,Parish,Prayer Group
GEO:-37.8764384;145.2568519
END:VEVENT
BEGIN:VEVENT
DTSTART;TZID=Australia/Melbourne:20281030T100000
DTEND;TZID=Australia/Melbourne:20281030T110000
DTSTAMP:20260426T014153
CREATED:20250604T082704Z
LAST-MODIFIED:20250604T082821Z
UID:10014464-1856512800-1856516400@ringwoodknoxparish.org.au
SUMMARY:Bible Study with Pastor Peter
DESCRIPTION:Every Monday morning in The Good Shepherd Retirement Village Residents Center from 10am to 11am. Pastor will look at the coming Sunday’s Bible readings or any topic you would like discussed. \nJoin him for morning tea and discussion of whatever is on people’s hearts and minds. \nAll welcome. \nFor more information please contact the church office.
URL:https://ringwoodknoxparish.org.au/event/mornings-with-pastor-peter-2/2028-10-30/
CATEGORIES:Bible Study,Fellowship,Good Shephered Retirement Village,Morning Tea,Parish,Ringwood
END:VEVENT
BEGIN:VEVENT
DTSTART;TZID=Australia/Melbourne:20281102T100000
DTEND;TZID=Australia/Melbourne:20281102T110000
DTSTAMP:20260426T014153
CREATED:20250604T082333Z
LAST-MODIFIED:20250604T082434Z
UID:10014200-1856772000-1856775600@ringwoodknoxparish.org.au
SUMMARY:Prayer Group @ Knox
DESCRIPTION:Prayer Group offer the opportunity to pray with others for concerns within our congregations\, as well as issues in the wider community & the needs of the world. At Our Saviour’s Knox\, we meet at 10am this time includes morning tea.
URL:https://ringwoodknoxparish.org.au/event/prayer-group-knox-2023-06-08-2-2/2028-11-02/
LOCATION:Our Saviour’s Lutheran Church\, 646 Burwood Hwy\, Knoxfield VIC 3180\, Australia
CATEGORIES:Fellowship,Knox,Parish,Prayer Group
GEO:-37.8764384;145.2568519
END:VEVENT
BEGIN:VEVENT
DTSTART;TZID=Australia/Melbourne:20281106T100000
DTEND;TZID=Australia/Melbourne:20281106T110000
DTSTAMP:20260426T014153
CREATED:20250604T082704Z
LAST-MODIFIED:20250604T082821Z
UID:10014465-1857117600-1857121200@ringwoodknoxparish.org.au
SUMMARY:Bible Study with Pastor Peter
DESCRIPTION:Every Monday morning in The Good Shepherd Retirement Village Residents Center from 10am to 11am. Pastor will look at the coming Sunday’s Bible readings or any topic you would like discussed. \nJoin him for morning tea and discussion of whatever is on people’s hearts and minds. \nAll welcome. \nFor more information please contact the church office.
URL:https://ringwoodknoxparish.org.au/event/mornings-with-pastor-peter-2/2028-11-06/
CATEGORIES:Bible Study,Fellowship,Good Shephered Retirement Village,Morning Tea,Parish,Ringwood
END:VEVENT
BEGIN:VEVENT
DTSTART;TZID=Australia/Melbourne:20281109T100000
DTEND;TZID=Australia/Melbourne:20281109T110000
DTSTAMP:20260426T014153
CREATED:20250604T082333Z
LAST-MODIFIED:20250604T082434Z
UID:10014201-1857376800-1857380400@ringwoodknoxparish.org.au
SUMMARY:Prayer Group @ Knox
DESCRIPTION:Prayer Group offer the opportunity to pray with others for concerns within our congregations\, as well as issues in the wider community & the needs of the world. At Our Saviour’s Knox\, we meet at 10am this time includes morning tea.
URL:https://ringwoodknoxparish.org.au/event/prayer-group-knox-2023-06-08-2-2/2028-11-09/
LOCATION:Our Saviour’s Lutheran Church\, 646 Burwood Hwy\, Knoxfield VIC 3180\, Australia
CATEGORIES:Fellowship,Knox,Parish,Prayer Group
GEO:-37.8764384;145.2568519
END:VEVENT
BEGIN:VEVENT
DTSTART;TZID=Australia/Melbourne:20281113T100000
DTEND;TZID=Australia/Melbourne:20281113T110000
DTSTAMP:20260426T014153
CREATED:20250604T082704Z
LAST-MODIFIED:20250604T082821Z
UID:10014466-1857722400-1857726000@ringwoodknoxparish.org.au
SUMMARY:Bible Study with Pastor Peter
DESCRIPTION:Every Monday morning in The Good Shepherd Retirement Village Residents Center from 10am to 11am. Pastor will look at the coming Sunday’s Bible readings or any topic you would like discussed. \nJoin him for morning tea and discussion of whatever is on people’s hearts and minds. \nAll welcome. \nFor more information please contact the church office.
URL:https://ringwoodknoxparish.org.au/event/mornings-with-pastor-peter-2/2028-11-13/
CATEGORIES:Bible Study,Fellowship,Good Shephered Retirement Village,Morning Tea,Parish,Ringwood
END:VEVENT
BEGIN:VEVENT
DTSTART;TZID=Australia/Melbourne:20281116T100000
DTEND;TZID=Australia/Melbourne:20281116T110000
DTSTAMP:20260426T014153
CREATED:20250604T082333Z
LAST-MODIFIED:20250604T082434Z
UID:10014202-1857981600-1857985200@ringwoodknoxparish.org.au
SUMMARY:Prayer Group @ Knox
DESCRIPTION:Prayer Group offer the opportunity to pray with others for concerns within our congregations\, as well as issues in the wider community & the needs of the world. At Our Saviour’s Knox\, we meet at 10am this time includes morning tea.
URL:https://ringwoodknoxparish.org.au/event/prayer-group-knox-2023-06-08-2-2/2028-11-16/
LOCATION:Our Saviour’s Lutheran Church\, 646 Burwood Hwy\, Knoxfield VIC 3180\, Australia
CATEGORIES:Fellowship,Knox,Parish,Prayer Group
GEO:-37.8764384;145.2568519
END:VEVENT
BEGIN:VEVENT
DTSTART;TZID=Australia/Melbourne:20281120T100000
DTEND;TZID=Australia/Melbourne:20281120T110000
DTSTAMP:20260426T014153
CREATED:20250604T082704Z
LAST-MODIFIED:20250604T082821Z
UID:10014467-1858327200-1858330800@ringwoodknoxparish.org.au
SUMMARY:Bible Study with Pastor Peter
DESCRIPTION:Every Monday morning in The Good Shepherd Retirement Village Residents Center from 10am to 11am. Pastor will look at the coming Sunday’s Bible readings or any topic you would like discussed. \nJoin him for morning tea and discussion of whatever is on people’s hearts and minds. \nAll welcome. \nFor more information please contact the church office.
URL:https://ringwoodknoxparish.org.au/event/mornings-with-pastor-peter-2/2028-11-20/
CATEGORIES:Bible Study,Fellowship,Good Shephered Retirement Village,Morning Tea,Parish,Ringwood
END:VEVENT
BEGIN:VEVENT
DTSTART;TZID=Australia/Melbourne:20281123T100000
DTEND;TZID=Australia/Melbourne:20281123T110000
DTSTAMP:20260426T014153
CREATED:20250604T082333Z
LAST-MODIFIED:20250604T082434Z
UID:10014203-1858586400-1858590000@ringwoodknoxparish.org.au
SUMMARY:Prayer Group @ Knox
DESCRIPTION:Prayer Group offer the opportunity to pray with others for concerns within our congregations\, as well as issues in the wider community & the needs of the world. At Our Saviour’s Knox\, we meet at 10am this time includes morning tea.
URL:https://ringwoodknoxparish.org.au/event/prayer-group-knox-2023-06-08-2-2/2028-11-23/
LOCATION:Our Saviour’s Lutheran Church\, 646 Burwood Hwy\, Knoxfield VIC 3180\, Australia
CATEGORIES:Fellowship,Knox,Parish,Prayer Group
GEO:-37.8764384;145.2568519
END:VEVENT
BEGIN:VEVENT
DTSTART;TZID=Australia/Melbourne:20281127T100000
DTEND;TZID=Australia/Melbourne:20281127T110000
DTSTAMP:20260426T014153
CREATED:20250604T082704Z
LAST-MODIFIED:20250604T082821Z
UID:10014468-1858932000-1858935600@ringwoodknoxparish.org.au
SUMMARY:Bible Study with Pastor Peter
DESCRIPTION:Every Monday morning in The Good Shepherd Retirement Village Residents Center from 10am to 11am. Pastor will look at the coming Sunday’s Bible readings or any topic you would like discussed. \nJoin him for morning tea and discussion of whatever is on people’s hearts and minds. \nAll welcome. \nFor more information please contact the church office.
URL:https://ringwoodknoxparish.org.au/event/mornings-with-pastor-peter-2/2028-11-27/
CATEGORIES:Bible Study,Fellowship,Good Shephered Retirement Village,Morning Tea,Parish,Ringwood
END:VEVENT
BEGIN:VEVENT
DTSTART;TZID=Australia/Melbourne:20281130T100000
DTEND;TZID=Australia/Melbourne:20281130T110000
DTSTAMP:20260426T014153
CREATED:20250604T082333Z
LAST-MODIFIED:20250604T082434Z
UID:10014204-1859191200-1859194800@ringwoodknoxparish.org.au
SUMMARY:Prayer Group @ Knox
DESCRIPTION:Prayer Group offer the opportunity to pray with others for concerns within our congregations\, as well as issues in the wider community & the needs of the world. At Our Saviour’s Knox\, we meet at 10am this time includes morning tea.
URL:https://ringwoodknoxparish.org.au/event/prayer-group-knox-2023-06-08-2-2/2028-11-30/
LOCATION:Our Saviour’s Lutheran Church\, 646 Burwood Hwy\, Knoxfield VIC 3180\, Australia
CATEGORIES:Fellowship,Knox,Parish,Prayer Group
GEO:-37.8764384;145.2568519
END:VEVENT
BEGIN:VEVENT
DTSTART;TZID=Australia/Melbourne:20281204T100000
DTEND;TZID=Australia/Melbourne:20281204T110000
DTSTAMP:20260426T014153
CREATED:20250604T082704Z
LAST-MODIFIED:20250604T082821Z
UID:10014469-1859536800-1859540400@ringwoodknoxparish.org.au
SUMMARY:Bible Study with Pastor Peter
DESCRIPTION:Every Monday morning in The Good Shepherd Retirement Village Residents Center from 10am to 11am. Pastor will look at the coming Sunday’s Bible readings or any topic you would like discussed. \nJoin him for morning tea and discussion of whatever is on people’s hearts and minds. \nAll welcome. \nFor more information please contact the church office.
URL:https://ringwoodknoxparish.org.au/event/mornings-with-pastor-peter-2/2028-12-04/
CATEGORIES:Bible Study,Fellowship,Good Shephered Retirement Village,Morning Tea,Parish,Ringwood
END:VEVENT
BEGIN:VEVENT
DTSTART;TZID=Australia/Melbourne:20281207T100000
DTEND;TZID=Australia/Melbourne:20281207T110000
DTSTAMP:20260426T014153
CREATED:20250604T082333Z
LAST-MODIFIED:20250604T082434Z
UID:10014205-1859796000-1859799600@ringwoodknoxparish.org.au
SUMMARY:Prayer Group @ Knox
DESCRIPTION:Prayer Group offer the opportunity to pray with others for concerns within our congregations\, as well as issues in the wider community & the needs of the world. At Our Saviour’s Knox\, we meet at 10am this time includes morning tea.
URL:https://ringwoodknoxparish.org.au/event/prayer-group-knox-2023-06-08-2-2/2028-12-07/
LOCATION:Our Saviour’s Lutheran Church\, 646 Burwood Hwy\, Knoxfield VIC 3180\, Australia
CATEGORIES:Fellowship,Knox,Parish,Prayer Group
GEO:-37.8764384;145.2568519
END:VEVENT
BEGIN:VEVENT
DTSTART;TZID=Australia/Melbourne:20281211T100000
DTEND;TZID=Australia/Melbourne:20281211T110000
DTSTAMP:20260426T014153
CREATED:20250604T082704Z
LAST-MODIFIED:20250604T082821Z
UID:10014470-1860141600-1860145200@ringwoodknoxparish.org.au
SUMMARY:Bible Study with Pastor Peter
DESCRIPTION:Every Monday morning in The Good Shepherd Retirement Village Residents Center from 10am to 11am. Pastor will look at the coming Sunday’s Bible readings or any topic you would like discussed. \nJoin him for morning tea and discussion of whatever is on people’s hearts and minds. \nAll welcome. \nFor more information please contact the church office.
URL:https://ringwoodknoxparish.org.au/event/mornings-with-pastor-peter-2/2028-12-11/
CATEGORIES:Bible Study,Fellowship,Good Shephered Retirement Village,Morning Tea,Parish,Ringwood
END:VEVENT
BEGIN:VEVENT
DTSTART;TZID=Australia/Melbourne:20281214T100000
DTEND;TZID=Australia/Melbourne:20281214T110000
DTSTAMP:20260426T014153
CREATED:20250604T082333Z
LAST-MODIFIED:20250604T082434Z
UID:10014206-1860400800-1860404400@ringwoodknoxparish.org.au
SUMMARY:Prayer Group @ Knox
DESCRIPTION:Prayer Group offer the opportunity to pray with others for concerns within our congregations\, as well as issues in the wider community & the needs of the world. At Our Saviour’s Knox\, we meet at 10am this time includes morning tea.
URL:https://ringwoodknoxparish.org.au/event/prayer-group-knox-2023-06-08-2-2/2028-12-14/
LOCATION:Our Saviour’s Lutheran Church\, 646 Burwood Hwy\, Knoxfield VIC 3180\, Australia
CATEGORIES:Fellowship,Knox,Parish,Prayer Group
GEO:-37.8764384;145.2568519
END:VEVENT
BEGIN:VEVENT
DTSTART;TZID=Australia/Melbourne:20281218T100000
DTEND;TZID=Australia/Melbourne:20281218T110000
DTSTAMP:20260426T014153
CREATED:20250604T082704Z
LAST-MODIFIED:20250604T082821Z
UID:10014471-1860746400-1860750000@ringwoodknoxparish.org.au
SUMMARY:Bible Study with Pastor Peter
DESCRIPTION:Every Monday morning in The Good Shepherd Retirement Village Residents Center from 10am to 11am. Pastor will look at the coming Sunday’s Bible readings or any topic you would like discussed. \nJoin him for morning tea and discussion of whatever is on people’s hearts and minds. \nAll welcome. \nFor more information please contact the church office.
URL:https://ringwoodknoxparish.org.au/event/mornings-with-pastor-peter-2/2028-12-18/
CATEGORIES:Bible Study,Fellowship,Good Shephered Retirement Village,Morning Tea,Parish,Ringwood
END:VEVENT
BEGIN:VEVENT
DTSTART;TZID=Australia/Melbourne:20281221T100000
DTEND;TZID=Australia/Melbourne:20281221T110000
DTSTAMP:20260426T014153
CREATED:20250604T082333Z
LAST-MODIFIED:20250604T082434Z
UID:10014207-1861005600-1861009200@ringwoodknoxparish.org.au
SUMMARY:Prayer Group @ Knox
DESCRIPTION:Prayer Group offer the opportunity to pray with others for concerns within our congregations\, as well as issues in the wider community & the needs of the world. At Our Saviour’s Knox\, we meet at 10am this time includes morning tea.
URL:https://ringwoodknoxparish.org.au/event/prayer-group-knox-2023-06-08-2-2/2028-12-21/
LOCATION:Our Saviour’s Lutheran Church\, 646 Burwood Hwy\, Knoxfield VIC 3180\, Australia
CATEGORIES:Fellowship,Knox,Parish,Prayer Group
GEO:-37.8764384;145.2568519
END:VEVENT
BEGIN:VEVENT
DTSTART;TZID=Australia/Melbourne:20281225T100000
DTEND;TZID=Australia/Melbourne:20281225T110000
DTSTAMP:20260426T014153
CREATED:20250604T082704Z
LAST-MODIFIED:20250604T082821Z
UID:10014472-1861351200-1861354800@ringwoodknoxparish.org.au
SUMMARY:Bible Study with Pastor Peter
DESCRIPTION:Every Monday morning in The Good Shepherd Retirement Village Residents Center from 10am to 11am. Pastor will look at the coming Sunday’s Bible readings or any topic you would like discussed. \nJoin him for morning tea and discussion of whatever is on people’s hearts and minds. \nAll welcome. \nFor more information please contact the church office.
URL:https://ringwoodknoxparish.org.au/event/mornings-with-pastor-peter-2/2028-12-25/
CATEGORIES:Bible Study,Fellowship,Good Shephered Retirement Village,Morning Tea,Parish,Ringwood
END:VEVENT
BEGIN:VEVENT
DTSTART;TZID=Australia/Melbourne:20281228T100000
DTEND;TZID=Australia/Melbourne:20281228T110000
DTSTAMP:20260426T014153
CREATED:20250604T082333Z
LAST-MODIFIED:20250604T082434Z
UID:10014208-1861610400-1861614000@ringwoodknoxparish.org.au
SUMMARY:Prayer Group @ Knox
DESCRIPTION:Prayer Group offer the opportunity to pray with others for concerns within our congregations\, as well as issues in the wider community & the needs of the world. At Our Saviour’s Knox\, we meet at 10am this time includes morning tea.
URL:https://ringwoodknoxparish.org.au/event/prayer-group-knox-2023-06-08-2-2/2028-12-28/
LOCATION:Our Saviour’s Lutheran Church\, 646 Burwood Hwy\, Knoxfield VIC 3180\, Australia
CATEGORIES:Fellowship,Knox,Parish,Prayer Group
GEO:-37.8764384;145.2568519
END:VEVENT
BEGIN:VEVENT
DTSTART;TZID=Australia/Melbourne:20290101T100000
DTEND;TZID=Australia/Melbourne:20290101T110000
DTSTAMP:20260426T014153
CREATED:20250604T082704Z
LAST-MODIFIED:20250604T082821Z
UID:10014473-1861956000-1861959600@ringwoodknoxparish.org.au
SUMMARY:Bible Study with Pastor Peter
DESCRIPTION:Every Monday morning in The Good Shepherd Retirement Village Residents Center from 10am to 11am. Pastor will look at the coming Sunday’s Bible readings or any topic you would like discussed. \nJoin him for morning tea and discussion of whatever is on people’s hearts and minds. \nAll welcome. \nFor more information please contact the church office.
URL:https://ringwoodknoxparish.org.au/event/mornings-with-pastor-peter-2/2029-01-01/
CATEGORIES:Bible Study,Fellowship,Good Shephered Retirement Village,Morning Tea,Parish,Ringwood
END:VEVENT
BEGIN:VEVENT
DTSTART;TZID=Australia/Melbourne:20290104T100000
DTEND;TZID=Australia/Melbourne:20290104T110000
DTSTAMP:20260426T014153
CREATED:20250604T082333Z
LAST-MODIFIED:20250604T082434Z
UID:10014209-1862215200-1862218800@ringwoodknoxparish.org.au
SUMMARY:Prayer Group @ Knox
DESCRIPTION:Prayer Group offer the opportunity to pray with others for concerns within our congregations\, as well as issues in the wider community & the needs of the world. At Our Saviour’s Knox\, we meet at 10am this time includes morning tea.
URL:https://ringwoodknoxparish.org.au/event/prayer-group-knox-2023-06-08-2-2/2029-01-04/
LOCATION:Our Saviour’s Lutheran Church\, 646 Burwood Hwy\, Knoxfield VIC 3180\, Australia
CATEGORIES:Fellowship,Knox,Parish,Prayer Group
GEO:-37.8764384;145.2568519
END:VEVENT
BEGIN:VEVENT
DTSTART;TZID=Australia/Melbourne:20290108T100000
DTEND;TZID=Australia/Melbourne:20290108T110000
DTSTAMP:20260426T014153
CREATED:20250604T082704Z
LAST-MODIFIED:20250604T082821Z
UID:10014474-1862560800-1862564400@ringwoodknoxparish.org.au
SUMMARY:Bible Study with Pastor Peter
DESCRIPTION:Every Monday morning in The Good Shepherd Retirement Village Residents Center from 10am to 11am. Pastor will look at the coming Sunday’s Bible readings or any topic you would like discussed. \nJoin him for morning tea and discussion of whatever is on people’s hearts and minds. \nAll welcome. \nFor more information please contact the church office.
URL:https://ringwoodknoxparish.org.au/event/mornings-with-pastor-peter-2/2029-01-08/
CATEGORIES:Bible Study,Fellowship,Good Shephered Retirement Village,Morning Tea,Parish,Ringwood
END:VEVENT
BEGIN:VEVENT
DTSTART;TZID=Australia/Melbourne:20290111T100000
DTEND;TZID=Australia/Melbourne:20290111T110000
DTSTAMP:20260426T014153
CREATED:20250604T082333Z
LAST-MODIFIED:20250604T082434Z
UID:10014210-1862820000-1862823600@ringwoodknoxparish.org.au
SUMMARY:Prayer Group @ Knox
DESCRIPTION:Prayer Group offer the opportunity to pray with others for concerns within our congregations\, as well as issues in the wider community & the needs of the world. At Our Saviour’s Knox\, we meet at 10am this time includes morning tea.
URL:https://ringwoodknoxparish.org.au/event/prayer-group-knox-2023-06-08-2-2/2029-01-11/
LOCATION:Our Saviour’s Lutheran Church\, 646 Burwood Hwy\, Knoxfield VIC 3180\, Australia
CATEGORIES:Fellowship,Knox,Parish,Prayer Group
GEO:-37.8764384;145.2568519
END:VEVENT
BEGIN:VEVENT
DTSTART;TZID=Australia/Melbourne:20290115T100000
DTEND;TZID=Australia/Melbourne:20290115T110000
DTSTAMP:20260426T014153
CREATED:20250604T082704Z
LAST-MODIFIED:20250604T082821Z
UID:10014475-1863165600-1863169200@ringwoodknoxparish.org.au
SUMMARY:Bible Study with Pastor Peter
DESCRIPTION:Every Monday morning in The Good Shepherd Retirement Village Residents Center from 10am to 11am. Pastor will look at the coming Sunday’s Bible readings or any topic you would like discussed. \nJoin him for morning tea and discussion of whatever is on people’s hearts and minds. \nAll welcome. \nFor more information please contact the church office.
URL:https://ringwoodknoxparish.org.au/event/mornings-with-pastor-peter-2/2029-01-15/
CATEGORIES:Bible Study,Fellowship,Good Shephered Retirement Village,Morning Tea,Parish,Ringwood
END:VEVENT
BEGIN:VEVENT
DTSTART;TZID=Australia/Melbourne:20290118T100000
DTEND;TZID=Australia/Melbourne:20290118T110000
DTSTAMP:20260426T014153
CREATED:20250604T082333Z
LAST-MODIFIED:20250604T082434Z
UID:10014211-1863424800-1863428400@ringwoodknoxparish.org.au
SUMMARY:Prayer Group @ Knox
DESCRIPTION:Prayer Group offer the opportunity to pray with others for concerns within our congregations\, as well as issues in the wider community & the needs of the world. At Our Saviour’s Knox\, we meet at 10am this time includes morning tea.
URL:https://ringwoodknoxparish.org.au/event/prayer-group-knox-2023-06-08-2-2/2029-01-18/
LOCATION:Our Saviour’s Lutheran Church\, 646 Burwood Hwy\, Knoxfield VIC 3180\, Australia
CATEGORIES:Fellowship,Knox,Parish,Prayer Group
GEO:-37.8764384;145.2568519
END:VEVENT
END:VCALENDAR