BEGIN:VCALENDAR
VERSION:2.0
PRODID:-//Ringwood Knox Parish - ECPv6.8.1//NONSGML v1.0//EN
CALSCALE:GREGORIAN
METHOD:PUBLISH
X-WR-CALNAME:Ringwood Knox Parish
X-ORIGINAL-URL:https://ringwoodknoxparish.org.au
X-WR-CALDESC:Events for Ringwood Knox Parish
REFRESH-INTERVAL;VALUE=DURATION:PT1H
X-Robots-Tag:noindex
X-PUBLISHED-TTL:PT1H
BEGIN:VTIMEZONE
TZID:Australia/Melbourne
BEGIN:STANDARD
TZOFFSETFROM:+1100
TZOFFSETTO:+1000
TZNAME:AEST
DTSTART:20260404T160000
END:STANDARD
BEGIN:DAYLIGHT
TZOFFSETFROM:+1000
TZOFFSETTO:+1100
TZNAME:AEDT
DTSTART:20261003T160000
END:DAYLIGHT
BEGIN:STANDARD
TZOFFSETFROM:+1100
TZOFFSETTO:+1000
TZNAME:AEST
DTSTART:20270403T160000
END:STANDARD
BEGIN:DAYLIGHT
TZOFFSETFROM:+1000
TZOFFSETTO:+1100
TZNAME:AEDT
DTSTART:20271002T160000
END:DAYLIGHT
END:VTIMEZONE
BEGIN:VEVENT
DTSTART;TZID=Australia/Melbourne:20261224T100000
DTEND;TZID=Australia/Melbourne:20261224T110000
DTSTAMP:20260422T203734
CREATED:20250604T082333Z
LAST-MODIFIED:20250604T082434Z
UID:10014103-1798106400-1798110000@ringwoodknoxparish.org.au
SUMMARY:Prayer Group @ Knox
DESCRIPTION:Prayer Group offer the opportunity to pray with others for concerns within our congregations\, as well as issues in the wider community & the needs of the world. At Our Saviour’s Knox\, we meet at 10am this time includes morning tea.
URL:https://ringwoodknoxparish.org.au/event/prayer-group-knox-2023-06-08-2-2/2026-12-24/
LOCATION:Our Saviour’s Lutheran Church\, 646 Burwood Hwy\, Knoxfield VIC 3180\, Australia
CATEGORIES:Fellowship,Knox,Parish,Prayer Group
GEO:-37.8764384;145.2568519
END:VEVENT
BEGIN:VEVENT
DTSTART;TZID=Australia/Melbourne:20261231T100000
DTEND;TZID=Australia/Melbourne:20261231T110000
DTSTAMP:20260422T203734
CREATED:20250604T082333Z
LAST-MODIFIED:20250604T082434Z
UID:10014104-1798711200-1798714800@ringwoodknoxparish.org.au
SUMMARY:Prayer Group @ Knox
DESCRIPTION:Prayer Group offer the opportunity to pray with others for concerns within our congregations\, as well as issues in the wider community & the needs of the world. At Our Saviour’s Knox\, we meet at 10am this time includes morning tea.
URL:https://ringwoodknoxparish.org.au/event/prayer-group-knox-2023-06-08-2-2/2026-12-31/
LOCATION:Our Saviour’s Lutheran Church\, 646 Burwood Hwy\, Knoxfield VIC 3180\, Australia
CATEGORIES:Fellowship,Knox,Parish,Prayer Group
GEO:-37.8764384;145.2568519
END:VEVENT
BEGIN:VEVENT
DTSTART;TZID=Australia/Melbourne:20270103T110000
DTEND;TZID=Australia/Melbourne:20270103T120000
DTSTAMP:20260422T203734
CREATED:20250604T081308Z
LAST-MODIFIED:20250604T081308Z
UID:10013922-1798974000-1798977600@ringwoodknoxparish.org.au
SUMMARY:Worship at Knox
DESCRIPTION:Please join us for Sundays at 11am as we gather for worship. Services follow the themes of the church year\, providing a regular pattern of subjects for meditation & celebration. There is a Children’s Address as part of each worship service. Worship reinforces our bond with God\, strengthens our bonds with each other\, & inspires us to go out into the world to serve God by caring for each other & for His creation.\nWe encourage all ages to be involved in worship\, plenty of singing\, & visual art for meditation.
URL:https://ringwoodknoxparish.org.au/event/worship-at-knox-2/2027-01-03/
CATEGORIES:Knox,Parish
END:VEVENT
BEGIN:VEVENT
DTSTART;TZID=Australia/Melbourne:20270107T100000
DTEND;TZID=Australia/Melbourne:20270107T110000
DTSTAMP:20260422T203734
CREATED:20250604T082333Z
LAST-MODIFIED:20250604T082434Z
UID:10014105-1799316000-1799319600@ringwoodknoxparish.org.au
SUMMARY:Prayer Group @ Knox
DESCRIPTION:Prayer Group offer the opportunity to pray with others for concerns within our congregations\, as well as issues in the wider community & the needs of the world. At Our Saviour’s Knox\, we meet at 10am this time includes morning tea.
URL:https://ringwoodknoxparish.org.au/event/prayer-group-knox-2023-06-08-2-2/2027-01-07/
LOCATION:Our Saviour’s Lutheran Church\, 646 Burwood Hwy\, Knoxfield VIC 3180\, Australia
CATEGORIES:Fellowship,Knox,Parish,Prayer Group
GEO:-37.8764384;145.2568519
END:VEVENT
BEGIN:VEVENT
DTSTART;TZID=Australia/Melbourne:20270110T110000
DTEND;TZID=Australia/Melbourne:20270110T120000
DTSTAMP:20260422T203734
CREATED:20250604T081308Z
LAST-MODIFIED:20250604T081308Z
UID:10013923-1799578800-1799582400@ringwoodknoxparish.org.au
SUMMARY:Worship at Knox
DESCRIPTION:Please join us for Sundays at 11am as we gather for worship. Services follow the themes of the church year\, providing a regular pattern of subjects for meditation & celebration. There is a Children’s Address as part of each worship service. Worship reinforces our bond with God\, strengthens our bonds with each other\, & inspires us to go out into the world to serve God by caring for each other & for His creation.\nWe encourage all ages to be involved in worship\, plenty of singing\, & visual art for meditation.
URL:https://ringwoodknoxparish.org.au/event/worship-at-knox-2/2027-01-10/
CATEGORIES:Knox,Parish
END:VEVENT
BEGIN:VEVENT
DTSTART;TZID=Australia/Melbourne:20270114T100000
DTEND;TZID=Australia/Melbourne:20270114T110000
DTSTAMP:20260422T203734
CREATED:20250604T082333Z
LAST-MODIFIED:20250604T082434Z
UID:10014106-1799920800-1799924400@ringwoodknoxparish.org.au
SUMMARY:Prayer Group @ Knox
DESCRIPTION:Prayer Group offer the opportunity to pray with others for concerns within our congregations\, as well as issues in the wider community & the needs of the world. At Our Saviour’s Knox\, we meet at 10am this time includes morning tea.
URL:https://ringwoodknoxparish.org.au/event/prayer-group-knox-2023-06-08-2-2/2027-01-14/
LOCATION:Our Saviour’s Lutheran Church\, 646 Burwood Hwy\, Knoxfield VIC 3180\, Australia
CATEGORIES:Fellowship,Knox,Parish,Prayer Group
GEO:-37.8764384;145.2568519
END:VEVENT
BEGIN:VEVENT
DTSTART;TZID=Australia/Melbourne:20270117T110000
DTEND;TZID=Australia/Melbourne:20270117T120000
DTSTAMP:20260422T203734
CREATED:20250604T081308Z
LAST-MODIFIED:20250604T081308Z
UID:10013924-1800183600-1800187200@ringwoodknoxparish.org.au
SUMMARY:Worship at Knox
DESCRIPTION:Please join us for Sundays at 11am as we gather for worship. Services follow the themes of the church year\, providing a regular pattern of subjects for meditation & celebration. There is a Children’s Address as part of each worship service. Worship reinforces our bond with God\, strengthens our bonds with each other\, & inspires us to go out into the world to serve God by caring for each other & for His creation.\nWe encourage all ages to be involved in worship\, plenty of singing\, & visual art for meditation.
URL:https://ringwoodknoxparish.org.au/event/worship-at-knox-2/2027-01-17/
CATEGORIES:Knox,Parish
END:VEVENT
BEGIN:VEVENT
DTSTART;TZID=Australia/Melbourne:20270121T100000
DTEND;TZID=Australia/Melbourne:20270121T110000
DTSTAMP:20260422T203734
CREATED:20250604T082333Z
LAST-MODIFIED:20250604T082434Z
UID:10014107-1800525600-1800529200@ringwoodknoxparish.org.au
SUMMARY:Prayer Group @ Knox
DESCRIPTION:Prayer Group offer the opportunity to pray with others for concerns within our congregations\, as well as issues in the wider community & the needs of the world. At Our Saviour’s Knox\, we meet at 10am this time includes morning tea.
URL:https://ringwoodknoxparish.org.au/event/prayer-group-knox-2023-06-08-2-2/2027-01-21/
LOCATION:Our Saviour’s Lutheran Church\, 646 Burwood Hwy\, Knoxfield VIC 3180\, Australia
CATEGORIES:Fellowship,Knox,Parish,Prayer Group
GEO:-37.8764384;145.2568519
END:VEVENT
BEGIN:VEVENT
DTSTART;TZID=Australia/Melbourne:20270124T110000
DTEND;TZID=Australia/Melbourne:20270124T120000
DTSTAMP:20260422T203734
CREATED:20250604T081308Z
LAST-MODIFIED:20250604T081308Z
UID:10013925-1800788400-1800792000@ringwoodknoxparish.org.au
SUMMARY:Worship at Knox
DESCRIPTION:Please join us for Sundays at 11am as we gather for worship. Services follow the themes of the church year\, providing a regular pattern of subjects for meditation & celebration. There is a Children’s Address as part of each worship service. Worship reinforces our bond with God\, strengthens our bonds with each other\, & inspires us to go out into the world to serve God by caring for each other & for His creation.\nWe encourage all ages to be involved in worship\, plenty of singing\, & visual art for meditation.
URL:https://ringwoodknoxparish.org.au/event/worship-at-knox-2/2027-01-24/
CATEGORIES:Knox,Parish
END:VEVENT
BEGIN:VEVENT
DTSTART;TZID=Australia/Melbourne:20270128T100000
DTEND;TZID=Australia/Melbourne:20270128T110000
DTSTAMP:20260422T203734
CREATED:20250604T082333Z
LAST-MODIFIED:20250604T082434Z
UID:10014108-1801130400-1801134000@ringwoodknoxparish.org.au
SUMMARY:Prayer Group @ Knox
DESCRIPTION:Prayer Group offer the opportunity to pray with others for concerns within our congregations\, as well as issues in the wider community & the needs of the world. At Our Saviour’s Knox\, we meet at 10am this time includes morning tea.
URL:https://ringwoodknoxparish.org.au/event/prayer-group-knox-2023-06-08-2-2/2027-01-28/
LOCATION:Our Saviour’s Lutheran Church\, 646 Burwood Hwy\, Knoxfield VIC 3180\, Australia
CATEGORIES:Fellowship,Knox,Parish,Prayer Group
GEO:-37.8764384;145.2568519
END:VEVENT
BEGIN:VEVENT
DTSTART;TZID=Australia/Melbourne:20270131T110000
DTEND;TZID=Australia/Melbourne:20270131T120000
DTSTAMP:20260422T203734
CREATED:20250604T081308Z
LAST-MODIFIED:20250604T081308Z
UID:10013926-1801393200-1801396800@ringwoodknoxparish.org.au
SUMMARY:Worship at Knox
DESCRIPTION:Please join us for Sundays at 11am as we gather for worship. Services follow the themes of the church year\, providing a regular pattern of subjects for meditation & celebration. There is a Children’s Address as part of each worship service. Worship reinforces our bond with God\, strengthens our bonds with each other\, & inspires us to go out into the world to serve God by caring for each other & for His creation.\nWe encourage all ages to be involved in worship\, plenty of singing\, & visual art for meditation.
URL:https://ringwoodknoxparish.org.au/event/worship-at-knox-2/2027-01-31/
CATEGORIES:Knox,Parish
END:VEVENT
BEGIN:VEVENT
DTSTART;TZID=Australia/Melbourne:20270204T100000
DTEND;TZID=Australia/Melbourne:20270204T110000
DTSTAMP:20260422T203734
CREATED:20250604T082333Z
LAST-MODIFIED:20250604T082434Z
UID:10014109-1801735200-1801738800@ringwoodknoxparish.org.au
SUMMARY:Prayer Group @ Knox
DESCRIPTION:Prayer Group offer the opportunity to pray with others for concerns within our congregations\, as well as issues in the wider community & the needs of the world. At Our Saviour’s Knox\, we meet at 10am this time includes morning tea.
URL:https://ringwoodknoxparish.org.au/event/prayer-group-knox-2023-06-08-2-2/2027-02-04/
LOCATION:Our Saviour’s Lutheran Church\, 646 Burwood Hwy\, Knoxfield VIC 3180\, Australia
CATEGORIES:Fellowship,Knox,Parish,Prayer Group
GEO:-37.8764384;145.2568519
END:VEVENT
BEGIN:VEVENT
DTSTART;TZID=Australia/Melbourne:20270207T110000
DTEND;TZID=Australia/Melbourne:20270207T120000
DTSTAMP:20260422T203734
CREATED:20250604T081308Z
LAST-MODIFIED:20250604T081308Z
UID:10013927-1801998000-1802001600@ringwoodknoxparish.org.au
SUMMARY:Worship at Knox
DESCRIPTION:Please join us for Sundays at 11am as we gather for worship. Services follow the themes of the church year\, providing a regular pattern of subjects for meditation & celebration. There is a Children’s Address as part of each worship service. Worship reinforces our bond with God\, strengthens our bonds with each other\, & inspires us to go out into the world to serve God by caring for each other & for His creation.\nWe encourage all ages to be involved in worship\, plenty of singing\, & visual art for meditation.
URL:https://ringwoodknoxparish.org.au/event/worship-at-knox-2/2027-02-07/
CATEGORIES:Knox,Parish
END:VEVENT
BEGIN:VEVENT
DTSTART;TZID=Australia/Melbourne:20270211T100000
DTEND;TZID=Australia/Melbourne:20270211T110000
DTSTAMP:20260422T203734
CREATED:20250604T082333Z
LAST-MODIFIED:20250604T082434Z
UID:10014110-1802340000-1802343600@ringwoodknoxparish.org.au
SUMMARY:Prayer Group @ Knox
DESCRIPTION:Prayer Group offer the opportunity to pray with others for concerns within our congregations\, as well as issues in the wider community & the needs of the world. At Our Saviour’s Knox\, we meet at 10am this time includes morning tea.
URL:https://ringwoodknoxparish.org.au/event/prayer-group-knox-2023-06-08-2-2/2027-02-11/
LOCATION:Our Saviour’s Lutheran Church\, 646 Burwood Hwy\, Knoxfield VIC 3180\, Australia
CATEGORIES:Fellowship,Knox,Parish,Prayer Group
GEO:-37.8764384;145.2568519
END:VEVENT
BEGIN:VEVENT
DTSTART;TZID=Australia/Melbourne:20270214T110000
DTEND;TZID=Australia/Melbourne:20270214T120000
DTSTAMP:20260422T203734
CREATED:20250604T081308Z
LAST-MODIFIED:20250604T081308Z
UID:10013928-1802602800-1802606400@ringwoodknoxparish.org.au
SUMMARY:Worship at Knox
DESCRIPTION:Please join us for Sundays at 11am as we gather for worship. Services follow the themes of the church year\, providing a regular pattern of subjects for meditation & celebration. There is a Children’s Address as part of each worship service. Worship reinforces our bond with God\, strengthens our bonds with each other\, & inspires us to go out into the world to serve God by caring for each other & for His creation.\nWe encourage all ages to be involved in worship\, plenty of singing\, & visual art for meditation.
URL:https://ringwoodknoxparish.org.au/event/worship-at-knox-2/2027-02-14/
CATEGORIES:Knox,Parish
END:VEVENT
BEGIN:VEVENT
DTSTART;TZID=Australia/Melbourne:20270218T100000
DTEND;TZID=Australia/Melbourne:20270218T110000
DTSTAMP:20260422T203734
CREATED:20250604T082333Z
LAST-MODIFIED:20250604T082434Z
UID:10014111-1802944800-1802948400@ringwoodknoxparish.org.au
SUMMARY:Prayer Group @ Knox
DESCRIPTION:Prayer Group offer the opportunity to pray with others for concerns within our congregations\, as well as issues in the wider community & the needs of the world. At Our Saviour’s Knox\, we meet at 10am this time includes morning tea.
URL:https://ringwoodknoxparish.org.au/event/prayer-group-knox-2023-06-08-2-2/2027-02-18/
LOCATION:Our Saviour’s Lutheran Church\, 646 Burwood Hwy\, Knoxfield VIC 3180\, Australia
CATEGORIES:Fellowship,Knox,Parish,Prayer Group
GEO:-37.8764384;145.2568519
END:VEVENT
BEGIN:VEVENT
DTSTART;TZID=Australia/Melbourne:20270221T110000
DTEND;TZID=Australia/Melbourne:20270221T120000
DTSTAMP:20260422T203734
CREATED:20250604T081308Z
LAST-MODIFIED:20250604T081308Z
UID:10013929-1803207600-1803211200@ringwoodknoxparish.org.au
SUMMARY:Worship at Knox
DESCRIPTION:Please join us for Sundays at 11am as we gather for worship. Services follow the themes of the church year\, providing a regular pattern of subjects for meditation & celebration. There is a Children’s Address as part of each worship service. Worship reinforces our bond with God\, strengthens our bonds with each other\, & inspires us to go out into the world to serve God by caring for each other & for His creation.\nWe encourage all ages to be involved in worship\, plenty of singing\, & visual art for meditation.
URL:https://ringwoodknoxparish.org.au/event/worship-at-knox-2/2027-02-21/
CATEGORIES:Knox,Parish
END:VEVENT
BEGIN:VEVENT
DTSTART;TZID=Australia/Melbourne:20270225T100000
DTEND;TZID=Australia/Melbourne:20270225T110000
DTSTAMP:20260422T203734
CREATED:20250604T082333Z
LAST-MODIFIED:20250604T082434Z
UID:10014112-1803549600-1803553200@ringwoodknoxparish.org.au
SUMMARY:Prayer Group @ Knox
DESCRIPTION:Prayer Group offer the opportunity to pray with others for concerns within our congregations\, as well as issues in the wider community & the needs of the world. At Our Saviour’s Knox\, we meet at 10am this time includes morning tea.
URL:https://ringwoodknoxparish.org.au/event/prayer-group-knox-2023-06-08-2-2/2027-02-25/
LOCATION:Our Saviour’s Lutheran Church\, 646 Burwood Hwy\, Knoxfield VIC 3180\, Australia
CATEGORIES:Fellowship,Knox,Parish,Prayer Group
GEO:-37.8764384;145.2568519
END:VEVENT
BEGIN:VEVENT
DTSTART;TZID=Australia/Melbourne:20270228T110000
DTEND;TZID=Australia/Melbourne:20270228T120000
DTSTAMP:20260422T203734
CREATED:20250604T081308Z
LAST-MODIFIED:20250604T081308Z
UID:10013930-1803812400-1803816000@ringwoodknoxparish.org.au
SUMMARY:Worship at Knox
DESCRIPTION:Please join us for Sundays at 11am as we gather for worship. Services follow the themes of the church year\, providing a regular pattern of subjects for meditation & celebration. There is a Children’s Address as part of each worship service. Worship reinforces our bond with God\, strengthens our bonds with each other\, & inspires us to go out into the world to serve God by caring for each other & for His creation.\nWe encourage all ages to be involved in worship\, plenty of singing\, & visual art for meditation.
URL:https://ringwoodknoxparish.org.au/event/worship-at-knox-2/2027-02-28/
CATEGORIES:Knox,Parish
END:VEVENT
BEGIN:VEVENT
DTSTART;TZID=Australia/Melbourne:20270304T100000
DTEND;TZID=Australia/Melbourne:20270304T110000
DTSTAMP:20260422T203734
CREATED:20250604T082333Z
LAST-MODIFIED:20250604T082434Z
UID:10014113-1804154400-1804158000@ringwoodknoxparish.org.au
SUMMARY:Prayer Group @ Knox
DESCRIPTION:Prayer Group offer the opportunity to pray with others for concerns within our congregations\, as well as issues in the wider community & the needs of the world. At Our Saviour’s Knox\, we meet at 10am this time includes morning tea.
URL:https://ringwoodknoxparish.org.au/event/prayer-group-knox-2023-06-08-2-2/2027-03-04/
LOCATION:Our Saviour’s Lutheran Church\, 646 Burwood Hwy\, Knoxfield VIC 3180\, Australia
CATEGORIES:Fellowship,Knox,Parish,Prayer Group
GEO:-37.8764384;145.2568519
END:VEVENT
BEGIN:VEVENT
DTSTART;TZID=Australia/Melbourne:20270307T110000
DTEND;TZID=Australia/Melbourne:20270307T120000
DTSTAMP:20260422T203734
CREATED:20250604T081308Z
LAST-MODIFIED:20250604T081308Z
UID:10013931-1804417200-1804420800@ringwoodknoxparish.org.au
SUMMARY:Worship at Knox
DESCRIPTION:Please join us for Sundays at 11am as we gather for worship. Services follow the themes of the church year\, providing a regular pattern of subjects for meditation & celebration. There is a Children’s Address as part of each worship service. Worship reinforces our bond with God\, strengthens our bonds with each other\, & inspires us to go out into the world to serve God by caring for each other & for His creation.\nWe encourage all ages to be involved in worship\, plenty of singing\, & visual art for meditation.
URL:https://ringwoodknoxparish.org.au/event/worship-at-knox-2/2027-03-07/
CATEGORIES:Knox,Parish
END:VEVENT
BEGIN:VEVENT
DTSTART;TZID=Australia/Melbourne:20270311T100000
DTEND;TZID=Australia/Melbourne:20270311T110000
DTSTAMP:20260422T203734
CREATED:20250604T082333Z
LAST-MODIFIED:20250604T082434Z
UID:10014114-1804759200-1804762800@ringwoodknoxparish.org.au
SUMMARY:Prayer Group @ Knox
DESCRIPTION:Prayer Group offer the opportunity to pray with others for concerns within our congregations\, as well as issues in the wider community & the needs of the world. At Our Saviour’s Knox\, we meet at 10am this time includes morning tea.
URL:https://ringwoodknoxparish.org.au/event/prayer-group-knox-2023-06-08-2-2/2027-03-11/
LOCATION:Our Saviour’s Lutheran Church\, 646 Burwood Hwy\, Knoxfield VIC 3180\, Australia
CATEGORIES:Fellowship,Knox,Parish,Prayer Group
GEO:-37.8764384;145.2568519
END:VEVENT
BEGIN:VEVENT
DTSTART;TZID=Australia/Melbourne:20270314T110000
DTEND;TZID=Australia/Melbourne:20270314T120000
DTSTAMP:20260422T203734
CREATED:20250604T081308Z
LAST-MODIFIED:20250604T081308Z
UID:10013932-1805022000-1805025600@ringwoodknoxparish.org.au
SUMMARY:Worship at Knox
DESCRIPTION:Please join us for Sundays at 11am as we gather for worship. Services follow the themes of the church year\, providing a regular pattern of subjects for meditation & celebration. There is a Children’s Address as part of each worship service. Worship reinforces our bond with God\, strengthens our bonds with each other\, & inspires us to go out into the world to serve God by caring for each other & for His creation.\nWe encourage all ages to be involved in worship\, plenty of singing\, & visual art for meditation.
URL:https://ringwoodknoxparish.org.au/event/worship-at-knox-2/2027-03-14/
CATEGORIES:Knox,Parish
END:VEVENT
BEGIN:VEVENT
DTSTART;TZID=Australia/Melbourne:20270318T100000
DTEND;TZID=Australia/Melbourne:20270318T110000
DTSTAMP:20260422T203734
CREATED:20250604T082333Z
LAST-MODIFIED:20250604T082434Z
UID:10014115-1805364000-1805367600@ringwoodknoxparish.org.au
SUMMARY:Prayer Group @ Knox
DESCRIPTION:Prayer Group offer the opportunity to pray with others for concerns within our congregations\, as well as issues in the wider community & the needs of the world. At Our Saviour’s Knox\, we meet at 10am this time includes morning tea.
URL:https://ringwoodknoxparish.org.au/event/prayer-group-knox-2023-06-08-2-2/2027-03-18/
LOCATION:Our Saviour’s Lutheran Church\, 646 Burwood Hwy\, Knoxfield VIC 3180\, Australia
CATEGORIES:Fellowship,Knox,Parish,Prayer Group
GEO:-37.8764384;145.2568519
END:VEVENT
BEGIN:VEVENT
DTSTART;TZID=Australia/Melbourne:20270321T110000
DTEND;TZID=Australia/Melbourne:20270321T120000
DTSTAMP:20260422T203734
CREATED:20250604T081308Z
LAST-MODIFIED:20250604T081308Z
UID:10013933-1805626800-1805630400@ringwoodknoxparish.org.au
SUMMARY:Worship at Knox
DESCRIPTION:Please join us for Sundays at 11am as we gather for worship. Services follow the themes of the church year\, providing a regular pattern of subjects for meditation & celebration. There is a Children’s Address as part of each worship service. Worship reinforces our bond with God\, strengthens our bonds with each other\, & inspires us to go out into the world to serve God by caring for each other & for His creation.\nWe encourage all ages to be involved in worship\, plenty of singing\, & visual art for meditation.
URL:https://ringwoodknoxparish.org.au/event/worship-at-knox-2/2027-03-21/
CATEGORIES:Knox,Parish
END:VEVENT
BEGIN:VEVENT
DTSTART;TZID=Australia/Melbourne:20270325T100000
DTEND;TZID=Australia/Melbourne:20270325T110000
DTSTAMP:20260422T203734
CREATED:20250604T082333Z
LAST-MODIFIED:20250604T082434Z
UID:10014116-1805968800-1805972400@ringwoodknoxparish.org.au
SUMMARY:Prayer Group @ Knox
DESCRIPTION:Prayer Group offer the opportunity to pray with others for concerns within our congregations\, as well as issues in the wider community & the needs of the world. At Our Saviour’s Knox\, we meet at 10am this time includes morning tea.
URL:https://ringwoodknoxparish.org.au/event/prayer-group-knox-2023-06-08-2-2/2027-03-25/
LOCATION:Our Saviour’s Lutheran Church\, 646 Burwood Hwy\, Knoxfield VIC 3180\, Australia
CATEGORIES:Fellowship,Knox,Parish,Prayer Group
GEO:-37.8764384;145.2568519
END:VEVENT
BEGIN:VEVENT
DTSTART;TZID=Australia/Melbourne:20270328T110000
DTEND;TZID=Australia/Melbourne:20270328T120000
DTSTAMP:20260422T203734
CREATED:20250604T081308Z
LAST-MODIFIED:20250604T081308Z
UID:10013934-1806231600-1806235200@ringwoodknoxparish.org.au
SUMMARY:Worship at Knox
DESCRIPTION:Please join us for Sundays at 11am as we gather for worship. Services follow the themes of the church year\, providing a regular pattern of subjects for meditation & celebration. There is a Children’s Address as part of each worship service. Worship reinforces our bond with God\, strengthens our bonds with each other\, & inspires us to go out into the world to serve God by caring for each other & for His creation.\nWe encourage all ages to be involved in worship\, plenty of singing\, & visual art for meditation.
URL:https://ringwoodknoxparish.org.au/event/worship-at-knox-2/2027-03-28/
CATEGORIES:Knox,Parish
END:VEVENT
BEGIN:VEVENT
DTSTART;TZID=Australia/Melbourne:20270401T100000
DTEND;TZID=Australia/Melbourne:20270401T110000
DTSTAMP:20260422T203734
CREATED:20250604T082333Z
LAST-MODIFIED:20250604T082434Z
UID:10014117-1806573600-1806577200@ringwoodknoxparish.org.au
SUMMARY:Prayer Group @ Knox
DESCRIPTION:Prayer Group offer the opportunity to pray with others for concerns within our congregations\, as well as issues in the wider community & the needs of the world. At Our Saviour’s Knox\, we meet at 10am this time includes morning tea.
URL:https://ringwoodknoxparish.org.au/event/prayer-group-knox-2023-06-08-2-2/2027-04-01/
LOCATION:Our Saviour’s Lutheran Church\, 646 Burwood Hwy\, Knoxfield VIC 3180\, Australia
CATEGORIES:Fellowship,Knox,Parish,Prayer Group
GEO:-37.8764384;145.2568519
END:VEVENT
BEGIN:VEVENT
DTSTART;TZID=Australia/Melbourne:20270404T110000
DTEND;TZID=Australia/Melbourne:20270404T120000
DTSTAMP:20260422T203734
CREATED:20250604T081308Z
LAST-MODIFIED:20250604T081308Z
UID:10013935-1806836400-1806840000@ringwoodknoxparish.org.au
SUMMARY:Worship at Knox
DESCRIPTION:Please join us for Sundays at 11am as we gather for worship. Services follow the themes of the church year\, providing a regular pattern of subjects for meditation & celebration. There is a Children’s Address as part of each worship service. Worship reinforces our bond with God\, strengthens our bonds with each other\, & inspires us to go out into the world to serve God by caring for each other & for His creation.\nWe encourage all ages to be involved in worship\, plenty of singing\, & visual art for meditation.
URL:https://ringwoodknoxparish.org.au/event/worship-at-knox-2/2027-04-04/
CATEGORIES:Knox,Parish
END:VEVENT
BEGIN:VEVENT
DTSTART;TZID=Australia/Melbourne:20270408T100000
DTEND;TZID=Australia/Melbourne:20270408T110000
DTSTAMP:20260422T203734
CREATED:20250604T082333Z
LAST-MODIFIED:20250604T082434Z
UID:10014118-1807178400-1807182000@ringwoodknoxparish.org.au
SUMMARY:Prayer Group @ Knox
DESCRIPTION:Prayer Group offer the opportunity to pray with others for concerns within our congregations\, as well as issues in the wider community & the needs of the world. At Our Saviour’s Knox\, we meet at 10am this time includes morning tea.
URL:https://ringwoodknoxparish.org.au/event/prayer-group-knox-2023-06-08-2-2/2027-04-08/
LOCATION:Our Saviour’s Lutheran Church\, 646 Burwood Hwy\, Knoxfield VIC 3180\, Australia
CATEGORIES:Fellowship,Knox,Parish,Prayer Group
GEO:-37.8764384;145.2568519
END:VEVENT
END:VCALENDAR