BEGIN:VCALENDAR
VERSION:2.0
PRODID:-//Ringwood Knox Parish - ECPv6.8.1//NONSGML v1.0//EN
CALSCALE:GREGORIAN
METHOD:PUBLISH
X-ORIGINAL-URL:https://ringwoodknoxparish.org.au
X-WR-CALDESC:Events for Ringwood Knox Parish
REFRESH-INTERVAL;VALUE=DURATION:PT1H
X-Robots-Tag:noindex
X-PUBLISHED-TTL:PT1H
BEGIN:VTIMEZONE
TZID:Australia/Melbourne
BEGIN:STANDARD
TZOFFSETFROM:+1100
TZOFFSETTO:+1000
TZNAME:AEST
DTSTART:20290331T160000
END:STANDARD
BEGIN:DAYLIGHT
TZOFFSETFROM:+1000
TZOFFSETTO:+1100
TZNAME:AEDT
DTSTART:20291006T160000
END:DAYLIGHT
END:VTIMEZONE
BEGIN:VEVENT
DTSTART;TZID=Australia/Melbourne:20290419T100000
DTEND;TZID=Australia/Melbourne:20290419T110000
DTSTAMP:20260423T190631
CREATED:20250604T082333Z
LAST-MODIFIED:20250604T082434Z
UID:10014224-1871287200-1871290800@ringwoodknoxparish.org.au
SUMMARY:Prayer Group @ Knox
DESCRIPTION:Prayer Group offer the opportunity to pray with others for concerns within our congregations\, as well as issues in the wider community & the needs of the world. At Our Saviour’s Knox\, we meet at 10am this time includes morning tea.
URL:https://ringwoodknoxparish.org.au/event/prayer-group-knox-2023-06-08-2-2/2029-04-19/
LOCATION:Our Saviour’s Lutheran Church\, 646 Burwood Hwy\, Knoxfield VIC 3180\, Australia
CATEGORIES:Fellowship,Knox,Parish,Prayer Group
GEO:-37.8764384;145.2568519
END:VEVENT
BEGIN:VEVENT
DTSTART;TZID=Australia/Melbourne:20290426T100000
DTEND;TZID=Australia/Melbourne:20290426T110000
DTSTAMP:20260423T190631
CREATED:20250604T082333Z
LAST-MODIFIED:20250604T082434Z
UID:10014225-1871892000-1871895600@ringwoodknoxparish.org.au
SUMMARY:Prayer Group @ Knox
DESCRIPTION:Prayer Group offer the opportunity to pray with others for concerns within our congregations\, as well as issues in the wider community & the needs of the world. At Our Saviour’s Knox\, we meet at 10am this time includes morning tea.
URL:https://ringwoodknoxparish.org.au/event/prayer-group-knox-2023-06-08-2-2/2029-04-26/
LOCATION:Our Saviour’s Lutheran Church\, 646 Burwood Hwy\, Knoxfield VIC 3180\, Australia
CATEGORIES:Fellowship,Knox,Parish,Prayer Group
GEO:-37.8764384;145.2568519
END:VEVENT
BEGIN:VEVENT
DTSTART;TZID=Australia/Melbourne:20290503T100000
DTEND;TZID=Australia/Melbourne:20290503T110000
DTSTAMP:20260423T190631
CREATED:20250604T082333Z
LAST-MODIFIED:20250604T082434Z
UID:10014226-1872496800-1872500400@ringwoodknoxparish.org.au
SUMMARY:Prayer Group @ Knox
DESCRIPTION:Prayer Group offer the opportunity to pray with others for concerns within our congregations\, as well as issues in the wider community & the needs of the world. At Our Saviour’s Knox\, we meet at 10am this time includes morning tea.
URL:https://ringwoodknoxparish.org.au/event/prayer-group-knox-2023-06-08-2-2/2029-05-03/
LOCATION:Our Saviour’s Lutheran Church\, 646 Burwood Hwy\, Knoxfield VIC 3180\, Australia
CATEGORIES:Fellowship,Knox,Parish,Prayer Group
GEO:-37.8764384;145.2568519
END:VEVENT
BEGIN:VEVENT
DTSTART;TZID=Australia/Melbourne:20290510T100000
DTEND;TZID=Australia/Melbourne:20290510T110000
DTSTAMP:20260423T190631
CREATED:20250604T082333Z
LAST-MODIFIED:20250604T082434Z
UID:10014227-1873101600-1873105200@ringwoodknoxparish.org.au
SUMMARY:Prayer Group @ Knox
DESCRIPTION:Prayer Group offer the opportunity to pray with others for concerns within our congregations\, as well as issues in the wider community & the needs of the world. At Our Saviour’s Knox\, we meet at 10am this time includes morning tea.
URL:https://ringwoodknoxparish.org.au/event/prayer-group-knox-2023-06-08-2-2/2029-05-10/
LOCATION:Our Saviour’s Lutheran Church\, 646 Burwood Hwy\, Knoxfield VIC 3180\, Australia
CATEGORIES:Fellowship,Knox,Parish,Prayer Group
GEO:-37.8764384;145.2568519
END:VEVENT
BEGIN:VEVENT
DTSTART;TZID=Australia/Melbourne:20290517T100000
DTEND;TZID=Australia/Melbourne:20290517T110000
DTSTAMP:20260423T190631
CREATED:20250604T082333Z
LAST-MODIFIED:20250604T082434Z
UID:10014228-1873706400-1873710000@ringwoodknoxparish.org.au
SUMMARY:Prayer Group @ Knox
DESCRIPTION:Prayer Group offer the opportunity to pray with others for concerns within our congregations\, as well as issues in the wider community & the needs of the world. At Our Saviour’s Knox\, we meet at 10am this time includes morning tea.
URL:https://ringwoodknoxparish.org.au/event/prayer-group-knox-2023-06-08-2-2/2029-05-17/
LOCATION:Our Saviour’s Lutheran Church\, 646 Burwood Hwy\, Knoxfield VIC 3180\, Australia
CATEGORIES:Fellowship,Knox,Parish,Prayer Group
GEO:-37.8764384;145.2568519
END:VEVENT
BEGIN:VEVENT
DTSTART;TZID=Australia/Melbourne:20290524T100000
DTEND;TZID=Australia/Melbourne:20290524T110000
DTSTAMP:20260423T190631
CREATED:20250604T082333Z
LAST-MODIFIED:20250604T082434Z
UID:10014229-1874311200-1874314800@ringwoodknoxparish.org.au
SUMMARY:Prayer Group @ Knox
DESCRIPTION:Prayer Group offer the opportunity to pray with others for concerns within our congregations\, as well as issues in the wider community & the needs of the world. At Our Saviour’s Knox\, we meet at 10am this time includes morning tea.
URL:https://ringwoodknoxparish.org.au/event/prayer-group-knox-2023-06-08-2-2/2029-05-24/
LOCATION:Our Saviour’s Lutheran Church\, 646 Burwood Hwy\, Knoxfield VIC 3180\, Australia
CATEGORIES:Fellowship,Knox,Parish,Prayer Group
GEO:-37.8764384;145.2568519
END:VEVENT
BEGIN:VEVENT
DTSTART;TZID=Australia/Melbourne:20290531T100000
DTEND;TZID=Australia/Melbourne:20290531T110000
DTSTAMP:20260423T190631
CREATED:20250604T082333Z
LAST-MODIFIED:20250604T082434Z
UID:10014230-1874916000-1874919600@ringwoodknoxparish.org.au
SUMMARY:Prayer Group @ Knox
DESCRIPTION:Prayer Group offer the opportunity to pray with others for concerns within our congregations\, as well as issues in the wider community & the needs of the world. At Our Saviour’s Knox\, we meet at 10am this time includes morning tea.
URL:https://ringwoodknoxparish.org.au/event/prayer-group-knox-2023-06-08-2-2/2029-05-31/
LOCATION:Our Saviour’s Lutheran Church\, 646 Burwood Hwy\, Knoxfield VIC 3180\, Australia
CATEGORIES:Fellowship,Knox,Parish,Prayer Group
GEO:-37.8764384;145.2568519
END:VEVENT
BEGIN:VEVENT
DTSTART;TZID=Australia/Melbourne:20290607T100000
DTEND;TZID=Australia/Melbourne:20290607T110000
DTSTAMP:20260423T190631
CREATED:20250604T082333Z
LAST-MODIFIED:20250604T082434Z
UID:10014231-1875520800-1875524400@ringwoodknoxparish.org.au
SUMMARY:Prayer Group @ Knox
DESCRIPTION:Prayer Group offer the opportunity to pray with others for concerns within our congregations\, as well as issues in the wider community & the needs of the world. At Our Saviour’s Knox\, we meet at 10am this time includes morning tea.
URL:https://ringwoodknoxparish.org.au/event/prayer-group-knox-2023-06-08-2-2/2029-06-07/
LOCATION:Our Saviour’s Lutheran Church\, 646 Burwood Hwy\, Knoxfield VIC 3180\, Australia
CATEGORIES:Fellowship,Knox,Parish,Prayer Group
GEO:-37.8764384;145.2568519
END:VEVENT
BEGIN:VEVENT
DTSTART;TZID=Australia/Melbourne:20290614T100000
DTEND;TZID=Australia/Melbourne:20290614T110000
DTSTAMP:20260423T190631
CREATED:20250604T082333Z
LAST-MODIFIED:20250604T082434Z
UID:10014232-1876125600-1876129200@ringwoodknoxparish.org.au
SUMMARY:Prayer Group @ Knox
DESCRIPTION:Prayer Group offer the opportunity to pray with others for concerns within our congregations\, as well as issues in the wider community & the needs of the world. At Our Saviour’s Knox\, we meet at 10am this time includes morning tea.
URL:https://ringwoodknoxparish.org.au/event/prayer-group-knox-2023-06-08-2-2/2029-06-14/
LOCATION:Our Saviour’s Lutheran Church\, 646 Burwood Hwy\, Knoxfield VIC 3180\, Australia
CATEGORIES:Fellowship,Knox,Parish,Prayer Group
GEO:-37.8764384;145.2568519
END:VEVENT
BEGIN:VEVENT
DTSTART;TZID=Australia/Melbourne:20290621T100000
DTEND;TZID=Australia/Melbourne:20290621T110000
DTSTAMP:20260423T190632
CREATED:20250604T082333Z
LAST-MODIFIED:20250604T082434Z
UID:10014233-1876730400-1876734000@ringwoodknoxparish.org.au
SUMMARY:Prayer Group @ Knox
DESCRIPTION:Prayer Group offer the opportunity to pray with others for concerns within our congregations\, as well as issues in the wider community & the needs of the world. At Our Saviour’s Knox\, we meet at 10am this time includes morning tea.
URL:https://ringwoodknoxparish.org.au/event/prayer-group-knox-2023-06-08-2-2/2029-06-21/
LOCATION:Our Saviour’s Lutheran Church\, 646 Burwood Hwy\, Knoxfield VIC 3180\, Australia
CATEGORIES:Fellowship,Knox,Parish,Prayer Group
GEO:-37.8764384;145.2568519
END:VEVENT
BEGIN:VEVENT
DTSTART;TZID=Australia/Melbourne:20290628T100000
DTEND;TZID=Australia/Melbourne:20290628T110000
DTSTAMP:20260423T190632
CREATED:20250604T082333Z
LAST-MODIFIED:20250604T082434Z
UID:10014234-1877335200-1877338800@ringwoodknoxparish.org.au
SUMMARY:Prayer Group @ Knox
DESCRIPTION:Prayer Group offer the opportunity to pray with others for concerns within our congregations\, as well as issues in the wider community & the needs of the world. At Our Saviour’s Knox\, we meet at 10am this time includes morning tea.
URL:https://ringwoodknoxparish.org.au/event/prayer-group-knox-2023-06-08-2-2/2029-06-28/
LOCATION:Our Saviour’s Lutheran Church\, 646 Burwood Hwy\, Knoxfield VIC 3180\, Australia
CATEGORIES:Fellowship,Knox,Parish,Prayer Group
GEO:-37.8764384;145.2568519
END:VEVENT
BEGIN:VEVENT
DTSTART;TZID=Australia/Melbourne:20290705T100000
DTEND;TZID=Australia/Melbourne:20290705T110000
DTSTAMP:20260423T190632
CREATED:20250604T082333Z
LAST-MODIFIED:20250604T082434Z
UID:10014235-1877940000-1877943600@ringwoodknoxparish.org.au
SUMMARY:Prayer Group @ Knox
DESCRIPTION:Prayer Group offer the opportunity to pray with others for concerns within our congregations\, as well as issues in the wider community & the needs of the world. At Our Saviour’s Knox\, we meet at 10am this time includes morning tea.
URL:https://ringwoodknoxparish.org.au/event/prayer-group-knox-2023-06-08-2-2/2029-07-05/
LOCATION:Our Saviour’s Lutheran Church\, 646 Burwood Hwy\, Knoxfield VIC 3180\, Australia
CATEGORIES:Fellowship,Knox,Parish,Prayer Group
GEO:-37.8764384;145.2568519
END:VEVENT
BEGIN:VEVENT
DTSTART;TZID=Australia/Melbourne:20290712T100000
DTEND;TZID=Australia/Melbourne:20290712T110000
DTSTAMP:20260423T190632
CREATED:20250604T082333Z
LAST-MODIFIED:20250604T082434Z
UID:10014236-1878544800-1878548400@ringwoodknoxparish.org.au
SUMMARY:Prayer Group @ Knox
DESCRIPTION:Prayer Group offer the opportunity to pray with others for concerns within our congregations\, as well as issues in the wider community & the needs of the world. At Our Saviour’s Knox\, we meet at 10am this time includes morning tea.
URL:https://ringwoodknoxparish.org.au/event/prayer-group-knox-2023-06-08-2-2/2029-07-12/
LOCATION:Our Saviour’s Lutheran Church\, 646 Burwood Hwy\, Knoxfield VIC 3180\, Australia
CATEGORIES:Fellowship,Knox,Parish,Prayer Group
GEO:-37.8764384;145.2568519
END:VEVENT
BEGIN:VEVENT
DTSTART;TZID=Australia/Melbourne:20290719T100000
DTEND;TZID=Australia/Melbourne:20290719T110000
DTSTAMP:20260423T190632
CREATED:20250604T082333Z
LAST-MODIFIED:20250604T082434Z
UID:10014237-1879149600-1879153200@ringwoodknoxparish.org.au
SUMMARY:Prayer Group @ Knox
DESCRIPTION:Prayer Group offer the opportunity to pray with others for concerns within our congregations\, as well as issues in the wider community & the needs of the world. At Our Saviour’s Knox\, we meet at 10am this time includes morning tea.
URL:https://ringwoodknoxparish.org.au/event/prayer-group-knox-2023-06-08-2-2/2029-07-19/
LOCATION:Our Saviour’s Lutheran Church\, 646 Burwood Hwy\, Knoxfield VIC 3180\, Australia
CATEGORIES:Fellowship,Knox,Parish,Prayer Group
GEO:-37.8764384;145.2568519
END:VEVENT
BEGIN:VEVENT
DTSTART;TZID=Australia/Melbourne:20290726T100000
DTEND;TZID=Australia/Melbourne:20290726T110000
DTSTAMP:20260423T190632
CREATED:20250604T082333Z
LAST-MODIFIED:20250604T082434Z
UID:10014238-1879754400-1879758000@ringwoodknoxparish.org.au
SUMMARY:Prayer Group @ Knox
DESCRIPTION:Prayer Group offer the opportunity to pray with others for concerns within our congregations\, as well as issues in the wider community & the needs of the world. At Our Saviour’s Knox\, we meet at 10am this time includes morning tea.
URL:https://ringwoodknoxparish.org.au/event/prayer-group-knox-2023-06-08-2-2/2029-07-26/
LOCATION:Our Saviour’s Lutheran Church\, 646 Burwood Hwy\, Knoxfield VIC 3180\, Australia
CATEGORIES:Fellowship,Knox,Parish,Prayer Group
GEO:-37.8764384;145.2568519
END:VEVENT
BEGIN:VEVENT
DTSTART;TZID=Australia/Melbourne:20290802T100000
DTEND;TZID=Australia/Melbourne:20290802T110000
DTSTAMP:20260423T190632
CREATED:20250604T082333Z
LAST-MODIFIED:20250604T082434Z
UID:10014239-1880359200-1880362800@ringwoodknoxparish.org.au
SUMMARY:Prayer Group @ Knox
DESCRIPTION:Prayer Group offer the opportunity to pray with others for concerns within our congregations\, as well as issues in the wider community & the needs of the world. At Our Saviour’s Knox\, we meet at 10am this time includes morning tea.
URL:https://ringwoodknoxparish.org.au/event/prayer-group-knox-2023-06-08-2-2/2029-08-02/
LOCATION:Our Saviour’s Lutheran Church\, 646 Burwood Hwy\, Knoxfield VIC 3180\, Australia
CATEGORIES:Fellowship,Knox,Parish,Prayer Group
GEO:-37.8764384;145.2568519
END:VEVENT
BEGIN:VEVENT
DTSTART;TZID=Australia/Melbourne:20290809T100000
DTEND;TZID=Australia/Melbourne:20290809T110000
DTSTAMP:20260423T190632
CREATED:20250604T082333Z
LAST-MODIFIED:20250604T082434Z
UID:10014240-1880964000-1880967600@ringwoodknoxparish.org.au
SUMMARY:Prayer Group @ Knox
DESCRIPTION:Prayer Group offer the opportunity to pray with others for concerns within our congregations\, as well as issues in the wider community & the needs of the world. At Our Saviour’s Knox\, we meet at 10am this time includes morning tea.
URL:https://ringwoodknoxparish.org.au/event/prayer-group-knox-2023-06-08-2-2/2029-08-09/
LOCATION:Our Saviour’s Lutheran Church\, 646 Burwood Hwy\, Knoxfield VIC 3180\, Australia
CATEGORIES:Fellowship,Knox,Parish,Prayer Group
GEO:-37.8764384;145.2568519
END:VEVENT
BEGIN:VEVENT
DTSTART;TZID=Australia/Melbourne:20290816T100000
DTEND;TZID=Australia/Melbourne:20290816T110000
DTSTAMP:20260423T190632
CREATED:20250604T082333Z
LAST-MODIFIED:20250604T082434Z
UID:10014241-1881568800-1881572400@ringwoodknoxparish.org.au
SUMMARY:Prayer Group @ Knox
DESCRIPTION:Prayer Group offer the opportunity to pray with others for concerns within our congregations\, as well as issues in the wider community & the needs of the world. At Our Saviour’s Knox\, we meet at 10am this time includes morning tea.
URL:https://ringwoodknoxparish.org.au/event/prayer-group-knox-2023-06-08-2-2/2029-08-16/
LOCATION:Our Saviour’s Lutheran Church\, 646 Burwood Hwy\, Knoxfield VIC 3180\, Australia
CATEGORIES:Fellowship,Knox,Parish,Prayer Group
GEO:-37.8764384;145.2568519
END:VEVENT
BEGIN:VEVENT
DTSTART;TZID=Australia/Melbourne:20290823T100000
DTEND;TZID=Australia/Melbourne:20290823T110000
DTSTAMP:20260423T190632
CREATED:20250604T082333Z
LAST-MODIFIED:20250604T082434Z
UID:10014242-1882173600-1882177200@ringwoodknoxparish.org.au
SUMMARY:Prayer Group @ Knox
DESCRIPTION:Prayer Group offer the opportunity to pray with others for concerns within our congregations\, as well as issues in the wider community & the needs of the world. At Our Saviour’s Knox\, we meet at 10am this time includes morning tea.
URL:https://ringwoodknoxparish.org.au/event/prayer-group-knox-2023-06-08-2-2/2029-08-23/
LOCATION:Our Saviour’s Lutheran Church\, 646 Burwood Hwy\, Knoxfield VIC 3180\, Australia
CATEGORIES:Fellowship,Knox,Parish,Prayer Group
GEO:-37.8764384;145.2568519
END:VEVENT
BEGIN:VEVENT
DTSTART;TZID=Australia/Melbourne:20290830T100000
DTEND;TZID=Australia/Melbourne:20290830T110000
DTSTAMP:20260423T190632
CREATED:20250604T082333Z
LAST-MODIFIED:20250604T082434Z
UID:10014243-1882778400-1882782000@ringwoodknoxparish.org.au
SUMMARY:Prayer Group @ Knox
DESCRIPTION:Prayer Group offer the opportunity to pray with others for concerns within our congregations\, as well as issues in the wider community & the needs of the world. At Our Saviour’s Knox\, we meet at 10am this time includes morning tea.
URL:https://ringwoodknoxparish.org.au/event/prayer-group-knox-2023-06-08-2-2/2029-08-30/
LOCATION:Our Saviour’s Lutheran Church\, 646 Burwood Hwy\, Knoxfield VIC 3180\, Australia
CATEGORIES:Fellowship,Knox,Parish,Prayer Group
GEO:-37.8764384;145.2568519
END:VEVENT
BEGIN:VEVENT
DTSTART;TZID=Australia/Melbourne:20290906T100000
DTEND;TZID=Australia/Melbourne:20290906T110000
DTSTAMP:20260423T190632
CREATED:20250604T082333Z
LAST-MODIFIED:20250604T082434Z
UID:10014244-1883383200-1883386800@ringwoodknoxparish.org.au
SUMMARY:Prayer Group @ Knox
DESCRIPTION:Prayer Group offer the opportunity to pray with others for concerns within our congregations\, as well as issues in the wider community & the needs of the world. At Our Saviour’s Knox\, we meet at 10am this time includes morning tea.
URL:https://ringwoodknoxparish.org.au/event/prayer-group-knox-2023-06-08-2-2/2029-09-06/
LOCATION:Our Saviour’s Lutheran Church\, 646 Burwood Hwy\, Knoxfield VIC 3180\, Australia
CATEGORIES:Fellowship,Knox,Parish,Prayer Group
GEO:-37.8764384;145.2568519
END:VEVENT
BEGIN:VEVENT
DTSTART;TZID=Australia/Melbourne:20290913T100000
DTEND;TZID=Australia/Melbourne:20290913T110000
DTSTAMP:20260423T190632
CREATED:20250604T082333Z
LAST-MODIFIED:20250604T082434Z
UID:10014245-1883988000-1883991600@ringwoodknoxparish.org.au
SUMMARY:Prayer Group @ Knox
DESCRIPTION:Prayer Group offer the opportunity to pray with others for concerns within our congregations\, as well as issues in the wider community & the needs of the world. At Our Saviour’s Knox\, we meet at 10am this time includes morning tea.
URL:https://ringwoodknoxparish.org.au/event/prayer-group-knox-2023-06-08-2-2/2029-09-13/
LOCATION:Our Saviour’s Lutheran Church\, 646 Burwood Hwy\, Knoxfield VIC 3180\, Australia
CATEGORIES:Fellowship,Knox,Parish,Prayer Group
GEO:-37.8764384;145.2568519
END:VEVENT
BEGIN:VEVENT
DTSTART;TZID=Australia/Melbourne:20290920T100000
DTEND;TZID=Australia/Melbourne:20290920T110000
DTSTAMP:20260423T190632
CREATED:20250604T082333Z
LAST-MODIFIED:20250604T082434Z
UID:10014246-1884592800-1884596400@ringwoodknoxparish.org.au
SUMMARY:Prayer Group @ Knox
DESCRIPTION:Prayer Group offer the opportunity to pray with others for concerns within our congregations\, as well as issues in the wider community & the needs of the world. At Our Saviour’s Knox\, we meet at 10am this time includes morning tea.
URL:https://ringwoodknoxparish.org.au/event/prayer-group-knox-2023-06-08-2-2/2029-09-20/
LOCATION:Our Saviour’s Lutheran Church\, 646 Burwood Hwy\, Knoxfield VIC 3180\, Australia
CATEGORIES:Fellowship,Knox,Parish,Prayer Group
GEO:-37.8764384;145.2568519
END:VEVENT
BEGIN:VEVENT
DTSTART;TZID=Australia/Melbourne:20290927T100000
DTEND;TZID=Australia/Melbourne:20290927T110000
DTSTAMP:20260423T190632
CREATED:20250604T082333Z
LAST-MODIFIED:20250604T082434Z
UID:10014247-1885197600-1885201200@ringwoodknoxparish.org.au
SUMMARY:Prayer Group @ Knox
DESCRIPTION:Prayer Group offer the opportunity to pray with others for concerns within our congregations\, as well as issues in the wider community & the needs of the world. At Our Saviour’s Knox\, we meet at 10am this time includes morning tea.
URL:https://ringwoodknoxparish.org.au/event/prayer-group-knox-2023-06-08-2-2/2029-09-27/
LOCATION:Our Saviour’s Lutheran Church\, 646 Burwood Hwy\, Knoxfield VIC 3180\, Australia
CATEGORIES:Fellowship,Knox,Parish,Prayer Group
GEO:-37.8764384;145.2568519
END:VEVENT
BEGIN:VEVENT
DTSTART;TZID=Australia/Melbourne:20291004T100000
DTEND;TZID=Australia/Melbourne:20291004T110000
DTSTAMP:20260423T190632
CREATED:20250604T082333Z
LAST-MODIFIED:20250604T082434Z
UID:10014248-1885802400-1885806000@ringwoodknoxparish.org.au
SUMMARY:Prayer Group @ Knox
DESCRIPTION:Prayer Group offer the opportunity to pray with others for concerns within our congregations\, as well as issues in the wider community & the needs of the world. At Our Saviour’s Knox\, we meet at 10am this time includes morning tea.
URL:https://ringwoodknoxparish.org.au/event/prayer-group-knox-2023-06-08-2-2/2029-10-04/
LOCATION:Our Saviour’s Lutheran Church\, 646 Burwood Hwy\, Knoxfield VIC 3180\, Australia
CATEGORIES:Fellowship,Knox,Parish,Prayer Group
GEO:-37.8764384;145.2568519
END:VEVENT
BEGIN:VEVENT
DTSTART;TZID=Australia/Melbourne:20291011T100000
DTEND;TZID=Australia/Melbourne:20291011T110000
DTSTAMP:20260423T190632
CREATED:20250604T082333Z
LAST-MODIFIED:20250604T082434Z
UID:10014249-1886407200-1886410800@ringwoodknoxparish.org.au
SUMMARY:Prayer Group @ Knox
DESCRIPTION:Prayer Group offer the opportunity to pray with others for concerns within our congregations\, as well as issues in the wider community & the needs of the world. At Our Saviour’s Knox\, we meet at 10am this time includes morning tea.
URL:https://ringwoodknoxparish.org.au/event/prayer-group-knox-2023-06-08-2-2/2029-10-11/
LOCATION:Our Saviour’s Lutheran Church\, 646 Burwood Hwy\, Knoxfield VIC 3180\, Australia
CATEGORIES:Fellowship,Knox,Parish,Prayer Group
GEO:-37.8764384;145.2568519
END:VEVENT
BEGIN:VEVENT
DTSTART;TZID=Australia/Melbourne:20291018T100000
DTEND;TZID=Australia/Melbourne:20291018T110000
DTSTAMP:20260423T190632
CREATED:20250604T082333Z
LAST-MODIFIED:20250604T082434Z
UID:10014250-1887012000-1887015600@ringwoodknoxparish.org.au
SUMMARY:Prayer Group @ Knox
DESCRIPTION:Prayer Group offer the opportunity to pray with others for concerns within our congregations\, as well as issues in the wider community & the needs of the world. At Our Saviour’s Knox\, we meet at 10am this time includes morning tea.
URL:https://ringwoodknoxparish.org.au/event/prayer-group-knox-2023-06-08-2-2/2029-10-18/
LOCATION:Our Saviour’s Lutheran Church\, 646 Burwood Hwy\, Knoxfield VIC 3180\, Australia
CATEGORIES:Fellowship,Knox,Parish,Prayer Group
GEO:-37.8764384;145.2568519
END:VEVENT
BEGIN:VEVENT
DTSTART;TZID=Australia/Melbourne:20291025T100000
DTEND;TZID=Australia/Melbourne:20291025T110000
DTSTAMP:20260423T190632
CREATED:20250604T082333Z
LAST-MODIFIED:20250604T082434Z
UID:10014251-1887616800-1887620400@ringwoodknoxparish.org.au
SUMMARY:Prayer Group @ Knox
DESCRIPTION:Prayer Group offer the opportunity to pray with others for concerns within our congregations\, as well as issues in the wider community & the needs of the world. At Our Saviour’s Knox\, we meet at 10am this time includes morning tea.
URL:https://ringwoodknoxparish.org.au/event/prayer-group-knox-2023-06-08-2-2/2029-10-25/
LOCATION:Our Saviour’s Lutheran Church\, 646 Burwood Hwy\, Knoxfield VIC 3180\, Australia
CATEGORIES:Fellowship,Knox,Parish,Prayer Group
GEO:-37.8764384;145.2568519
END:VEVENT
BEGIN:VEVENT
DTSTART;TZID=Australia/Melbourne:20291101T100000
DTEND;TZID=Australia/Melbourne:20291101T110000
DTSTAMP:20260423T190632
CREATED:20250604T082333Z
LAST-MODIFIED:20250604T082434Z
UID:10014252-1888221600-1888225200@ringwoodknoxparish.org.au
SUMMARY:Prayer Group @ Knox
DESCRIPTION:Prayer Group offer the opportunity to pray with others for concerns within our congregations\, as well as issues in the wider community & the needs of the world. At Our Saviour’s Knox\, we meet at 10am this time includes morning tea.
URL:https://ringwoodknoxparish.org.au/event/prayer-group-knox-2023-06-08-2-2/2029-11-01/
LOCATION:Our Saviour’s Lutheran Church\, 646 Burwood Hwy\, Knoxfield VIC 3180\, Australia
CATEGORIES:Fellowship,Knox,Parish,Prayer Group
GEO:-37.8764384;145.2568519
END:VEVENT
BEGIN:VEVENT
DTSTART;TZID=Australia/Melbourne:20291108T100000
DTEND;TZID=Australia/Melbourne:20291108T110000
DTSTAMP:20260423T190632
CREATED:20250604T082333Z
LAST-MODIFIED:20250604T082434Z
UID:10014253-1888826400-1888830000@ringwoodknoxparish.org.au
SUMMARY:Prayer Group @ Knox
DESCRIPTION:Prayer Group offer the opportunity to pray with others for concerns within our congregations\, as well as issues in the wider community & the needs of the world. At Our Saviour’s Knox\, we meet at 10am this time includes morning tea.
URL:https://ringwoodknoxparish.org.au/event/prayer-group-knox-2023-06-08-2-2/2029-11-08/
LOCATION:Our Saviour’s Lutheran Church\, 646 Burwood Hwy\, Knoxfield VIC 3180\, Australia
CATEGORIES:Fellowship,Knox,Parish,Prayer Group
GEO:-37.8764384;145.2568519
END:VEVENT
END:VCALENDAR