BEGIN:VCALENDAR
VERSION:2.0
PRODID:-//Ringwood Knox Parish - ECPv6.8.1//NONSGML v1.0//EN
CALSCALE:GREGORIAN
METHOD:PUBLISH
X-ORIGINAL-URL:https://ringwoodknoxparish.org.au
X-WR-CALDESC:Events for Ringwood Knox Parish
REFRESH-INTERVAL;VALUE=DURATION:PT1H
X-Robots-Tag:noindex
X-PUBLISHED-TTL:PT1H
BEGIN:VTIMEZONE
TZID:Australia/Melbourne
BEGIN:STANDARD
TZOFFSETFROM:+1100
TZOFFSETTO:+1000
TZNAME:AEST
DTSTART:20270403T160000
END:STANDARD
BEGIN:DAYLIGHT
TZOFFSETFROM:+1000
TZOFFSETTO:+1100
TZNAME:AEDT
DTSTART:20271002T160000
END:DAYLIGHT
BEGIN:STANDARD
TZOFFSETFROM:+1100
TZOFFSETTO:+1000
TZNAME:AEST
DTSTART:20280401T160000
END:STANDARD
BEGIN:DAYLIGHT
TZOFFSETFROM:+1000
TZOFFSETTO:+1100
TZNAME:AEDT
DTSTART:20280930T160000
END:DAYLIGHT
END:VTIMEZONE
BEGIN:VEVENT
DTSTART;TZID=Australia/Melbourne:20270930T100000
DTEND;TZID=Australia/Melbourne:20270930T110000
DTSTAMP:20260423T074444
CREATED:20250604T082333Z
LAST-MODIFIED:20250604T082434Z
UID:10014143-1822298400-1822302000@ringwoodknoxparish.org.au
SUMMARY:Prayer Group @ Knox
DESCRIPTION:Prayer Group offer the opportunity to pray with others for concerns within our congregations\, as well as issues in the wider community & the needs of the world. At Our Saviour’s Knox\, we meet at 10am this time includes morning tea.
URL:https://ringwoodknoxparish.org.au/event/prayer-group-knox-2023-06-08-2-2/2027-09-30/
LOCATION:Our Saviour’s Lutheran Church\, 646 Burwood Hwy\, Knoxfield VIC 3180\, Australia
CATEGORIES:Fellowship,Knox,Parish,Prayer Group
GEO:-37.8764384;145.2568519
END:VEVENT
BEGIN:VEVENT
DTSTART;TZID=Australia/Melbourne:20271007T100000
DTEND;TZID=Australia/Melbourne:20271007T110000
DTSTAMP:20260423T074444
CREATED:20250604T082333Z
LAST-MODIFIED:20250604T082434Z
UID:10014144-1822903200-1822906800@ringwoodknoxparish.org.au
SUMMARY:Prayer Group @ Knox
DESCRIPTION:Prayer Group offer the opportunity to pray with others for concerns within our congregations\, as well as issues in the wider community & the needs of the world. At Our Saviour’s Knox\, we meet at 10am this time includes morning tea.
URL:https://ringwoodknoxparish.org.au/event/prayer-group-knox-2023-06-08-2-2/2027-10-07/
LOCATION:Our Saviour’s Lutheran Church\, 646 Burwood Hwy\, Knoxfield VIC 3180\, Australia
CATEGORIES:Fellowship,Knox,Parish,Prayer Group
GEO:-37.8764384;145.2568519
END:VEVENT
BEGIN:VEVENT
DTSTART;TZID=Australia/Melbourne:20271014T100000
DTEND;TZID=Australia/Melbourne:20271014T110000
DTSTAMP:20260423T074444
CREATED:20250604T082333Z
LAST-MODIFIED:20250604T082434Z
UID:10014145-1823508000-1823511600@ringwoodknoxparish.org.au
SUMMARY:Prayer Group @ Knox
DESCRIPTION:Prayer Group offer the opportunity to pray with others for concerns within our congregations\, as well as issues in the wider community & the needs of the world. At Our Saviour’s Knox\, we meet at 10am this time includes morning tea.
URL:https://ringwoodknoxparish.org.au/event/prayer-group-knox-2023-06-08-2-2/2027-10-14/
LOCATION:Our Saviour’s Lutheran Church\, 646 Burwood Hwy\, Knoxfield VIC 3180\, Australia
CATEGORIES:Fellowship,Knox,Parish,Prayer Group
GEO:-37.8764384;145.2568519
END:VEVENT
BEGIN:VEVENT
DTSTART;TZID=Australia/Melbourne:20271021T100000
DTEND;TZID=Australia/Melbourne:20271021T110000
DTSTAMP:20260423T074444
CREATED:20250604T082333Z
LAST-MODIFIED:20250604T082434Z
UID:10014146-1824112800-1824116400@ringwoodknoxparish.org.au
SUMMARY:Prayer Group @ Knox
DESCRIPTION:Prayer Group offer the opportunity to pray with others for concerns within our congregations\, as well as issues in the wider community & the needs of the world. At Our Saviour’s Knox\, we meet at 10am this time includes morning tea.
URL:https://ringwoodknoxparish.org.au/event/prayer-group-knox-2023-06-08-2-2/2027-10-21/
LOCATION:Our Saviour’s Lutheran Church\, 646 Burwood Hwy\, Knoxfield VIC 3180\, Australia
CATEGORIES:Fellowship,Knox,Parish,Prayer Group
GEO:-37.8764384;145.2568519
END:VEVENT
BEGIN:VEVENT
DTSTART;TZID=Australia/Melbourne:20271028T100000
DTEND;TZID=Australia/Melbourne:20271028T110000
DTSTAMP:20260423T074444
CREATED:20250604T082333Z
LAST-MODIFIED:20250604T082434Z
UID:10014147-1824717600-1824721200@ringwoodknoxparish.org.au
SUMMARY:Prayer Group @ Knox
DESCRIPTION:Prayer Group offer the opportunity to pray with others for concerns within our congregations\, as well as issues in the wider community & the needs of the world. At Our Saviour’s Knox\, we meet at 10am this time includes morning tea.
URL:https://ringwoodknoxparish.org.au/event/prayer-group-knox-2023-06-08-2-2/2027-10-28/
LOCATION:Our Saviour’s Lutheran Church\, 646 Burwood Hwy\, Knoxfield VIC 3180\, Australia
CATEGORIES:Fellowship,Knox,Parish,Prayer Group
GEO:-37.8764384;145.2568519
END:VEVENT
BEGIN:VEVENT
DTSTART;TZID=Australia/Melbourne:20271104T100000
DTEND;TZID=Australia/Melbourne:20271104T110000
DTSTAMP:20260423T074444
CREATED:20250604T082333Z
LAST-MODIFIED:20250604T082434Z
UID:10014148-1825322400-1825326000@ringwoodknoxparish.org.au
SUMMARY:Prayer Group @ Knox
DESCRIPTION:Prayer Group offer the opportunity to pray with others for concerns within our congregations\, as well as issues in the wider community & the needs of the world. At Our Saviour’s Knox\, we meet at 10am this time includes morning tea.
URL:https://ringwoodknoxparish.org.au/event/prayer-group-knox-2023-06-08-2-2/2027-11-04/
LOCATION:Our Saviour’s Lutheran Church\, 646 Burwood Hwy\, Knoxfield VIC 3180\, Australia
CATEGORIES:Fellowship,Knox,Parish,Prayer Group
GEO:-37.8764384;145.2568519
END:VEVENT
BEGIN:VEVENT
DTSTART;TZID=Australia/Melbourne:20271111T100000
DTEND;TZID=Australia/Melbourne:20271111T110000
DTSTAMP:20260423T074444
CREATED:20250604T082333Z
LAST-MODIFIED:20250604T082434Z
UID:10014149-1825927200-1825930800@ringwoodknoxparish.org.au
SUMMARY:Prayer Group @ Knox
DESCRIPTION:Prayer Group offer the opportunity to pray with others for concerns within our congregations\, as well as issues in the wider community & the needs of the world. At Our Saviour’s Knox\, we meet at 10am this time includes morning tea.
URL:https://ringwoodknoxparish.org.au/event/prayer-group-knox-2023-06-08-2-2/2027-11-11/
LOCATION:Our Saviour’s Lutheran Church\, 646 Burwood Hwy\, Knoxfield VIC 3180\, Australia
CATEGORIES:Fellowship,Knox,Parish,Prayer Group
GEO:-37.8764384;145.2568519
END:VEVENT
BEGIN:VEVENT
DTSTART;TZID=Australia/Melbourne:20271118T100000
DTEND;TZID=Australia/Melbourne:20271118T110000
DTSTAMP:20260423T074444
CREATED:20250604T082333Z
LAST-MODIFIED:20250604T082434Z
UID:10014150-1826532000-1826535600@ringwoodknoxparish.org.au
SUMMARY:Prayer Group @ Knox
DESCRIPTION:Prayer Group offer the opportunity to pray with others for concerns within our congregations\, as well as issues in the wider community & the needs of the world. At Our Saviour’s Knox\, we meet at 10am this time includes morning tea.
URL:https://ringwoodknoxparish.org.au/event/prayer-group-knox-2023-06-08-2-2/2027-11-18/
LOCATION:Our Saviour’s Lutheran Church\, 646 Burwood Hwy\, Knoxfield VIC 3180\, Australia
CATEGORIES:Fellowship,Knox,Parish,Prayer Group
GEO:-37.8764384;145.2568519
END:VEVENT
BEGIN:VEVENT
DTSTART;TZID=Australia/Melbourne:20271125T100000
DTEND;TZID=Australia/Melbourne:20271125T110000
DTSTAMP:20260423T074444
CREATED:20250604T082333Z
LAST-MODIFIED:20250604T082434Z
UID:10014151-1827136800-1827140400@ringwoodknoxparish.org.au
SUMMARY:Prayer Group @ Knox
DESCRIPTION:Prayer Group offer the opportunity to pray with others for concerns within our congregations\, as well as issues in the wider community & the needs of the world. At Our Saviour’s Knox\, we meet at 10am this time includes morning tea.
URL:https://ringwoodknoxparish.org.au/event/prayer-group-knox-2023-06-08-2-2/2027-11-25/
LOCATION:Our Saviour’s Lutheran Church\, 646 Burwood Hwy\, Knoxfield VIC 3180\, Australia
CATEGORIES:Fellowship,Knox,Parish,Prayer Group
GEO:-37.8764384;145.2568519
END:VEVENT
BEGIN:VEVENT
DTSTART;TZID=Australia/Melbourne:20271202T100000
DTEND;TZID=Australia/Melbourne:20271202T110000
DTSTAMP:20260423T074444
CREATED:20250604T082333Z
LAST-MODIFIED:20250604T082434Z
UID:10014152-1827741600-1827745200@ringwoodknoxparish.org.au
SUMMARY:Prayer Group @ Knox
DESCRIPTION:Prayer Group offer the opportunity to pray with others for concerns within our congregations\, as well as issues in the wider community & the needs of the world. At Our Saviour’s Knox\, we meet at 10am this time includes morning tea.
URL:https://ringwoodknoxparish.org.au/event/prayer-group-knox-2023-06-08-2-2/2027-12-02/
LOCATION:Our Saviour’s Lutheran Church\, 646 Burwood Hwy\, Knoxfield VIC 3180\, Australia
CATEGORIES:Fellowship,Knox,Parish,Prayer Group
GEO:-37.8764384;145.2568519
END:VEVENT
BEGIN:VEVENT
DTSTART;TZID=Australia/Melbourne:20271209T100000
DTEND;TZID=Australia/Melbourne:20271209T110000
DTSTAMP:20260423T074444
CREATED:20250604T082333Z
LAST-MODIFIED:20250604T082434Z
UID:10014153-1828346400-1828350000@ringwoodknoxparish.org.au
SUMMARY:Prayer Group @ Knox
DESCRIPTION:Prayer Group offer the opportunity to pray with others for concerns within our congregations\, as well as issues in the wider community & the needs of the world. At Our Saviour’s Knox\, we meet at 10am this time includes morning tea.
URL:https://ringwoodknoxparish.org.au/event/prayer-group-knox-2023-06-08-2-2/2027-12-09/
LOCATION:Our Saviour’s Lutheran Church\, 646 Burwood Hwy\, Knoxfield VIC 3180\, Australia
CATEGORIES:Fellowship,Knox,Parish,Prayer Group
GEO:-37.8764384;145.2568519
END:VEVENT
BEGIN:VEVENT
DTSTART;TZID=Australia/Melbourne:20271216T100000
DTEND;TZID=Australia/Melbourne:20271216T110000
DTSTAMP:20260423T074444
CREATED:20250604T082333Z
LAST-MODIFIED:20250604T082434Z
UID:10014154-1828951200-1828954800@ringwoodknoxparish.org.au
SUMMARY:Prayer Group @ Knox
DESCRIPTION:Prayer Group offer the opportunity to pray with others for concerns within our congregations\, as well as issues in the wider community & the needs of the world. At Our Saviour’s Knox\, we meet at 10am this time includes morning tea.
URL:https://ringwoodknoxparish.org.au/event/prayer-group-knox-2023-06-08-2-2/2027-12-16/
LOCATION:Our Saviour’s Lutheran Church\, 646 Burwood Hwy\, Knoxfield VIC 3180\, Australia
CATEGORIES:Fellowship,Knox,Parish,Prayer Group
GEO:-37.8764384;145.2568519
END:VEVENT
BEGIN:VEVENT
DTSTART;TZID=Australia/Melbourne:20271223T100000
DTEND;TZID=Australia/Melbourne:20271223T110000
DTSTAMP:20260423T074444
CREATED:20250604T082333Z
LAST-MODIFIED:20250604T082434Z
UID:10014155-1829556000-1829559600@ringwoodknoxparish.org.au
SUMMARY:Prayer Group @ Knox
DESCRIPTION:Prayer Group offer the opportunity to pray with others for concerns within our congregations\, as well as issues in the wider community & the needs of the world. At Our Saviour’s Knox\, we meet at 10am this time includes morning tea.
URL:https://ringwoodknoxparish.org.au/event/prayer-group-knox-2023-06-08-2-2/2027-12-23/
LOCATION:Our Saviour’s Lutheran Church\, 646 Burwood Hwy\, Knoxfield VIC 3180\, Australia
CATEGORIES:Fellowship,Knox,Parish,Prayer Group
GEO:-37.8764384;145.2568519
END:VEVENT
BEGIN:VEVENT
DTSTART;TZID=Australia/Melbourne:20271230T100000
DTEND;TZID=Australia/Melbourne:20271230T110000
DTSTAMP:20260423T074444
CREATED:20250604T082333Z
LAST-MODIFIED:20250604T082434Z
UID:10014156-1830160800-1830164400@ringwoodknoxparish.org.au
SUMMARY:Prayer Group @ Knox
DESCRIPTION:Prayer Group offer the opportunity to pray with others for concerns within our congregations\, as well as issues in the wider community & the needs of the world. At Our Saviour’s Knox\, we meet at 10am this time includes morning tea.
URL:https://ringwoodknoxparish.org.au/event/prayer-group-knox-2023-06-08-2-2/2027-12-30/
LOCATION:Our Saviour’s Lutheran Church\, 646 Burwood Hwy\, Knoxfield VIC 3180\, Australia
CATEGORIES:Fellowship,Knox,Parish,Prayer Group
GEO:-37.8764384;145.2568519
END:VEVENT
BEGIN:VEVENT
DTSTART;TZID=Australia/Melbourne:20280106T100000
DTEND;TZID=Australia/Melbourne:20280106T110000
DTSTAMP:20260423T074444
CREATED:20250604T082333Z
LAST-MODIFIED:20250604T082434Z
UID:10014157-1830765600-1830769200@ringwoodknoxparish.org.au
SUMMARY:Prayer Group @ Knox
DESCRIPTION:Prayer Group offer the opportunity to pray with others for concerns within our congregations\, as well as issues in the wider community & the needs of the world. At Our Saviour’s Knox\, we meet at 10am this time includes morning tea.
URL:https://ringwoodknoxparish.org.au/event/prayer-group-knox-2023-06-08-2-2/2028-01-06/
LOCATION:Our Saviour’s Lutheran Church\, 646 Burwood Hwy\, Knoxfield VIC 3180\, Australia
CATEGORIES:Fellowship,Knox,Parish,Prayer Group
GEO:-37.8764384;145.2568519
END:VEVENT
BEGIN:VEVENT
DTSTART;TZID=Australia/Melbourne:20280113T100000
DTEND;TZID=Australia/Melbourne:20280113T110000
DTSTAMP:20260423T074444
CREATED:20250604T082333Z
LAST-MODIFIED:20250604T082434Z
UID:10014158-1831370400-1831374000@ringwoodknoxparish.org.au
SUMMARY:Prayer Group @ Knox
DESCRIPTION:Prayer Group offer the opportunity to pray with others for concerns within our congregations\, as well as issues in the wider community & the needs of the world. At Our Saviour’s Knox\, we meet at 10am this time includes morning tea.
URL:https://ringwoodknoxparish.org.au/event/prayer-group-knox-2023-06-08-2-2/2028-01-13/
LOCATION:Our Saviour’s Lutheran Church\, 646 Burwood Hwy\, Knoxfield VIC 3180\, Australia
CATEGORIES:Fellowship,Knox,Parish,Prayer Group
GEO:-37.8764384;145.2568519
END:VEVENT
BEGIN:VEVENT
DTSTART;TZID=Australia/Melbourne:20280120T100000
DTEND;TZID=Australia/Melbourne:20280120T110000
DTSTAMP:20260423T074444
CREATED:20250604T082333Z
LAST-MODIFIED:20250604T082434Z
UID:10014159-1831975200-1831978800@ringwoodknoxparish.org.au
SUMMARY:Prayer Group @ Knox
DESCRIPTION:Prayer Group offer the opportunity to pray with others for concerns within our congregations\, as well as issues in the wider community & the needs of the world. At Our Saviour’s Knox\, we meet at 10am this time includes morning tea.
URL:https://ringwoodknoxparish.org.au/event/prayer-group-knox-2023-06-08-2-2/2028-01-20/
LOCATION:Our Saviour’s Lutheran Church\, 646 Burwood Hwy\, Knoxfield VIC 3180\, Australia
CATEGORIES:Fellowship,Knox,Parish,Prayer Group
GEO:-37.8764384;145.2568519
END:VEVENT
BEGIN:VEVENT
DTSTART;TZID=Australia/Melbourne:20280127T100000
DTEND;TZID=Australia/Melbourne:20280127T110000
DTSTAMP:20260423T074444
CREATED:20250604T082333Z
LAST-MODIFIED:20250604T082434Z
UID:10014160-1832580000-1832583600@ringwoodknoxparish.org.au
SUMMARY:Prayer Group @ Knox
DESCRIPTION:Prayer Group offer the opportunity to pray with others for concerns within our congregations\, as well as issues in the wider community & the needs of the world. At Our Saviour’s Knox\, we meet at 10am this time includes morning tea.
URL:https://ringwoodknoxparish.org.au/event/prayer-group-knox-2023-06-08-2-2/2028-01-27/
LOCATION:Our Saviour’s Lutheran Church\, 646 Burwood Hwy\, Knoxfield VIC 3180\, Australia
CATEGORIES:Fellowship,Knox,Parish,Prayer Group
GEO:-37.8764384;145.2568519
END:VEVENT
BEGIN:VEVENT
DTSTART;TZID=Australia/Melbourne:20280203T100000
DTEND;TZID=Australia/Melbourne:20280203T110000
DTSTAMP:20260423T074444
CREATED:20250604T082333Z
LAST-MODIFIED:20250604T082434Z
UID:10014161-1833184800-1833188400@ringwoodknoxparish.org.au
SUMMARY:Prayer Group @ Knox
DESCRIPTION:Prayer Group offer the opportunity to pray with others for concerns within our congregations\, as well as issues in the wider community & the needs of the world. At Our Saviour’s Knox\, we meet at 10am this time includes morning tea.
URL:https://ringwoodknoxparish.org.au/event/prayer-group-knox-2023-06-08-2-2/2028-02-03/
LOCATION:Our Saviour’s Lutheran Church\, 646 Burwood Hwy\, Knoxfield VIC 3180\, Australia
CATEGORIES:Fellowship,Knox,Parish,Prayer Group
GEO:-37.8764384;145.2568519
END:VEVENT
BEGIN:VEVENT
DTSTART;TZID=Australia/Melbourne:20280210T100000
DTEND;TZID=Australia/Melbourne:20280210T110000
DTSTAMP:20260423T074444
CREATED:20250604T082333Z
LAST-MODIFIED:20250604T082434Z
UID:10014162-1833789600-1833793200@ringwoodknoxparish.org.au
SUMMARY:Prayer Group @ Knox
DESCRIPTION:Prayer Group offer the opportunity to pray with others for concerns within our congregations\, as well as issues in the wider community & the needs of the world. At Our Saviour’s Knox\, we meet at 10am this time includes morning tea.
URL:https://ringwoodknoxparish.org.au/event/prayer-group-knox-2023-06-08-2-2/2028-02-10/
LOCATION:Our Saviour’s Lutheran Church\, 646 Burwood Hwy\, Knoxfield VIC 3180\, Australia
CATEGORIES:Fellowship,Knox,Parish,Prayer Group
GEO:-37.8764384;145.2568519
END:VEVENT
BEGIN:VEVENT
DTSTART;TZID=Australia/Melbourne:20280217T100000
DTEND;TZID=Australia/Melbourne:20280217T110000
DTSTAMP:20260423T074444
CREATED:20250604T082333Z
LAST-MODIFIED:20250604T082434Z
UID:10014163-1834394400-1834398000@ringwoodknoxparish.org.au
SUMMARY:Prayer Group @ Knox
DESCRIPTION:Prayer Group offer the opportunity to pray with others for concerns within our congregations\, as well as issues in the wider community & the needs of the world. At Our Saviour’s Knox\, we meet at 10am this time includes morning tea.
URL:https://ringwoodknoxparish.org.au/event/prayer-group-knox-2023-06-08-2-2/2028-02-17/
LOCATION:Our Saviour’s Lutheran Church\, 646 Burwood Hwy\, Knoxfield VIC 3180\, Australia
CATEGORIES:Fellowship,Knox,Parish,Prayer Group
GEO:-37.8764384;145.2568519
END:VEVENT
BEGIN:VEVENT
DTSTART;TZID=Australia/Melbourne:20280224T100000
DTEND;TZID=Australia/Melbourne:20280224T110000
DTSTAMP:20260423T074444
CREATED:20250604T082333Z
LAST-MODIFIED:20250604T082434Z
UID:10014164-1834999200-1835002800@ringwoodknoxparish.org.au
SUMMARY:Prayer Group @ Knox
DESCRIPTION:Prayer Group offer the opportunity to pray with others for concerns within our congregations\, as well as issues in the wider community & the needs of the world. At Our Saviour’s Knox\, we meet at 10am this time includes morning tea.
URL:https://ringwoodknoxparish.org.au/event/prayer-group-knox-2023-06-08-2-2/2028-02-24/
LOCATION:Our Saviour’s Lutheran Church\, 646 Burwood Hwy\, Knoxfield VIC 3180\, Australia
CATEGORIES:Fellowship,Knox,Parish,Prayer Group
GEO:-37.8764384;145.2568519
END:VEVENT
BEGIN:VEVENT
DTSTART;TZID=Australia/Melbourne:20280302T100000
DTEND;TZID=Australia/Melbourne:20280302T110000
DTSTAMP:20260423T074444
CREATED:20250604T082333Z
LAST-MODIFIED:20250604T082434Z
UID:10014165-1835604000-1835607600@ringwoodknoxparish.org.au
SUMMARY:Prayer Group @ Knox
DESCRIPTION:Prayer Group offer the opportunity to pray with others for concerns within our congregations\, as well as issues in the wider community & the needs of the world. At Our Saviour’s Knox\, we meet at 10am this time includes morning tea.
URL:https://ringwoodknoxparish.org.au/event/prayer-group-knox-2023-06-08-2-2/2028-03-02/
LOCATION:Our Saviour’s Lutheran Church\, 646 Burwood Hwy\, Knoxfield VIC 3180\, Australia
CATEGORIES:Fellowship,Knox,Parish,Prayer Group
GEO:-37.8764384;145.2568519
END:VEVENT
BEGIN:VEVENT
DTSTART;TZID=Australia/Melbourne:20280309T100000
DTEND;TZID=Australia/Melbourne:20280309T110000
DTSTAMP:20260423T074444
CREATED:20250604T082333Z
LAST-MODIFIED:20250604T082434Z
UID:10014166-1836208800-1836212400@ringwoodknoxparish.org.au
SUMMARY:Prayer Group @ Knox
DESCRIPTION:Prayer Group offer the opportunity to pray with others for concerns within our congregations\, as well as issues in the wider community & the needs of the world. At Our Saviour’s Knox\, we meet at 10am this time includes morning tea.
URL:https://ringwoodknoxparish.org.au/event/prayer-group-knox-2023-06-08-2-2/2028-03-09/
LOCATION:Our Saviour’s Lutheran Church\, 646 Burwood Hwy\, Knoxfield VIC 3180\, Australia
CATEGORIES:Fellowship,Knox,Parish,Prayer Group
GEO:-37.8764384;145.2568519
END:VEVENT
BEGIN:VEVENT
DTSTART;TZID=Australia/Melbourne:20280316T100000
DTEND;TZID=Australia/Melbourne:20280316T110000
DTSTAMP:20260423T074444
CREATED:20250604T082333Z
LAST-MODIFIED:20250604T082434Z
UID:10014167-1836813600-1836817200@ringwoodknoxparish.org.au
SUMMARY:Prayer Group @ Knox
DESCRIPTION:Prayer Group offer the opportunity to pray with others for concerns within our congregations\, as well as issues in the wider community & the needs of the world. At Our Saviour’s Knox\, we meet at 10am this time includes morning tea.
URL:https://ringwoodknoxparish.org.au/event/prayer-group-knox-2023-06-08-2-2/2028-03-16/
LOCATION:Our Saviour’s Lutheran Church\, 646 Burwood Hwy\, Knoxfield VIC 3180\, Australia
CATEGORIES:Fellowship,Knox,Parish,Prayer Group
GEO:-37.8764384;145.2568519
END:VEVENT
BEGIN:VEVENT
DTSTART;TZID=Australia/Melbourne:20280323T100000
DTEND;TZID=Australia/Melbourne:20280323T110000
DTSTAMP:20260423T074444
CREATED:20250604T082333Z
LAST-MODIFIED:20250604T082434Z
UID:10014168-1837418400-1837422000@ringwoodknoxparish.org.au
SUMMARY:Prayer Group @ Knox
DESCRIPTION:Prayer Group offer the opportunity to pray with others for concerns within our congregations\, as well as issues in the wider community & the needs of the world. At Our Saviour’s Knox\, we meet at 10am this time includes morning tea.
URL:https://ringwoodknoxparish.org.au/event/prayer-group-knox-2023-06-08-2-2/2028-03-23/
LOCATION:Our Saviour’s Lutheran Church\, 646 Burwood Hwy\, Knoxfield VIC 3180\, Australia
CATEGORIES:Fellowship,Knox,Parish,Prayer Group
GEO:-37.8764384;145.2568519
END:VEVENT
BEGIN:VEVENT
DTSTART;TZID=Australia/Melbourne:20280330T100000
DTEND;TZID=Australia/Melbourne:20280330T110000
DTSTAMP:20260423T074444
CREATED:20250604T082333Z
LAST-MODIFIED:20250604T082434Z
UID:10014169-1838023200-1838026800@ringwoodknoxparish.org.au
SUMMARY:Prayer Group @ Knox
DESCRIPTION:Prayer Group offer the opportunity to pray with others for concerns within our congregations\, as well as issues in the wider community & the needs of the world. At Our Saviour’s Knox\, we meet at 10am this time includes morning tea.
URL:https://ringwoodknoxparish.org.au/event/prayer-group-knox-2023-06-08-2-2/2028-03-30/
LOCATION:Our Saviour’s Lutheran Church\, 646 Burwood Hwy\, Knoxfield VIC 3180\, Australia
CATEGORIES:Fellowship,Knox,Parish,Prayer Group
GEO:-37.8764384;145.2568519
END:VEVENT
BEGIN:VEVENT
DTSTART;TZID=Australia/Melbourne:20280406T100000
DTEND;TZID=Australia/Melbourne:20280406T110000
DTSTAMP:20260423T074444
CREATED:20250604T082333Z
LAST-MODIFIED:20250604T082434Z
UID:10014170-1838628000-1838631600@ringwoodknoxparish.org.au
SUMMARY:Prayer Group @ Knox
DESCRIPTION:Prayer Group offer the opportunity to pray with others for concerns within our congregations\, as well as issues in the wider community & the needs of the world. At Our Saviour’s Knox\, we meet at 10am this time includes morning tea.
URL:https://ringwoodknoxparish.org.au/event/prayer-group-knox-2023-06-08-2-2/2028-04-06/
LOCATION:Our Saviour’s Lutheran Church\, 646 Burwood Hwy\, Knoxfield VIC 3180\, Australia
CATEGORIES:Fellowship,Knox,Parish,Prayer Group
GEO:-37.8764384;145.2568519
END:VEVENT
BEGIN:VEVENT
DTSTART;TZID=Australia/Melbourne:20280413T100000
DTEND;TZID=Australia/Melbourne:20280413T110000
DTSTAMP:20260423T074444
CREATED:20250604T082333Z
LAST-MODIFIED:20250604T082434Z
UID:10014171-1839232800-1839236400@ringwoodknoxparish.org.au
SUMMARY:Prayer Group @ Knox
DESCRIPTION:Prayer Group offer the opportunity to pray with others for concerns within our congregations\, as well as issues in the wider community & the needs of the world. At Our Saviour’s Knox\, we meet at 10am this time includes morning tea.
URL:https://ringwoodknoxparish.org.au/event/prayer-group-knox-2023-06-08-2-2/2028-04-13/
LOCATION:Our Saviour’s Lutheran Church\, 646 Burwood Hwy\, Knoxfield VIC 3180\, Australia
CATEGORIES:Fellowship,Knox,Parish,Prayer Group
GEO:-37.8764384;145.2568519
END:VEVENT
BEGIN:VEVENT
DTSTART;TZID=Australia/Melbourne:20280420T100000
DTEND;TZID=Australia/Melbourne:20280420T110000
DTSTAMP:20260423T074444
CREATED:20250604T082333Z
LAST-MODIFIED:20250604T082434Z
UID:10014172-1839837600-1839841200@ringwoodknoxparish.org.au
SUMMARY:Prayer Group @ Knox
DESCRIPTION:Prayer Group offer the opportunity to pray with others for concerns within our congregations\, as well as issues in the wider community & the needs of the world. At Our Saviour’s Knox\, we meet at 10am this time includes morning tea.
URL:https://ringwoodknoxparish.org.au/event/prayer-group-knox-2023-06-08-2-2/2028-04-20/
LOCATION:Our Saviour’s Lutheran Church\, 646 Burwood Hwy\, Knoxfield VIC 3180\, Australia
CATEGORIES:Fellowship,Knox,Parish,Prayer Group
GEO:-37.8764384;145.2568519
END:VEVENT
END:VCALENDAR