BEGIN:VCALENDAR
VERSION:2.0
PRODID:-//Ringwood Knox Parish - ECPv6.8.1//NONSGML v1.0//EN
CALSCALE:GREGORIAN
METHOD:PUBLISH
X-WR-CALNAME:Ringwood Knox Parish
X-ORIGINAL-URL:https://ringwoodknoxparish.org.au
X-WR-CALDESC:Events for Ringwood Knox Parish
REFRESH-INTERVAL;VALUE=DURATION:PT1H
X-Robots-Tag:noindex
X-PUBLISHED-TTL:PT1H
BEGIN:VTIMEZONE
TZID:Australia/Melbourne
BEGIN:STANDARD
TZOFFSETFROM:+1100
TZOFFSETTO:+1000
TZNAME:AEST
DTSTART:20270403T160000
END:STANDARD
BEGIN:DAYLIGHT
TZOFFSETFROM:+1000
TZOFFSETTO:+1100
TZNAME:AEDT
DTSTART:20271002T160000
END:DAYLIGHT
END:VTIMEZONE
BEGIN:VEVENT
DTSTART;TZID=Australia/Melbourne:20270328T110000
DTEND;TZID=Australia/Melbourne:20270328T120000
DTSTAMP:20260423T012837
CREATED:20250604T081308Z
LAST-MODIFIED:20250604T081308Z
UID:10013934-1806231600-1806235200@ringwoodknoxparish.org.au
SUMMARY:Worship at Knox
DESCRIPTION:Please join us for Sundays at 11am as we gather for worship. Services follow the themes of the church year\, providing a regular pattern of subjects for meditation & celebration. There is a Children’s Address as part of each worship service. Worship reinforces our bond with God\, strengthens our bonds with each other\, & inspires us to go out into the world to serve God by caring for each other & for His creation.\nWe encourage all ages to be involved in worship\, plenty of singing\, & visual art for meditation.
URL:https://ringwoodknoxparish.org.au/event/worship-at-knox-2/2027-03-28/
CATEGORIES:Knox,Parish
END:VEVENT
BEGIN:VEVENT
DTSTART;TZID=Australia/Melbourne:20270401T100000
DTEND;TZID=Australia/Melbourne:20270401T110000
DTSTAMP:20260423T012837
CREATED:20250604T082333Z
LAST-MODIFIED:20250604T082434Z
UID:10014117-1806573600-1806577200@ringwoodknoxparish.org.au
SUMMARY:Prayer Group @ Knox
DESCRIPTION:Prayer Group offer the opportunity to pray with others for concerns within our congregations\, as well as issues in the wider community & the needs of the world. At Our Saviour’s Knox\, we meet at 10am this time includes morning tea.
URL:https://ringwoodknoxparish.org.au/event/prayer-group-knox-2023-06-08-2-2/2027-04-01/
LOCATION:Our Saviour’s Lutheran Church\, 646 Burwood Hwy\, Knoxfield VIC 3180\, Australia
CATEGORIES:Fellowship,Knox,Parish,Prayer Group
GEO:-37.8764384;145.2568519
END:VEVENT
BEGIN:VEVENT
DTSTART;TZID=Australia/Melbourne:20270404T110000
DTEND;TZID=Australia/Melbourne:20270404T120000
DTSTAMP:20260423T012837
CREATED:20250604T081308Z
LAST-MODIFIED:20250604T081308Z
UID:10013935-1806836400-1806840000@ringwoodknoxparish.org.au
SUMMARY:Worship at Knox
DESCRIPTION:Please join us for Sundays at 11am as we gather for worship. Services follow the themes of the church year\, providing a regular pattern of subjects for meditation & celebration. There is a Children’s Address as part of each worship service. Worship reinforces our bond with God\, strengthens our bonds with each other\, & inspires us to go out into the world to serve God by caring for each other & for His creation.\nWe encourage all ages to be involved in worship\, plenty of singing\, & visual art for meditation.
URL:https://ringwoodknoxparish.org.au/event/worship-at-knox-2/2027-04-04/
CATEGORIES:Knox,Parish
END:VEVENT
BEGIN:VEVENT
DTSTART;TZID=Australia/Melbourne:20270408T100000
DTEND;TZID=Australia/Melbourne:20270408T110000
DTSTAMP:20260423T012837
CREATED:20250604T082333Z
LAST-MODIFIED:20250604T082434Z
UID:10014118-1807178400-1807182000@ringwoodknoxparish.org.au
SUMMARY:Prayer Group @ Knox
DESCRIPTION:Prayer Group offer the opportunity to pray with others for concerns within our congregations\, as well as issues in the wider community & the needs of the world. At Our Saviour’s Knox\, we meet at 10am this time includes morning tea.
URL:https://ringwoodknoxparish.org.au/event/prayer-group-knox-2023-06-08-2-2/2027-04-08/
LOCATION:Our Saviour’s Lutheran Church\, 646 Burwood Hwy\, Knoxfield VIC 3180\, Australia
CATEGORIES:Fellowship,Knox,Parish,Prayer Group
GEO:-37.8764384;145.2568519
END:VEVENT
BEGIN:VEVENT
DTSTART;TZID=Australia/Melbourne:20270411T110000
DTEND;TZID=Australia/Melbourne:20270411T120000
DTSTAMP:20260423T012837
CREATED:20250604T081308Z
LAST-MODIFIED:20250604T081308Z
UID:10013936-1807441200-1807444800@ringwoodknoxparish.org.au
SUMMARY:Worship at Knox
DESCRIPTION:Please join us for Sundays at 11am as we gather for worship. Services follow the themes of the church year\, providing a regular pattern of subjects for meditation & celebration. There is a Children’s Address as part of each worship service. Worship reinforces our bond with God\, strengthens our bonds with each other\, & inspires us to go out into the world to serve God by caring for each other & for His creation.\nWe encourage all ages to be involved in worship\, plenty of singing\, & visual art for meditation.
URL:https://ringwoodknoxparish.org.au/event/worship-at-knox-2/2027-04-11/
CATEGORIES:Knox,Parish
END:VEVENT
BEGIN:VEVENT
DTSTART;TZID=Australia/Melbourne:20270415T100000
DTEND;TZID=Australia/Melbourne:20270415T110000
DTSTAMP:20260423T012837
CREATED:20250604T082333Z
LAST-MODIFIED:20250604T082434Z
UID:10014119-1807783200-1807786800@ringwoodknoxparish.org.au
SUMMARY:Prayer Group @ Knox
DESCRIPTION:Prayer Group offer the opportunity to pray with others for concerns within our congregations\, as well as issues in the wider community & the needs of the world. At Our Saviour’s Knox\, we meet at 10am this time includes morning tea.
URL:https://ringwoodknoxparish.org.au/event/prayer-group-knox-2023-06-08-2-2/2027-04-15/
LOCATION:Our Saviour’s Lutheran Church\, 646 Burwood Hwy\, Knoxfield VIC 3180\, Australia
CATEGORIES:Fellowship,Knox,Parish,Prayer Group
GEO:-37.8764384;145.2568519
END:VEVENT
BEGIN:VEVENT
DTSTART;TZID=Australia/Melbourne:20270418T110000
DTEND;TZID=Australia/Melbourne:20270418T120000
DTSTAMP:20260423T012837
CREATED:20250604T081308Z
LAST-MODIFIED:20250604T081308Z
UID:10013937-1808046000-1808049600@ringwoodknoxparish.org.au
SUMMARY:Worship at Knox
DESCRIPTION:Please join us for Sundays at 11am as we gather for worship. Services follow the themes of the church year\, providing a regular pattern of subjects for meditation & celebration. There is a Children’s Address as part of each worship service. Worship reinforces our bond with God\, strengthens our bonds with each other\, & inspires us to go out into the world to serve God by caring for each other & for His creation.\nWe encourage all ages to be involved in worship\, plenty of singing\, & visual art for meditation.
URL:https://ringwoodknoxparish.org.au/event/worship-at-knox-2/2027-04-18/
CATEGORIES:Knox,Parish
END:VEVENT
BEGIN:VEVENT
DTSTART;TZID=Australia/Melbourne:20270422T100000
DTEND;TZID=Australia/Melbourne:20270422T110000
DTSTAMP:20260423T012837
CREATED:20250604T082333Z
LAST-MODIFIED:20250604T082434Z
UID:10014120-1808388000-1808391600@ringwoodknoxparish.org.au
SUMMARY:Prayer Group @ Knox
DESCRIPTION:Prayer Group offer the opportunity to pray with others for concerns within our congregations\, as well as issues in the wider community & the needs of the world. At Our Saviour’s Knox\, we meet at 10am this time includes morning tea.
URL:https://ringwoodknoxparish.org.au/event/prayer-group-knox-2023-06-08-2-2/2027-04-22/
LOCATION:Our Saviour’s Lutheran Church\, 646 Burwood Hwy\, Knoxfield VIC 3180\, Australia
CATEGORIES:Fellowship,Knox,Parish,Prayer Group
GEO:-37.8764384;145.2568519
END:VEVENT
BEGIN:VEVENT
DTSTART;TZID=Australia/Melbourne:20270425T110000
DTEND;TZID=Australia/Melbourne:20270425T120000
DTSTAMP:20260423T012837
CREATED:20250604T081308Z
LAST-MODIFIED:20250604T081308Z
UID:10013938-1808650800-1808654400@ringwoodknoxparish.org.au
SUMMARY:Worship at Knox
DESCRIPTION:Please join us for Sundays at 11am as we gather for worship. Services follow the themes of the church year\, providing a regular pattern of subjects for meditation & celebration. There is a Children’s Address as part of each worship service. Worship reinforces our bond with God\, strengthens our bonds with each other\, & inspires us to go out into the world to serve God by caring for each other & for His creation.\nWe encourage all ages to be involved in worship\, plenty of singing\, & visual art for meditation.
URL:https://ringwoodknoxparish.org.au/event/worship-at-knox-2/2027-04-25/
CATEGORIES:Knox,Parish
END:VEVENT
BEGIN:VEVENT
DTSTART;TZID=Australia/Melbourne:20270429T100000
DTEND;TZID=Australia/Melbourne:20270429T110000
DTSTAMP:20260423T012837
CREATED:20250604T082333Z
LAST-MODIFIED:20250604T082434Z
UID:10014121-1808992800-1808996400@ringwoodknoxparish.org.au
SUMMARY:Prayer Group @ Knox
DESCRIPTION:Prayer Group offer the opportunity to pray with others for concerns within our congregations\, as well as issues in the wider community & the needs of the world. At Our Saviour’s Knox\, we meet at 10am this time includes morning tea.
URL:https://ringwoodknoxparish.org.au/event/prayer-group-knox-2023-06-08-2-2/2027-04-29/
LOCATION:Our Saviour’s Lutheran Church\, 646 Burwood Hwy\, Knoxfield VIC 3180\, Australia
CATEGORIES:Fellowship,Knox,Parish,Prayer Group
GEO:-37.8764384;145.2568519
END:VEVENT
BEGIN:VEVENT
DTSTART;TZID=Australia/Melbourne:20270502T110000
DTEND;TZID=Australia/Melbourne:20270502T120000
DTSTAMP:20260423T012837
CREATED:20250604T081308Z
LAST-MODIFIED:20250604T081308Z
UID:10013939-1809255600-1809259200@ringwoodknoxparish.org.au
SUMMARY:Worship at Knox
DESCRIPTION:Please join us for Sundays at 11am as we gather for worship. Services follow the themes of the church year\, providing a regular pattern of subjects for meditation & celebration. There is a Children’s Address as part of each worship service. Worship reinforces our bond with God\, strengthens our bonds with each other\, & inspires us to go out into the world to serve God by caring for each other & for His creation.\nWe encourage all ages to be involved in worship\, plenty of singing\, & visual art for meditation.
URL:https://ringwoodknoxparish.org.au/event/worship-at-knox-2/2027-05-02/
CATEGORIES:Knox,Parish
END:VEVENT
BEGIN:VEVENT
DTSTART;TZID=Australia/Melbourne:20270506T100000
DTEND;TZID=Australia/Melbourne:20270506T110000
DTSTAMP:20260423T012837
CREATED:20250604T082333Z
LAST-MODIFIED:20250604T082434Z
UID:10014122-1809597600-1809601200@ringwoodknoxparish.org.au
SUMMARY:Prayer Group @ Knox
DESCRIPTION:Prayer Group offer the opportunity to pray with others for concerns within our congregations\, as well as issues in the wider community & the needs of the world. At Our Saviour’s Knox\, we meet at 10am this time includes morning tea.
URL:https://ringwoodknoxparish.org.au/event/prayer-group-knox-2023-06-08-2-2/2027-05-06/
LOCATION:Our Saviour’s Lutheran Church\, 646 Burwood Hwy\, Knoxfield VIC 3180\, Australia
CATEGORIES:Fellowship,Knox,Parish,Prayer Group
GEO:-37.8764384;145.2568519
END:VEVENT
BEGIN:VEVENT
DTSTART;TZID=Australia/Melbourne:20270509T110000
DTEND;TZID=Australia/Melbourne:20270509T120000
DTSTAMP:20260423T012837
CREATED:20250604T081308Z
LAST-MODIFIED:20250604T081308Z
UID:10013940-1809860400-1809864000@ringwoodknoxparish.org.au
SUMMARY:Worship at Knox
DESCRIPTION:Please join us for Sundays at 11am as we gather for worship. Services follow the themes of the church year\, providing a regular pattern of subjects for meditation & celebration. There is a Children’s Address as part of each worship service. Worship reinforces our bond with God\, strengthens our bonds with each other\, & inspires us to go out into the world to serve God by caring for each other & for His creation.\nWe encourage all ages to be involved in worship\, plenty of singing\, & visual art for meditation.
URL:https://ringwoodknoxparish.org.au/event/worship-at-knox-2/2027-05-09/
CATEGORIES:Knox,Parish
END:VEVENT
BEGIN:VEVENT
DTSTART;TZID=Australia/Melbourne:20270513T100000
DTEND;TZID=Australia/Melbourne:20270513T110000
DTSTAMP:20260423T012837
CREATED:20250604T082333Z
LAST-MODIFIED:20250604T082434Z
UID:10014123-1810202400-1810206000@ringwoodknoxparish.org.au
SUMMARY:Prayer Group @ Knox
DESCRIPTION:Prayer Group offer the opportunity to pray with others for concerns within our congregations\, as well as issues in the wider community & the needs of the world. At Our Saviour’s Knox\, we meet at 10am this time includes morning tea.
URL:https://ringwoodknoxparish.org.au/event/prayer-group-knox-2023-06-08-2-2/2027-05-13/
LOCATION:Our Saviour’s Lutheran Church\, 646 Burwood Hwy\, Knoxfield VIC 3180\, Australia
CATEGORIES:Fellowship,Knox,Parish,Prayer Group
GEO:-37.8764384;145.2568519
END:VEVENT
BEGIN:VEVENT
DTSTART;TZID=Australia/Melbourne:20270516T110000
DTEND;TZID=Australia/Melbourne:20270516T120000
DTSTAMP:20260423T012837
CREATED:20250604T081308Z
LAST-MODIFIED:20250604T081308Z
UID:10013941-1810465200-1810468800@ringwoodknoxparish.org.au
SUMMARY:Worship at Knox
DESCRIPTION:Please join us for Sundays at 11am as we gather for worship. Services follow the themes of the church year\, providing a regular pattern of subjects for meditation & celebration. There is a Children’s Address as part of each worship service. Worship reinforces our bond with God\, strengthens our bonds with each other\, & inspires us to go out into the world to serve God by caring for each other & for His creation.\nWe encourage all ages to be involved in worship\, plenty of singing\, & visual art for meditation.
URL:https://ringwoodknoxparish.org.au/event/worship-at-knox-2/2027-05-16/
CATEGORIES:Knox,Parish
END:VEVENT
BEGIN:VEVENT
DTSTART;TZID=Australia/Melbourne:20270520T100000
DTEND;TZID=Australia/Melbourne:20270520T110000
DTSTAMP:20260423T012837
CREATED:20250604T082333Z
LAST-MODIFIED:20250604T082434Z
UID:10014124-1810807200-1810810800@ringwoodknoxparish.org.au
SUMMARY:Prayer Group @ Knox
DESCRIPTION:Prayer Group offer the opportunity to pray with others for concerns within our congregations\, as well as issues in the wider community & the needs of the world. At Our Saviour’s Knox\, we meet at 10am this time includes morning tea.
URL:https://ringwoodknoxparish.org.au/event/prayer-group-knox-2023-06-08-2-2/2027-05-20/
LOCATION:Our Saviour’s Lutheran Church\, 646 Burwood Hwy\, Knoxfield VIC 3180\, Australia
CATEGORIES:Fellowship,Knox,Parish,Prayer Group
GEO:-37.8764384;145.2568519
END:VEVENT
BEGIN:VEVENT
DTSTART;TZID=Australia/Melbourne:20270523T110000
DTEND;TZID=Australia/Melbourne:20270523T120000
DTSTAMP:20260423T012837
CREATED:20250604T081308Z
LAST-MODIFIED:20250604T081308Z
UID:10013942-1811070000-1811073600@ringwoodknoxparish.org.au
SUMMARY:Worship at Knox
DESCRIPTION:Please join us for Sundays at 11am as we gather for worship. Services follow the themes of the church year\, providing a regular pattern of subjects for meditation & celebration. There is a Children’s Address as part of each worship service. Worship reinforces our bond with God\, strengthens our bonds with each other\, & inspires us to go out into the world to serve God by caring for each other & for His creation.\nWe encourage all ages to be involved in worship\, plenty of singing\, & visual art for meditation.
URL:https://ringwoodknoxparish.org.au/event/worship-at-knox-2/2027-05-23/
CATEGORIES:Knox,Parish
END:VEVENT
BEGIN:VEVENT
DTSTART;TZID=Australia/Melbourne:20270527T100000
DTEND;TZID=Australia/Melbourne:20270527T110000
DTSTAMP:20260423T012837
CREATED:20250604T082333Z
LAST-MODIFIED:20250604T082434Z
UID:10014125-1811412000-1811415600@ringwoodknoxparish.org.au
SUMMARY:Prayer Group @ Knox
DESCRIPTION:Prayer Group offer the opportunity to pray with others for concerns within our congregations\, as well as issues in the wider community & the needs of the world. At Our Saviour’s Knox\, we meet at 10am this time includes morning tea.
URL:https://ringwoodknoxparish.org.au/event/prayer-group-knox-2023-06-08-2-2/2027-05-27/
LOCATION:Our Saviour’s Lutheran Church\, 646 Burwood Hwy\, Knoxfield VIC 3180\, Australia
CATEGORIES:Fellowship,Knox,Parish,Prayer Group
GEO:-37.8764384;145.2568519
END:VEVENT
BEGIN:VEVENT
DTSTART;TZID=Australia/Melbourne:20270530T110000
DTEND;TZID=Australia/Melbourne:20270530T120000
DTSTAMP:20260423T012837
CREATED:20250604T081308Z
LAST-MODIFIED:20250604T081308Z
UID:10013943-1811674800-1811678400@ringwoodknoxparish.org.au
SUMMARY:Worship at Knox
DESCRIPTION:Please join us for Sundays at 11am as we gather for worship. Services follow the themes of the church year\, providing a regular pattern of subjects for meditation & celebration. There is a Children’s Address as part of each worship service. Worship reinforces our bond with God\, strengthens our bonds with each other\, & inspires us to go out into the world to serve God by caring for each other & for His creation.\nWe encourage all ages to be involved in worship\, plenty of singing\, & visual art for meditation.
URL:https://ringwoodknoxparish.org.au/event/worship-at-knox-2/2027-05-30/
CATEGORIES:Knox,Parish
END:VEVENT
BEGIN:VEVENT
DTSTART;TZID=Australia/Melbourne:20270603T100000
DTEND;TZID=Australia/Melbourne:20270603T110000
DTSTAMP:20260423T012837
CREATED:20250604T082333Z
LAST-MODIFIED:20250604T082434Z
UID:10014126-1812016800-1812020400@ringwoodknoxparish.org.au
SUMMARY:Prayer Group @ Knox
DESCRIPTION:Prayer Group offer the opportunity to pray with others for concerns within our congregations\, as well as issues in the wider community & the needs of the world. At Our Saviour’s Knox\, we meet at 10am this time includes morning tea.
URL:https://ringwoodknoxparish.org.au/event/prayer-group-knox-2023-06-08-2-2/2027-06-03/
LOCATION:Our Saviour’s Lutheran Church\, 646 Burwood Hwy\, Knoxfield VIC 3180\, Australia
CATEGORIES:Fellowship,Knox,Parish,Prayer Group
GEO:-37.8764384;145.2568519
END:VEVENT
BEGIN:VEVENT
DTSTART;TZID=Australia/Melbourne:20270606T110000
DTEND;TZID=Australia/Melbourne:20270606T120000
DTSTAMP:20260423T012837
CREATED:20250604T081308Z
LAST-MODIFIED:20250604T081308Z
UID:10013944-1812279600-1812283200@ringwoodknoxparish.org.au
SUMMARY:Worship at Knox
DESCRIPTION:Please join us for Sundays at 11am as we gather for worship. Services follow the themes of the church year\, providing a regular pattern of subjects for meditation & celebration. There is a Children’s Address as part of each worship service. Worship reinforces our bond with God\, strengthens our bonds with each other\, & inspires us to go out into the world to serve God by caring for each other & for His creation.\nWe encourage all ages to be involved in worship\, plenty of singing\, & visual art for meditation.
URL:https://ringwoodknoxparish.org.au/event/worship-at-knox-2/2027-06-06/
CATEGORIES:Knox,Parish
END:VEVENT
BEGIN:VEVENT
DTSTART;TZID=Australia/Melbourne:20270610T100000
DTEND;TZID=Australia/Melbourne:20270610T110000
DTSTAMP:20260423T012837
CREATED:20250604T082333Z
LAST-MODIFIED:20250604T082434Z
UID:10014127-1812621600-1812625200@ringwoodknoxparish.org.au
SUMMARY:Prayer Group @ Knox
DESCRIPTION:Prayer Group offer the opportunity to pray with others for concerns within our congregations\, as well as issues in the wider community & the needs of the world. At Our Saviour’s Knox\, we meet at 10am this time includes morning tea.
URL:https://ringwoodknoxparish.org.au/event/prayer-group-knox-2023-06-08-2-2/2027-06-10/
LOCATION:Our Saviour’s Lutheran Church\, 646 Burwood Hwy\, Knoxfield VIC 3180\, Australia
CATEGORIES:Fellowship,Knox,Parish,Prayer Group
GEO:-37.8764384;145.2568519
END:VEVENT
BEGIN:VEVENT
DTSTART;TZID=Australia/Melbourne:20270613T110000
DTEND;TZID=Australia/Melbourne:20270613T120000
DTSTAMP:20260423T012837
CREATED:20250604T081308Z
LAST-MODIFIED:20250604T081308Z
UID:10013945-1812884400-1812888000@ringwoodknoxparish.org.au
SUMMARY:Worship at Knox
DESCRIPTION:Please join us for Sundays at 11am as we gather for worship. Services follow the themes of the church year\, providing a regular pattern of subjects for meditation & celebration. There is a Children’s Address as part of each worship service. Worship reinforces our bond with God\, strengthens our bonds with each other\, & inspires us to go out into the world to serve God by caring for each other & for His creation.\nWe encourage all ages to be involved in worship\, plenty of singing\, & visual art for meditation.
URL:https://ringwoodknoxparish.org.au/event/worship-at-knox-2/2027-06-13/
CATEGORIES:Knox,Parish
END:VEVENT
BEGIN:VEVENT
DTSTART;TZID=Australia/Melbourne:20270617T100000
DTEND;TZID=Australia/Melbourne:20270617T110000
DTSTAMP:20260423T012837
CREATED:20250604T082333Z
LAST-MODIFIED:20250604T082434Z
UID:10014128-1813226400-1813230000@ringwoodknoxparish.org.au
SUMMARY:Prayer Group @ Knox
DESCRIPTION:Prayer Group offer the opportunity to pray with others for concerns within our congregations\, as well as issues in the wider community & the needs of the world. At Our Saviour’s Knox\, we meet at 10am this time includes morning tea.
URL:https://ringwoodknoxparish.org.au/event/prayer-group-knox-2023-06-08-2-2/2027-06-17/
LOCATION:Our Saviour’s Lutheran Church\, 646 Burwood Hwy\, Knoxfield VIC 3180\, Australia
CATEGORIES:Fellowship,Knox,Parish,Prayer Group
GEO:-37.8764384;145.2568519
END:VEVENT
BEGIN:VEVENT
DTSTART;TZID=Australia/Melbourne:20270620T110000
DTEND;TZID=Australia/Melbourne:20270620T120000
DTSTAMP:20260423T012837
CREATED:20250604T081308Z
LAST-MODIFIED:20250604T081308Z
UID:10013946-1813489200-1813492800@ringwoodknoxparish.org.au
SUMMARY:Worship at Knox
DESCRIPTION:Please join us for Sundays at 11am as we gather for worship. Services follow the themes of the church year\, providing a regular pattern of subjects for meditation & celebration. There is a Children’s Address as part of each worship service. Worship reinforces our bond with God\, strengthens our bonds with each other\, & inspires us to go out into the world to serve God by caring for each other & for His creation.\nWe encourage all ages to be involved in worship\, plenty of singing\, & visual art for meditation.
URL:https://ringwoodknoxparish.org.au/event/worship-at-knox-2/2027-06-20/
CATEGORIES:Knox,Parish
END:VEVENT
BEGIN:VEVENT
DTSTART;TZID=Australia/Melbourne:20270624T100000
DTEND;TZID=Australia/Melbourne:20270624T110000
DTSTAMP:20260423T012837
CREATED:20250604T082333Z
LAST-MODIFIED:20250604T082434Z
UID:10014129-1813831200-1813834800@ringwoodknoxparish.org.au
SUMMARY:Prayer Group @ Knox
DESCRIPTION:Prayer Group offer the opportunity to pray with others for concerns within our congregations\, as well as issues in the wider community & the needs of the world. At Our Saviour’s Knox\, we meet at 10am this time includes morning tea.
URL:https://ringwoodknoxparish.org.au/event/prayer-group-knox-2023-06-08-2-2/2027-06-24/
LOCATION:Our Saviour’s Lutheran Church\, 646 Burwood Hwy\, Knoxfield VIC 3180\, Australia
CATEGORIES:Fellowship,Knox,Parish,Prayer Group
GEO:-37.8764384;145.2568519
END:VEVENT
BEGIN:VEVENT
DTSTART;TZID=Australia/Melbourne:20270627T110000
DTEND;TZID=Australia/Melbourne:20270627T120000
DTSTAMP:20260423T012837
CREATED:20250604T081308Z
LAST-MODIFIED:20250604T081308Z
UID:10013947-1814094000-1814097600@ringwoodknoxparish.org.au
SUMMARY:Worship at Knox
DESCRIPTION:Please join us for Sundays at 11am as we gather for worship. Services follow the themes of the church year\, providing a regular pattern of subjects for meditation & celebration. There is a Children’s Address as part of each worship service. Worship reinforces our bond with God\, strengthens our bonds with each other\, & inspires us to go out into the world to serve God by caring for each other & for His creation.\nWe encourage all ages to be involved in worship\, plenty of singing\, & visual art for meditation.
URL:https://ringwoodknoxparish.org.au/event/worship-at-knox-2/2027-06-27/
CATEGORIES:Knox,Parish
END:VEVENT
BEGIN:VEVENT
DTSTART;TZID=Australia/Melbourne:20270701T100000
DTEND;TZID=Australia/Melbourne:20270701T110000
DTSTAMP:20260423T012837
CREATED:20250604T082333Z
LAST-MODIFIED:20250604T082434Z
UID:10014130-1814436000-1814439600@ringwoodknoxparish.org.au
SUMMARY:Prayer Group @ Knox
DESCRIPTION:Prayer Group offer the opportunity to pray with others for concerns within our congregations\, as well as issues in the wider community & the needs of the world. At Our Saviour’s Knox\, we meet at 10am this time includes morning tea.
URL:https://ringwoodknoxparish.org.au/event/prayer-group-knox-2023-06-08-2-2/2027-07-01/
LOCATION:Our Saviour’s Lutheran Church\, 646 Burwood Hwy\, Knoxfield VIC 3180\, Australia
CATEGORIES:Fellowship,Knox,Parish,Prayer Group
GEO:-37.8764384;145.2568519
END:VEVENT
BEGIN:VEVENT
DTSTART;TZID=Australia/Melbourne:20270708T100000
DTEND;TZID=Australia/Melbourne:20270708T110000
DTSTAMP:20260423T012837
CREATED:20250604T082333Z
LAST-MODIFIED:20250604T082434Z
UID:10014131-1815040800-1815044400@ringwoodknoxparish.org.au
SUMMARY:Prayer Group @ Knox
DESCRIPTION:Prayer Group offer the opportunity to pray with others for concerns within our congregations\, as well as issues in the wider community & the needs of the world. At Our Saviour’s Knox\, we meet at 10am this time includes morning tea.
URL:https://ringwoodknoxparish.org.au/event/prayer-group-knox-2023-06-08-2-2/2027-07-08/
LOCATION:Our Saviour’s Lutheran Church\, 646 Burwood Hwy\, Knoxfield VIC 3180\, Australia
CATEGORIES:Fellowship,Knox,Parish,Prayer Group
GEO:-37.8764384;145.2568519
END:VEVENT
BEGIN:VEVENT
DTSTART;TZID=Australia/Melbourne:20270715T100000
DTEND;TZID=Australia/Melbourne:20270715T110000
DTSTAMP:20260423T012837
CREATED:20250604T082333Z
LAST-MODIFIED:20250604T082434Z
UID:10014132-1815645600-1815649200@ringwoodknoxparish.org.au
SUMMARY:Prayer Group @ Knox
DESCRIPTION:Prayer Group offer the opportunity to pray with others for concerns within our congregations\, as well as issues in the wider community & the needs of the world. At Our Saviour’s Knox\, we meet at 10am this time includes morning tea.
URL:https://ringwoodknoxparish.org.au/event/prayer-group-knox-2023-06-08-2-2/2027-07-15/
LOCATION:Our Saviour’s Lutheran Church\, 646 Burwood Hwy\, Knoxfield VIC 3180\, Australia
CATEGORIES:Fellowship,Knox,Parish,Prayer Group
GEO:-37.8764384;145.2568519
END:VEVENT
END:VCALENDAR