BEGIN:VCALENDAR
VERSION:2.0
PRODID:-//Ringwood Knox Parish - ECPv6.8.1//NONSGML v1.0//EN
CALSCALE:GREGORIAN
METHOD:PUBLISH
X-ORIGINAL-URL:https://ringwoodknoxparish.org.au
X-WR-CALDESC:Events for Ringwood Knox Parish
REFRESH-INTERVAL;VALUE=DURATION:PT1H
X-Robots-Tag:noindex
X-PUBLISHED-TTL:PT1H
BEGIN:VTIMEZONE
TZID:Australia/Melbourne
BEGIN:STANDARD
TZOFFSETFROM:+1100
TZOFFSETTO:+1000
TZNAME:AEST
DTSTART:20260404T160000
END:STANDARD
BEGIN:DAYLIGHT
TZOFFSETFROM:+1000
TZOFFSETTO:+1100
TZNAME:AEDT
DTSTART:20261003T160000
END:DAYLIGHT
BEGIN:STANDARD
TZOFFSETFROM:+1100
TZOFFSETTO:+1000
TZNAME:AEST
DTSTART:20270403T160000
END:STANDARD
BEGIN:DAYLIGHT
TZOFFSETFROM:+1000
TZOFFSETTO:+1100
TZNAME:AEDT
DTSTART:20271002T160000
END:DAYLIGHT
END:VTIMEZONE
BEGIN:VEVENT
DTSTART;TZID=Australia/Melbourne:20261109T100000
DTEND;TZID=Australia/Melbourne:20261109T110000
DTSTAMP:20260423T194328
CREATED:20250604T082704Z
LAST-MODIFIED:20250604T082821Z
UID:10014361-1794218400-1794222000@ringwoodknoxparish.org.au
SUMMARY:Bible Study with Pastor Peter
DESCRIPTION:Every Monday morning in The Good Shepherd Retirement Village Residents Center from 10am to 11am. Pastor will look at the coming Sunday’s Bible readings or any topic you would like discussed. \nJoin him for morning tea and discussion of whatever is on people’s hearts and minds. \nAll welcome. \nFor more information please contact the church office.
URL:https://ringwoodknoxparish.org.au/event/mornings-with-pastor-peter-2/2026-11-09/
CATEGORIES:Bible Study,Fellowship,Good Shephered Retirement Village,Morning Tea,Parish,Ringwood
END:VEVENT
BEGIN:VEVENT
DTSTART;TZID=Australia/Melbourne:20261116T100000
DTEND;TZID=Australia/Melbourne:20261116T110000
DTSTAMP:20260423T194328
CREATED:20250604T082704Z
LAST-MODIFIED:20250604T082821Z
UID:10014362-1794823200-1794826800@ringwoodknoxparish.org.au
SUMMARY:Bible Study with Pastor Peter
DESCRIPTION:Every Monday morning in The Good Shepherd Retirement Village Residents Center from 10am to 11am. Pastor will look at the coming Sunday’s Bible readings or any topic you would like discussed. \nJoin him for morning tea and discussion of whatever is on people’s hearts and minds. \nAll welcome. \nFor more information please contact the church office.
URL:https://ringwoodknoxparish.org.au/event/mornings-with-pastor-peter-2/2026-11-16/
CATEGORIES:Bible Study,Fellowship,Good Shephered Retirement Village,Morning Tea,Parish,Ringwood
END:VEVENT
BEGIN:VEVENT
DTSTART;TZID=Australia/Melbourne:20261123T100000
DTEND;TZID=Australia/Melbourne:20261123T110000
DTSTAMP:20260423T194328
CREATED:20250604T082704Z
LAST-MODIFIED:20250604T082821Z
UID:10014363-1795428000-1795431600@ringwoodknoxparish.org.au
SUMMARY:Bible Study with Pastor Peter
DESCRIPTION:Every Monday morning in The Good Shepherd Retirement Village Residents Center from 10am to 11am. Pastor will look at the coming Sunday’s Bible readings or any topic you would like discussed. \nJoin him for morning tea and discussion of whatever is on people’s hearts and minds. \nAll welcome. \nFor more information please contact the church office.
URL:https://ringwoodknoxparish.org.au/event/mornings-with-pastor-peter-2/2026-11-23/
CATEGORIES:Bible Study,Fellowship,Good Shephered Retirement Village,Morning Tea,Parish,Ringwood
END:VEVENT
BEGIN:VEVENT
DTSTART;TZID=Australia/Melbourne:20261130T100000
DTEND;TZID=Australia/Melbourne:20261130T110000
DTSTAMP:20260423T194328
CREATED:20250604T082704Z
LAST-MODIFIED:20250604T082821Z
UID:10014364-1796032800-1796036400@ringwoodknoxparish.org.au
SUMMARY:Bible Study with Pastor Peter
DESCRIPTION:Every Monday morning in The Good Shepherd Retirement Village Residents Center from 10am to 11am. Pastor will look at the coming Sunday’s Bible readings or any topic you would like discussed. \nJoin him for morning tea and discussion of whatever is on people’s hearts and minds. \nAll welcome. \nFor more information please contact the church office.
URL:https://ringwoodknoxparish.org.au/event/mornings-with-pastor-peter-2/2026-11-30/
CATEGORIES:Bible Study,Fellowship,Good Shephered Retirement Village,Morning Tea,Parish,Ringwood
END:VEVENT
BEGIN:VEVENT
DTSTART;TZID=Australia/Melbourne:20261207T100000
DTEND;TZID=Australia/Melbourne:20261207T110000
DTSTAMP:20260423T194328
CREATED:20250604T082704Z
LAST-MODIFIED:20250604T082821Z
UID:10014365-1796637600-1796641200@ringwoodknoxparish.org.au
SUMMARY:Bible Study with Pastor Peter
DESCRIPTION:Every Monday morning in The Good Shepherd Retirement Village Residents Center from 10am to 11am. Pastor will look at the coming Sunday’s Bible readings or any topic you would like discussed. \nJoin him for morning tea and discussion of whatever is on people’s hearts and minds. \nAll welcome. \nFor more information please contact the church office.
URL:https://ringwoodknoxparish.org.au/event/mornings-with-pastor-peter-2/2026-12-07/
CATEGORIES:Bible Study,Fellowship,Good Shephered Retirement Village,Morning Tea,Parish,Ringwood
END:VEVENT
BEGIN:VEVENT
DTSTART;TZID=Australia/Melbourne:20261214T100000
DTEND;TZID=Australia/Melbourne:20261214T110000
DTSTAMP:20260423T194328
CREATED:20250604T082704Z
LAST-MODIFIED:20250604T082821Z
UID:10014366-1797242400-1797246000@ringwoodknoxparish.org.au
SUMMARY:Bible Study with Pastor Peter
DESCRIPTION:Every Monday morning in The Good Shepherd Retirement Village Residents Center from 10am to 11am. Pastor will look at the coming Sunday’s Bible readings or any topic you would like discussed. \nJoin him for morning tea and discussion of whatever is on people’s hearts and minds. \nAll welcome. \nFor more information please contact the church office.
URL:https://ringwoodknoxparish.org.au/event/mornings-with-pastor-peter-2/2026-12-14/
CATEGORIES:Bible Study,Fellowship,Good Shephered Retirement Village,Morning Tea,Parish,Ringwood
END:VEVENT
BEGIN:VEVENT
DTSTART;TZID=Australia/Melbourne:20261221T100000
DTEND;TZID=Australia/Melbourne:20261221T110000
DTSTAMP:20260423T194328
CREATED:20250604T082704Z
LAST-MODIFIED:20250604T082821Z
UID:10014367-1797847200-1797850800@ringwoodknoxparish.org.au
SUMMARY:Bible Study with Pastor Peter
DESCRIPTION:Every Monday morning in The Good Shepherd Retirement Village Residents Center from 10am to 11am. Pastor will look at the coming Sunday’s Bible readings or any topic you would like discussed. \nJoin him for morning tea and discussion of whatever is on people’s hearts and minds. \nAll welcome. \nFor more information please contact the church office.
URL:https://ringwoodknoxparish.org.au/event/mornings-with-pastor-peter-2/2026-12-21/
CATEGORIES:Bible Study,Fellowship,Good Shephered Retirement Village,Morning Tea,Parish,Ringwood
END:VEVENT
BEGIN:VEVENT
DTSTART;TZID=Australia/Melbourne:20261228T100000
DTEND;TZID=Australia/Melbourne:20261228T110000
DTSTAMP:20260423T194328
CREATED:20250604T082704Z
LAST-MODIFIED:20250604T082821Z
UID:10014368-1798452000-1798455600@ringwoodknoxparish.org.au
SUMMARY:Bible Study with Pastor Peter
DESCRIPTION:Every Monday morning in The Good Shepherd Retirement Village Residents Center from 10am to 11am. Pastor will look at the coming Sunday’s Bible readings or any topic you would like discussed. \nJoin him for morning tea and discussion of whatever is on people’s hearts and minds. \nAll welcome. \nFor more information please contact the church office.
URL:https://ringwoodknoxparish.org.au/event/mornings-with-pastor-peter-2/2026-12-28/
CATEGORIES:Bible Study,Fellowship,Good Shephered Retirement Village,Morning Tea,Parish,Ringwood
END:VEVENT
BEGIN:VEVENT
DTSTART;TZID=Australia/Melbourne:20270104T100000
DTEND;TZID=Australia/Melbourne:20270104T110000
DTSTAMP:20260423T194328
CREATED:20250604T082704Z
LAST-MODIFIED:20250604T082821Z
UID:10014369-1799056800-1799060400@ringwoodknoxparish.org.au
SUMMARY:Bible Study with Pastor Peter
DESCRIPTION:Every Monday morning in The Good Shepherd Retirement Village Residents Center from 10am to 11am. Pastor will look at the coming Sunday’s Bible readings or any topic you would like discussed. \nJoin him for morning tea and discussion of whatever is on people’s hearts and minds. \nAll welcome. \nFor more information please contact the church office.
URL:https://ringwoodknoxparish.org.au/event/mornings-with-pastor-peter-2/2027-01-04/
CATEGORIES:Bible Study,Fellowship,Good Shephered Retirement Village,Morning Tea,Parish,Ringwood
END:VEVENT
BEGIN:VEVENT
DTSTART;TZID=Australia/Melbourne:20270111T100000
DTEND;TZID=Australia/Melbourne:20270111T110000
DTSTAMP:20260423T194328
CREATED:20250604T082704Z
LAST-MODIFIED:20250604T082821Z
UID:10014370-1799661600-1799665200@ringwoodknoxparish.org.au
SUMMARY:Bible Study with Pastor Peter
DESCRIPTION:Every Monday morning in The Good Shepherd Retirement Village Residents Center from 10am to 11am. Pastor will look at the coming Sunday’s Bible readings or any topic you would like discussed. \nJoin him for morning tea and discussion of whatever is on people’s hearts and minds. \nAll welcome. \nFor more information please contact the church office.
URL:https://ringwoodknoxparish.org.au/event/mornings-with-pastor-peter-2/2027-01-11/
CATEGORIES:Bible Study,Fellowship,Good Shephered Retirement Village,Morning Tea,Parish,Ringwood
END:VEVENT
BEGIN:VEVENT
DTSTART;TZID=Australia/Melbourne:20270118T100000
DTEND;TZID=Australia/Melbourne:20270118T110000
DTSTAMP:20260423T194328
CREATED:20250604T082704Z
LAST-MODIFIED:20250604T082821Z
UID:10014371-1800266400-1800270000@ringwoodknoxparish.org.au
SUMMARY:Bible Study with Pastor Peter
DESCRIPTION:Every Monday morning in The Good Shepherd Retirement Village Residents Center from 10am to 11am. Pastor will look at the coming Sunday’s Bible readings or any topic you would like discussed. \nJoin him for morning tea and discussion of whatever is on people’s hearts and minds. \nAll welcome. \nFor more information please contact the church office.
URL:https://ringwoodknoxparish.org.au/event/mornings-with-pastor-peter-2/2027-01-18/
CATEGORIES:Bible Study,Fellowship,Good Shephered Retirement Village,Morning Tea,Parish,Ringwood
END:VEVENT
BEGIN:VEVENT
DTSTART;TZID=Australia/Melbourne:20270125T100000
DTEND;TZID=Australia/Melbourne:20270125T110000
DTSTAMP:20260423T194328
CREATED:20250604T082704Z
LAST-MODIFIED:20250604T082821Z
UID:10014372-1800871200-1800874800@ringwoodknoxparish.org.au
SUMMARY:Bible Study with Pastor Peter
DESCRIPTION:Every Monday morning in The Good Shepherd Retirement Village Residents Center from 10am to 11am. Pastor will look at the coming Sunday’s Bible readings or any topic you would like discussed. \nJoin him for morning tea and discussion of whatever is on people’s hearts and minds. \nAll welcome. \nFor more information please contact the church office.
URL:https://ringwoodknoxparish.org.au/event/mornings-with-pastor-peter-2/2027-01-25/
CATEGORIES:Bible Study,Fellowship,Good Shephered Retirement Village,Morning Tea,Parish,Ringwood
END:VEVENT
BEGIN:VEVENT
DTSTART;TZID=Australia/Melbourne:20270201T100000
DTEND;TZID=Australia/Melbourne:20270201T110000
DTSTAMP:20260423T194328
CREATED:20250604T082704Z
LAST-MODIFIED:20250604T082821Z
UID:10014373-1801476000-1801479600@ringwoodknoxparish.org.au
SUMMARY:Bible Study with Pastor Peter
DESCRIPTION:Every Monday morning in The Good Shepherd Retirement Village Residents Center from 10am to 11am. Pastor will look at the coming Sunday’s Bible readings or any topic you would like discussed. \nJoin him for morning tea and discussion of whatever is on people’s hearts and minds. \nAll welcome. \nFor more information please contact the church office.
URL:https://ringwoodknoxparish.org.au/event/mornings-with-pastor-peter-2/2027-02-01/
CATEGORIES:Bible Study,Fellowship,Good Shephered Retirement Village,Morning Tea,Parish,Ringwood
END:VEVENT
BEGIN:VEVENT
DTSTART;TZID=Australia/Melbourne:20270208T100000
DTEND;TZID=Australia/Melbourne:20270208T110000
DTSTAMP:20260423T194328
CREATED:20250604T082704Z
LAST-MODIFIED:20250604T082821Z
UID:10014374-1802080800-1802084400@ringwoodknoxparish.org.au
SUMMARY:Bible Study with Pastor Peter
DESCRIPTION:Every Monday morning in The Good Shepherd Retirement Village Residents Center from 10am to 11am. Pastor will look at the coming Sunday’s Bible readings or any topic you would like discussed. \nJoin him for morning tea and discussion of whatever is on people’s hearts and minds. \nAll welcome. \nFor more information please contact the church office.
URL:https://ringwoodknoxparish.org.au/event/mornings-with-pastor-peter-2/2027-02-08/
CATEGORIES:Bible Study,Fellowship,Good Shephered Retirement Village,Morning Tea,Parish,Ringwood
END:VEVENT
BEGIN:VEVENT
DTSTART;TZID=Australia/Melbourne:20270215T100000
DTEND;TZID=Australia/Melbourne:20270215T110000
DTSTAMP:20260423T194328
CREATED:20250604T082704Z
LAST-MODIFIED:20250604T082821Z
UID:10014375-1802685600-1802689200@ringwoodknoxparish.org.au
SUMMARY:Bible Study with Pastor Peter
DESCRIPTION:Every Monday morning in The Good Shepherd Retirement Village Residents Center from 10am to 11am. Pastor will look at the coming Sunday’s Bible readings or any topic you would like discussed. \nJoin him for morning tea and discussion of whatever is on people’s hearts and minds. \nAll welcome. \nFor more information please contact the church office.
URL:https://ringwoodknoxparish.org.au/event/mornings-with-pastor-peter-2/2027-02-15/
CATEGORIES:Bible Study,Fellowship,Good Shephered Retirement Village,Morning Tea,Parish,Ringwood
END:VEVENT
BEGIN:VEVENT
DTSTART;TZID=Australia/Melbourne:20270222T100000
DTEND;TZID=Australia/Melbourne:20270222T110000
DTSTAMP:20260423T194328
CREATED:20250604T082704Z
LAST-MODIFIED:20250604T082821Z
UID:10014376-1803290400-1803294000@ringwoodknoxparish.org.au
SUMMARY:Bible Study with Pastor Peter
DESCRIPTION:Every Monday morning in The Good Shepherd Retirement Village Residents Center from 10am to 11am. Pastor will look at the coming Sunday’s Bible readings or any topic you would like discussed. \nJoin him for morning tea and discussion of whatever is on people’s hearts and minds. \nAll welcome. \nFor more information please contact the church office.
URL:https://ringwoodknoxparish.org.au/event/mornings-with-pastor-peter-2/2027-02-22/
CATEGORIES:Bible Study,Fellowship,Good Shephered Retirement Village,Morning Tea,Parish,Ringwood
END:VEVENT
BEGIN:VEVENT
DTSTART;TZID=Australia/Melbourne:20270301T100000
DTEND;TZID=Australia/Melbourne:20270301T110000
DTSTAMP:20260423T194328
CREATED:20250604T082704Z
LAST-MODIFIED:20250604T082821Z
UID:10014377-1803895200-1803898800@ringwoodknoxparish.org.au
SUMMARY:Bible Study with Pastor Peter
DESCRIPTION:Every Monday morning in The Good Shepherd Retirement Village Residents Center from 10am to 11am. Pastor will look at the coming Sunday’s Bible readings or any topic you would like discussed. \nJoin him for morning tea and discussion of whatever is on people’s hearts and minds. \nAll welcome. \nFor more information please contact the church office.
URL:https://ringwoodknoxparish.org.au/event/mornings-with-pastor-peter-2/2027-03-01/
CATEGORIES:Bible Study,Fellowship,Good Shephered Retirement Village,Morning Tea,Parish,Ringwood
END:VEVENT
BEGIN:VEVENT
DTSTART;TZID=Australia/Melbourne:20270308T100000
DTEND;TZID=Australia/Melbourne:20270308T110000
DTSTAMP:20260423T194328
CREATED:20250604T082704Z
LAST-MODIFIED:20250604T082821Z
UID:10014378-1804500000-1804503600@ringwoodknoxparish.org.au
SUMMARY:Bible Study with Pastor Peter
DESCRIPTION:Every Monday morning in The Good Shepherd Retirement Village Residents Center from 10am to 11am. Pastor will look at the coming Sunday’s Bible readings or any topic you would like discussed. \nJoin him for morning tea and discussion of whatever is on people’s hearts and minds. \nAll welcome. \nFor more information please contact the church office.
URL:https://ringwoodknoxparish.org.au/event/mornings-with-pastor-peter-2/2027-03-08/
CATEGORIES:Bible Study,Fellowship,Good Shephered Retirement Village,Morning Tea,Parish,Ringwood
END:VEVENT
BEGIN:VEVENT
DTSTART;TZID=Australia/Melbourne:20270315T100000
DTEND;TZID=Australia/Melbourne:20270315T110000
DTSTAMP:20260423T194328
CREATED:20250604T082704Z
LAST-MODIFIED:20250604T082821Z
UID:10014379-1805104800-1805108400@ringwoodknoxparish.org.au
SUMMARY:Bible Study with Pastor Peter
DESCRIPTION:Every Monday morning in The Good Shepherd Retirement Village Residents Center from 10am to 11am. Pastor will look at the coming Sunday’s Bible readings or any topic you would like discussed. \nJoin him for morning tea and discussion of whatever is on people’s hearts and minds. \nAll welcome. \nFor more information please contact the church office.
URL:https://ringwoodknoxparish.org.au/event/mornings-with-pastor-peter-2/2027-03-15/
CATEGORIES:Bible Study,Fellowship,Good Shephered Retirement Village,Morning Tea,Parish,Ringwood
END:VEVENT
BEGIN:VEVENT
DTSTART;TZID=Australia/Melbourne:20270322T100000
DTEND;TZID=Australia/Melbourne:20270322T110000
DTSTAMP:20260423T194328
CREATED:20250604T082704Z
LAST-MODIFIED:20250604T082821Z
UID:10014380-1805709600-1805713200@ringwoodknoxparish.org.au
SUMMARY:Bible Study with Pastor Peter
DESCRIPTION:Every Monday morning in The Good Shepherd Retirement Village Residents Center from 10am to 11am. Pastor will look at the coming Sunday’s Bible readings or any topic you would like discussed. \nJoin him for morning tea and discussion of whatever is on people’s hearts and minds. \nAll welcome. \nFor more information please contact the church office.
URL:https://ringwoodknoxparish.org.au/event/mornings-with-pastor-peter-2/2027-03-22/
CATEGORIES:Bible Study,Fellowship,Good Shephered Retirement Village,Morning Tea,Parish,Ringwood
END:VEVENT
BEGIN:VEVENT
DTSTART;TZID=Australia/Melbourne:20270329T100000
DTEND;TZID=Australia/Melbourne:20270329T110000
DTSTAMP:20260423T194328
CREATED:20250604T082704Z
LAST-MODIFIED:20250604T082821Z
UID:10014381-1806314400-1806318000@ringwoodknoxparish.org.au
SUMMARY:Bible Study with Pastor Peter
DESCRIPTION:Every Monday morning in The Good Shepherd Retirement Village Residents Center from 10am to 11am. Pastor will look at the coming Sunday’s Bible readings or any topic you would like discussed. \nJoin him for morning tea and discussion of whatever is on people’s hearts and minds. \nAll welcome. \nFor more information please contact the church office.
URL:https://ringwoodknoxparish.org.au/event/mornings-with-pastor-peter-2/2027-03-29/
CATEGORIES:Bible Study,Fellowship,Good Shephered Retirement Village,Morning Tea,Parish,Ringwood
END:VEVENT
BEGIN:VEVENT
DTSTART;TZID=Australia/Melbourne:20270405T100000
DTEND;TZID=Australia/Melbourne:20270405T110000
DTSTAMP:20260423T194328
CREATED:20250604T082704Z
LAST-MODIFIED:20250604T082821Z
UID:10014382-1806919200-1806922800@ringwoodknoxparish.org.au
SUMMARY:Bible Study with Pastor Peter
DESCRIPTION:Every Monday morning in The Good Shepherd Retirement Village Residents Center from 10am to 11am. Pastor will look at the coming Sunday’s Bible readings or any topic you would like discussed. \nJoin him for morning tea and discussion of whatever is on people’s hearts and minds. \nAll welcome. \nFor more information please contact the church office.
URL:https://ringwoodknoxparish.org.au/event/mornings-with-pastor-peter-2/2027-04-05/
CATEGORIES:Bible Study,Fellowship,Good Shephered Retirement Village,Morning Tea,Parish,Ringwood
END:VEVENT
BEGIN:VEVENT
DTSTART;TZID=Australia/Melbourne:20270412T100000
DTEND;TZID=Australia/Melbourne:20270412T110000
DTSTAMP:20260423T194328
CREATED:20250604T082704Z
LAST-MODIFIED:20250604T082821Z
UID:10014383-1807524000-1807527600@ringwoodknoxparish.org.au
SUMMARY:Bible Study with Pastor Peter
DESCRIPTION:Every Monday morning in The Good Shepherd Retirement Village Residents Center from 10am to 11am. Pastor will look at the coming Sunday’s Bible readings or any topic you would like discussed. \nJoin him for morning tea and discussion of whatever is on people’s hearts and minds. \nAll welcome. \nFor more information please contact the church office.
URL:https://ringwoodknoxparish.org.au/event/mornings-with-pastor-peter-2/2027-04-12/
CATEGORIES:Bible Study,Fellowship,Good Shephered Retirement Village,Morning Tea,Parish,Ringwood
END:VEVENT
BEGIN:VEVENT
DTSTART;TZID=Australia/Melbourne:20270419T100000
DTEND;TZID=Australia/Melbourne:20270419T110000
DTSTAMP:20260423T194328
CREATED:20250604T082704Z
LAST-MODIFIED:20250604T082821Z
UID:10014384-1808128800-1808132400@ringwoodknoxparish.org.au
SUMMARY:Bible Study with Pastor Peter
DESCRIPTION:Every Monday morning in The Good Shepherd Retirement Village Residents Center from 10am to 11am. Pastor will look at the coming Sunday’s Bible readings or any topic you would like discussed. \nJoin him for morning tea and discussion of whatever is on people’s hearts and minds. \nAll welcome. \nFor more information please contact the church office.
URL:https://ringwoodknoxparish.org.au/event/mornings-with-pastor-peter-2/2027-04-19/
CATEGORIES:Bible Study,Fellowship,Good Shephered Retirement Village,Morning Tea,Parish,Ringwood
END:VEVENT
BEGIN:VEVENT
DTSTART;TZID=Australia/Melbourne:20270426T100000
DTEND;TZID=Australia/Melbourne:20270426T110000
DTSTAMP:20260423T194328
CREATED:20250604T082704Z
LAST-MODIFIED:20250604T082821Z
UID:10014385-1808733600-1808737200@ringwoodknoxparish.org.au
SUMMARY:Bible Study with Pastor Peter
DESCRIPTION:Every Monday morning in The Good Shepherd Retirement Village Residents Center from 10am to 11am. Pastor will look at the coming Sunday’s Bible readings or any topic you would like discussed. \nJoin him for morning tea and discussion of whatever is on people’s hearts and minds. \nAll welcome. \nFor more information please contact the church office.
URL:https://ringwoodknoxparish.org.au/event/mornings-with-pastor-peter-2/2027-04-26/
CATEGORIES:Bible Study,Fellowship,Good Shephered Retirement Village,Morning Tea,Parish,Ringwood
END:VEVENT
BEGIN:VEVENT
DTSTART;TZID=Australia/Melbourne:20270503T100000
DTEND;TZID=Australia/Melbourne:20270503T110000
DTSTAMP:20260423T194328
CREATED:20250604T082704Z
LAST-MODIFIED:20250604T082821Z
UID:10014386-1809338400-1809342000@ringwoodknoxparish.org.au
SUMMARY:Bible Study with Pastor Peter
DESCRIPTION:Every Monday morning in The Good Shepherd Retirement Village Residents Center from 10am to 11am. Pastor will look at the coming Sunday’s Bible readings or any topic you would like discussed. \nJoin him for morning tea and discussion of whatever is on people’s hearts and minds. \nAll welcome. \nFor more information please contact the church office.
URL:https://ringwoodknoxparish.org.au/event/mornings-with-pastor-peter-2/2027-05-03/
CATEGORIES:Bible Study,Fellowship,Good Shephered Retirement Village,Morning Tea,Parish,Ringwood
END:VEVENT
BEGIN:VEVENT
DTSTART;TZID=Australia/Melbourne:20270510T100000
DTEND;TZID=Australia/Melbourne:20270510T110000
DTSTAMP:20260423T194328
CREATED:20250604T082704Z
LAST-MODIFIED:20250604T082821Z
UID:10014387-1809943200-1809946800@ringwoodknoxparish.org.au
SUMMARY:Bible Study with Pastor Peter
DESCRIPTION:Every Monday morning in The Good Shepherd Retirement Village Residents Center from 10am to 11am. Pastor will look at the coming Sunday’s Bible readings or any topic you would like discussed. \nJoin him for morning tea and discussion of whatever is on people’s hearts and minds. \nAll welcome. \nFor more information please contact the church office.
URL:https://ringwoodknoxparish.org.au/event/mornings-with-pastor-peter-2/2027-05-10/
CATEGORIES:Bible Study,Fellowship,Good Shephered Retirement Village,Morning Tea,Parish,Ringwood
END:VEVENT
BEGIN:VEVENT
DTSTART;TZID=Australia/Melbourne:20270517T100000
DTEND;TZID=Australia/Melbourne:20270517T110000
DTSTAMP:20260423T194328
CREATED:20250604T082704Z
LAST-MODIFIED:20250604T082821Z
UID:10014388-1810548000-1810551600@ringwoodknoxparish.org.au
SUMMARY:Bible Study with Pastor Peter
DESCRIPTION:Every Monday morning in The Good Shepherd Retirement Village Residents Center from 10am to 11am. Pastor will look at the coming Sunday’s Bible readings or any topic you would like discussed. \nJoin him for morning tea and discussion of whatever is on people’s hearts and minds. \nAll welcome. \nFor more information please contact the church office.
URL:https://ringwoodknoxparish.org.au/event/mornings-with-pastor-peter-2/2027-05-17/
CATEGORIES:Bible Study,Fellowship,Good Shephered Retirement Village,Morning Tea,Parish,Ringwood
END:VEVENT
BEGIN:VEVENT
DTSTART;TZID=Australia/Melbourne:20270524T100000
DTEND;TZID=Australia/Melbourne:20270524T110000
DTSTAMP:20260423T194328
CREATED:20250604T082704Z
LAST-MODIFIED:20250604T082821Z
UID:10014389-1811152800-1811156400@ringwoodknoxparish.org.au
SUMMARY:Bible Study with Pastor Peter
DESCRIPTION:Every Monday morning in The Good Shepherd Retirement Village Residents Center from 10am to 11am. Pastor will look at the coming Sunday’s Bible readings or any topic you would like discussed. \nJoin him for morning tea and discussion of whatever is on people’s hearts and minds. \nAll welcome. \nFor more information please contact the church office.
URL:https://ringwoodknoxparish.org.au/event/mornings-with-pastor-peter-2/2027-05-24/
CATEGORIES:Bible Study,Fellowship,Good Shephered Retirement Village,Morning Tea,Parish,Ringwood
END:VEVENT
BEGIN:VEVENT
DTSTART;TZID=Australia/Melbourne:20270531T100000
DTEND;TZID=Australia/Melbourne:20270531T110000
DTSTAMP:20260423T194328
CREATED:20250604T082704Z
LAST-MODIFIED:20250604T082821Z
UID:10014390-1811757600-1811761200@ringwoodknoxparish.org.au
SUMMARY:Bible Study with Pastor Peter
DESCRIPTION:Every Monday morning in The Good Shepherd Retirement Village Residents Center from 10am to 11am. Pastor will look at the coming Sunday’s Bible readings or any topic you would like discussed. \nJoin him for morning tea and discussion of whatever is on people’s hearts and minds. \nAll welcome. \nFor more information please contact the church office.
URL:https://ringwoodknoxparish.org.au/event/mornings-with-pastor-peter-2/2027-05-31/
CATEGORIES:Bible Study,Fellowship,Good Shephered Retirement Village,Morning Tea,Parish,Ringwood
END:VEVENT
END:VCALENDAR