BEGIN:VCALENDAR
VERSION:2.0
PRODID:-//Ringwood Knox Parish - ECPv6.8.1//NONSGML v1.0//EN
CALSCALE:GREGORIAN
METHOD:PUBLISH
X-WR-CALNAME:Ringwood Knox Parish
X-ORIGINAL-URL:https://ringwoodknoxparish.org.au
X-WR-CALDESC:Events for Ringwood Knox Parish
REFRESH-INTERVAL;VALUE=DURATION:PT1H
X-Robots-Tag:noindex
X-PUBLISHED-TTL:PT1H
BEGIN:VTIMEZONE
TZID:Australia/Melbourne
BEGIN:STANDARD
TZOFFSETFROM:+1100
TZOFFSETTO:+1000
TZNAME:AEST
DTSTART:20260404T160000
END:STANDARD
BEGIN:DAYLIGHT
TZOFFSETFROM:+1000
TZOFFSETTO:+1100
TZNAME:AEDT
DTSTART:20261003T160000
END:DAYLIGHT
END:VTIMEZONE
BEGIN:VEVENT
DTSTART;TZID=Australia/Melbourne:20260308T090000
DTEND;TZID=Australia/Melbourne:20260308T100000
DTSTAMP:20260422T120802
CREATED:20230520T025214Z
LAST-MODIFIED:20250604T082009Z
UID:10013619-1772960400-1772964000@ringwoodknoxparish.org.au
SUMMARY:Worship at Ringwood
DESCRIPTION:Please join us each Sunday morning at 9am as we gather for worship. Services follow the themes of the church year\, providing a regular pattern of subjects for meditation & celebration. There is a Children’s Address as part of each worship service. Worship reinforces our bond with God\, strengthens our bonds with each other\, & inspires us to go out into the world to serve God by caring for each other & for His creation.\nWe encourage all ages to be involved in worship\, plenty of singing\, & visual art for meditation.
URL:https://ringwoodknoxparish.org.au/event/worship-at-ringwood/2026-03-08/
LOCATION:Good Shepherd Lutheran Church Ringwood\, 57 Wantirna Road\, Ringwood\, Victoria\, 3134\, Australia
CATEGORIES:Parish,Ringwood,Worship
GEO:-37.8221308;145.2276502
X-APPLE-STRUCTURED-LOCATION;VALUE=URI;X-ADDRESS=Good Shepherd Lutheran Church Ringwood 57 Wantirna Road Ringwood Victoria 3134 Australia;X-APPLE-RADIUS=500;X-TITLE=57 Wantirna Road:geo:145.2276502,-37.8221308
END:VEVENT
BEGIN:VEVENT
DTSTART;TZID=Australia/Melbourne:20260308T090000
DTEND;TZID=Australia/Melbourne:20260308T100000
DTSTAMP:20260422T120802
CREATED:20230520T025214Z
LAST-MODIFIED:20260131T145832Z
UID:10015107-1772960400-1772964000@ringwoodknoxparish.org.au
SUMMARY:Worship at Ringwood
DESCRIPTION:Please join us each Sunday morning at 9am as we gather for worship. Services follow the themes of the church year\, providing a regular pattern of subjects for meditation & celebration. There is a Children’s Address as part of each worship service. Worship reinforces our bond with God\, strengthens our bonds with each other\, & inspires us to go out into the world to serve God by caring for each other & for His creation.\nWe encourage all ages to be involved in worship\, plenty of singing\, & visual art for meditation.
URL:https://ringwoodknoxparish.org.au/event/worship-at-ringwood/2026-03-08/
LOCATION:Good Shepherd Lutheran Church Ringwood\, 57 Wantirna Road\, Ringwood\, Victoria\, 3134\, Australia
CATEGORIES:Parish,Ringwood,Worship
GEO:-37.8221308;145.2276502
X-APPLE-STRUCTURED-LOCATION;VALUE=URI;X-ADDRESS=Good Shepherd Lutheran Church Ringwood 57 Wantirna Road Ringwood Victoria 3134 Australia;X-APPLE-RADIUS=500;X-TITLE=57 Wantirna Road:geo:145.2276502,-37.8221308
END:VEVENT
BEGIN:VEVENT
DTSTART;TZID=Australia/Melbourne:20260308T090000
DTEND;TZID=Australia/Melbourne:20260308T100000
DTSTAMP:20260422T120802
CREATED:20230520T025214Z
LAST-MODIFIED:20260131T145833Z
UID:10015892-1772960400-1772964000@ringwoodknoxparish.org.au
SUMMARY:Worship at Ringwood
DESCRIPTION:Please join us each Sunday morning at 9am as we gather for worship. Services follow the themes of the church year\, providing a regular pattern of subjects for meditation & celebration. There is a Children’s Address as part of each worship service. Worship reinforces our bond with God\, strengthens our bonds with each other\, & inspires us to go out into the world to serve God by caring for each other & for His creation.\nWe encourage all ages to be involved in worship\, plenty of singing\, & visual art for meditation.
URL:https://ringwoodknoxparish.org.au/event/worship-at-ringwood/2026-03-08/
LOCATION:Good Shepherd Lutheran Church Ringwood\, 57 Wantirna Road\, Ringwood\, Victoria\, 3134\, Australia
CATEGORIES:Parish,Ringwood,Worship
GEO:-37.8221308;145.2276502
X-APPLE-STRUCTURED-LOCATION;VALUE=URI;X-ADDRESS=Good Shepherd Lutheran Church Ringwood 57 Wantirna Road Ringwood Victoria 3134 Australia;X-APPLE-RADIUS=500;X-TITLE=57 Wantirna Road:geo:145.2276502,-37.8221308
END:VEVENT
BEGIN:VEVENT
DTSTART;TZID=Australia/Melbourne:20260308T090000
DTEND;TZID=Australia/Melbourne:20260308T100000
DTSTAMP:20260422T120802
CREATED:20230520T025214Z
LAST-MODIFIED:20260131T145832Z
UID:10014793-1772960400-1772964000@ringwoodknoxparish.org.au
SUMMARY:Worship at Ringwood
DESCRIPTION:Please join us each Sunday morning at 9am as we gather for worship. Services follow the themes of the church year\, providing a regular pattern of subjects for meditation & celebration. There is a Children’s Address as part of each worship service. Worship reinforces our bond with God\, strengthens our bonds with each other\, & inspires us to go out into the world to serve God by caring for each other & for His creation.\nWe encourage all ages to be involved in worship\, plenty of singing\, & visual art for meditation.
URL:https://ringwoodknoxparish.org.au/event/worship-at-ringwood/2026-03-08/
LOCATION:Good Shepherd Lutheran Church Ringwood\, 57 Wantirna Road\, Ringwood\, Victoria\, 3134\, Australia
CATEGORIES:Parish,Ringwood,Worship
GEO:-37.8221308;145.2276502
X-APPLE-STRUCTURED-LOCATION;VALUE=URI;X-ADDRESS=Good Shepherd Lutheran Church Ringwood 57 Wantirna Road Ringwood Victoria 3134 Australia;X-APPLE-RADIUS=500;X-TITLE=57 Wantirna Road:geo:145.2276502,-37.8221308
END:VEVENT
BEGIN:VEVENT
DTSTART;TZID=Australia/Melbourne:20260308T090000
DTEND;TZID=Australia/Melbourne:20260308T100000
DTSTAMP:20260422T120802
CREATED:20230520T025214Z
LAST-MODIFIED:20260131T145833Z
UID:10015578-1772960400-1772964000@ringwoodknoxparish.org.au
SUMMARY:Worship at Ringwood
DESCRIPTION:Please join us each Sunday morning at 9am as we gather for worship. Services follow the themes of the church year\, providing a regular pattern of subjects for meditation & celebration. There is a Children’s Address as part of each worship service. Worship reinforces our bond with God\, strengthens our bonds with each other\, & inspires us to go out into the world to serve God by caring for each other & for His creation.\nWe encourage all ages to be involved in worship\, plenty of singing\, & visual art for meditation.
URL:https://ringwoodknoxparish.org.au/event/worship-at-ringwood/2026-03-08/
LOCATION:Good Shepherd Lutheran Church Ringwood\, 57 Wantirna Road\, Ringwood\, Victoria\, 3134\, Australia
CATEGORIES:Parish,Ringwood,Worship
GEO:-37.8221308;145.2276502
X-APPLE-STRUCTURED-LOCATION;VALUE=URI;X-ADDRESS=Good Shepherd Lutheran Church Ringwood 57 Wantirna Road Ringwood Victoria 3134 Australia;X-APPLE-RADIUS=500;X-TITLE=57 Wantirna Road:geo:145.2276502,-37.8221308
END:VEVENT
BEGIN:VEVENT
DTSTART;TZID=Australia/Melbourne:20260308T090000
DTEND;TZID=Australia/Melbourne:20260308T100000
DTSTAMP:20260422T120802
CREATED:20230520T025214Z
LAST-MODIFIED:20260131T145832Z
UID:10015264-1772960400-1772964000@ringwoodknoxparish.org.au
SUMMARY:Worship at Ringwood
DESCRIPTION:Please join us each Sunday morning at 9am as we gather for worship. Services follow the themes of the church year\, providing a regular pattern of subjects for meditation & celebration. There is a Children’s Address as part of each worship service. Worship reinforces our bond with God\, strengthens our bonds with each other\, & inspires us to go out into the world to serve God by caring for each other & for His creation.\nWe encourage all ages to be involved in worship\, plenty of singing\, & visual art for meditation.
URL:https://ringwoodknoxparish.org.au/event/worship-at-ringwood/2026-03-08/
LOCATION:Good Shepherd Lutheran Church Ringwood\, 57 Wantirna Road\, Ringwood\, Victoria\, 3134\, Australia
CATEGORIES:Parish,Ringwood,Worship
GEO:-37.8221308;145.2276502
X-APPLE-STRUCTURED-LOCATION;VALUE=URI;X-ADDRESS=Good Shepherd Lutheran Church Ringwood 57 Wantirna Road Ringwood Victoria 3134 Australia;X-APPLE-RADIUS=500;X-TITLE=57 Wantirna Road:geo:145.2276502,-37.8221308
END:VEVENT
BEGIN:VEVENT
DTSTART;TZID=Australia/Melbourne:20260308T090000
DTEND;TZID=Australia/Melbourne:20260308T100000
DTSTAMP:20260422T120802
CREATED:20230520T025214Z
LAST-MODIFIED:20260131T145833Z
UID:10016049-1772960400-1772964000@ringwoodknoxparish.org.au
SUMMARY:Worship at Ringwood
DESCRIPTION:Please join us each Sunday morning at 9am as we gather for worship. Services follow the themes of the church year\, providing a regular pattern of subjects for meditation & celebration. There is a Children’s Address as part of each worship service. Worship reinforces our bond with God\, strengthens our bonds with each other\, & inspires us to go out into the world to serve God by caring for each other & for His creation.\nWe encourage all ages to be involved in worship\, plenty of singing\, & visual art for meditation.
URL:https://ringwoodknoxparish.org.au/event/worship-at-ringwood/2026-03-08/
LOCATION:Good Shepherd Lutheran Church Ringwood\, 57 Wantirna Road\, Ringwood\, Victoria\, 3134\, Australia
CATEGORIES:Parish,Ringwood,Worship
GEO:-37.8221308;145.2276502
X-APPLE-STRUCTURED-LOCATION;VALUE=URI;X-ADDRESS=Good Shepherd Lutheran Church Ringwood 57 Wantirna Road Ringwood Victoria 3134 Australia;X-APPLE-RADIUS=500;X-TITLE=57 Wantirna Road:geo:145.2276502,-37.8221308
END:VEVENT
BEGIN:VEVENT
DTSTART;TZID=Australia/Melbourne:20260308T090000
DTEND;TZID=Australia/Melbourne:20260308T100000
DTSTAMP:20260422T120802
CREATED:20230520T025214Z
LAST-MODIFIED:20260131T145832Z
UID:10014950-1772960400-1772964000@ringwoodknoxparish.org.au
SUMMARY:Worship at Ringwood
DESCRIPTION:Please join us each Sunday morning at 9am as we gather for worship. Services follow the themes of the church year\, providing a regular pattern of subjects for meditation & celebration. There is a Children’s Address as part of each worship service. Worship reinforces our bond with God\, strengthens our bonds with each other\, & inspires us to go out into the world to serve God by caring for each other & for His creation.\nWe encourage all ages to be involved in worship\, plenty of singing\, & visual art for meditation.
URL:https://ringwoodknoxparish.org.au/event/worship-at-ringwood/2026-03-08/
LOCATION:Good Shepherd Lutheran Church Ringwood\, 57 Wantirna Road\, Ringwood\, Victoria\, 3134\, Australia
CATEGORIES:Parish,Ringwood,Worship
GEO:-37.8221308;145.2276502
X-APPLE-STRUCTURED-LOCATION;VALUE=URI;X-ADDRESS=Good Shepherd Lutheran Church Ringwood 57 Wantirna Road Ringwood Victoria 3134 Australia;X-APPLE-RADIUS=500;X-TITLE=57 Wantirna Road:geo:145.2276502,-37.8221308
END:VEVENT
BEGIN:VEVENT
DTSTART;TZID=Australia/Melbourne:20260308T090000
DTEND;TZID=Australia/Melbourne:20260308T100000
DTSTAMP:20260422T120802
CREATED:20230520T025214Z
LAST-MODIFIED:20260131T145833Z
UID:10015735-1772960400-1772964000@ringwoodknoxparish.org.au
SUMMARY:Worship at Ringwood
DESCRIPTION:Please join us each Sunday morning at 9am as we gather for worship. Services follow the themes of the church year\, providing a regular pattern of subjects for meditation & celebration. There is a Children’s Address as part of each worship service. Worship reinforces our bond with God\, strengthens our bonds with each other\, & inspires us to go out into the world to serve God by caring for each other & for His creation.\nWe encourage all ages to be involved in worship\, plenty of singing\, & visual art for meditation.
URL:https://ringwoodknoxparish.org.au/event/worship-at-ringwood/2026-03-08/
LOCATION:Good Shepherd Lutheran Church Ringwood\, 57 Wantirna Road\, Ringwood\, Victoria\, 3134\, Australia
CATEGORIES:Parish,Ringwood,Worship
GEO:-37.8221308;145.2276502
X-APPLE-STRUCTURED-LOCATION;VALUE=URI;X-ADDRESS=Good Shepherd Lutheran Church Ringwood 57 Wantirna Road Ringwood Victoria 3134 Australia;X-APPLE-RADIUS=500;X-TITLE=57 Wantirna Road:geo:145.2276502,-37.8221308
END:VEVENT
BEGIN:VEVENT
DTSTART;TZID=Australia/Melbourne:20260308T090000
DTEND;TZID=Australia/Melbourne:20260308T100000
DTSTAMP:20260422T120802
CREATED:20230520T025214Z
LAST-MODIFIED:20260131T145832Z
UID:10014636-1772960400-1772964000@ringwoodknoxparish.org.au
SUMMARY:Worship at Ringwood
DESCRIPTION:Please join us each Sunday morning at 9am as we gather for worship. Services follow the themes of the church year\, providing a regular pattern of subjects for meditation & celebration. There is a Children’s Address as part of each worship service. Worship reinforces our bond with God\, strengthens our bonds with each other\, & inspires us to go out into the world to serve God by caring for each other & for His creation.\nWe encourage all ages to be involved in worship\, plenty of singing\, & visual art for meditation.
URL:https://ringwoodknoxparish.org.au/event/worship-at-ringwood/2026-03-08/
LOCATION:Good Shepherd Lutheran Church Ringwood\, 57 Wantirna Road\, Ringwood\, Victoria\, 3134\, Australia
CATEGORIES:Parish,Ringwood,Worship
GEO:-37.8221308;145.2276502
X-APPLE-STRUCTURED-LOCATION;VALUE=URI;X-ADDRESS=Good Shepherd Lutheran Church Ringwood 57 Wantirna Road Ringwood Victoria 3134 Australia;X-APPLE-RADIUS=500;X-TITLE=57 Wantirna Road:geo:145.2276502,-37.8221308
END:VEVENT
BEGIN:VEVENT
DTSTART;TZID=Australia/Melbourne:20260308T090000
DTEND;TZID=Australia/Melbourne:20260308T100000
DTSTAMP:20260422T120802
CREATED:20230520T025214Z
LAST-MODIFIED:20260131T145832Z
UID:10015421-1772960400-1772964000@ringwoodknoxparish.org.au
SUMMARY:Worship at Ringwood
DESCRIPTION:Please join us each Sunday morning at 9am as we gather for worship. Services follow the themes of the church year\, providing a regular pattern of subjects for meditation & celebration. There is a Children’s Address as part of each worship service. Worship reinforces our bond with God\, strengthens our bonds with each other\, & inspires us to go out into the world to serve God by caring for each other & for His creation.\nWe encourage all ages to be involved in worship\, plenty of singing\, & visual art for meditation.
URL:https://ringwoodknoxparish.org.au/event/worship-at-ringwood/2026-03-08/
LOCATION:Good Shepherd Lutheran Church Ringwood\, 57 Wantirna Road\, Ringwood\, Victoria\, 3134\, Australia
CATEGORIES:Parish,Ringwood,Worship
GEO:-37.8221308;145.2276502
X-APPLE-STRUCTURED-LOCATION;VALUE=URI;X-ADDRESS=Good Shepherd Lutheran Church Ringwood 57 Wantirna Road Ringwood Victoria 3134 Australia;X-APPLE-RADIUS=500;X-TITLE=57 Wantirna Road:geo:145.2276502,-37.8221308
END:VEVENT
BEGIN:VEVENT
DTSTART;TZID=Australia/Melbourne:20260308T110000
DTEND;TZID=Australia/Melbourne:20260308T120000
DTSTAMP:20260422T120802
CREATED:20250604T081308Z
LAST-MODIFIED:20250604T081308Z
UID:10013879-1772967600-1772971200@ringwoodknoxparish.org.au
SUMMARY:Worship at Knox
DESCRIPTION:Please join us for Sundays at 11am as we gather for worship. Services follow the themes of the church year\, providing a regular pattern of subjects for meditation & celebration. There is a Children’s Address as part of each worship service. Worship reinforces our bond with God\, strengthens our bonds with each other\, & inspires us to go out into the world to serve God by caring for each other & for His creation.\nWe encourage all ages to be involved in worship\, plenty of singing\, & visual art for meditation.
URL:https://ringwoodknoxparish.org.au/event/worship-at-knox-2/2026-03-08/
CATEGORIES:Knox,Parish
END:VEVENT
END:VCALENDAR